BEGIN:VCALENDAR
VERSION:2.0
PRODID:-//Plymouth County Family Support Inc. - ECPv6.15.20//NONSGML v1.0//EN
CALSCALE:GREGORIAN
METHOD:PUBLISH
X-ORIGINAL-URL:https://pcfamilysupport.org
X-WR-CALDESC:Events for Plymouth County Family Support Inc.
REFRESH-INTERVAL;VALUE=DURATION:PT1H
X-Robots-Tag:noindex
X-PUBLISHED-TTL:PT1H
BEGIN:VTIMEZONE
TZID:America/New_York
BEGIN:DAYLIGHT
TZOFFSETFROM:-0500
TZOFFSETTO:-0400
TZNAME:EDT
DTSTART:20240310T070000
END:DAYLIGHT
BEGIN:STANDARD
TZOFFSETFROM:-0400
TZOFFSETTO:-0500
TZNAME:EST
DTSTART:20241103T060000
END:STANDARD
BEGIN:DAYLIGHT
TZOFFSETFROM:-0500
TZOFFSETTO:-0400
TZNAME:EDT
DTSTART:20250309T070000
END:DAYLIGHT
BEGIN:STANDARD
TZOFFSETFROM:-0400
TZOFFSETTO:-0500
TZNAME:EST
DTSTART:20251102T060000
END:STANDARD
BEGIN:DAYLIGHT
TZOFFSETFROM:-0500
TZOFFSETTO:-0400
TZNAME:EDT
DTSTART:20260308T070000
END:DAYLIGHT
BEGIN:STANDARD
TZOFFSETFROM:-0400
TZOFFSETTO:-0500
TZNAME:EST
DTSTART:20261101T060000
END:STANDARD
END:VTIMEZONE
BEGIN:VEVENT
DTSTART;TZID=America/New_York:20250408T103000
DTEND;TZID=America/New_York:20250408T113000
DTSTAMP:20260419T093748
CREATED:20250205T184350Z
LAST-MODIFIED:20250205T184350Z
UID:1864-1744108200-1744111800@pcfamilysupport.org
SUMMARY:Sing Explore Create
DESCRIPTION:
URL:https://pcfamilysupport.org/event/sing-explore-create-29/
LOCATION:33 Rockland St Hanover 02339\, 33 Rockland St\, Hanover\, 02339\, United States
CATEGORIES:Music/Creative Arts/Wellness
ATTACH;FMTTYPE=image/jpeg:https://pcfamilysupport.org/wp-content/uploads/2025/02/SEC-Adult-Music-Class-Feb-June-2025-scaled.jpg
ORGANIZER;CN="Plymouth County Family Support Inc":MAILTO:events@pcfamilysupport.org
END:VEVENT
BEGIN:VEVENT
DTSTART;TZID=America/New_York:20250408T090000
DTEND;TZID=America/New_York:20250408T100000
DTSTAMP:20260419T093748
CREATED:20250205T181514Z
LAST-MODIFIED:20250205T181514Z
UID:1842-1744102800-1744106400@pcfamilysupport.org
SUMMARY:Introduction to Pickleball
DESCRIPTION:
URL:https://pcfamilysupport.org/event/introduction-to-pickleball-12/
LOCATION:37 PROPRIETORS DRIVE\, MARSHFIELD MA  02050\, 37 PROPRIETORS DRIVE\, Marshfield\, MA\, 02050\, United States
CATEGORIES:pickleball
ATTACH;FMTTYPE=image/jpeg:https://pcfamilysupport.org/wp-content/uploads/2025/02/Intro-to-Pickleball-Jan-April-18-scaled.jpg
ORGANIZER;CN="Plymouth County Family Support Inc":MAILTO:events@pcfamilysupport.org
END:VEVENT
BEGIN:VEVENT
DTSTART;TZID=America/New_York:20250407T170000
DTEND;TZID=America/New_York:20250407T183000
DTSTAMP:20260419T093748
CREATED:20250327T185007Z
LAST-MODIFIED:20250327T185007Z
UID:2025-1744045200-1744050600@pcfamilysupport.org
SUMMARY:Game Night
DESCRIPTION:
URL:https://pcfamilysupport.org/event/game-night-5/
LOCATION:132 South St\, Plymouth\, MA 02360\, 132 South Street\, Plymouth\, MA\, 02360\, United States
CATEGORIES:Game Night
ATTACH;FMTTYPE=image/jpeg:https://pcfamilysupport.org/wp-content/uploads/2025/03/Game-Night-Monday-April-7th-18-scaled.jpg
ORGANIZER;CN="Plymouth County Family Support Inc":MAILTO:events@pcfamilysupport.org
END:VEVENT
BEGIN:VEVENT
DTSTART;TZID=America/New_York:20250407T170000
DTEND;TZID=America/New_York:20250407T183000
DTSTAMP:20260419T093748
CREATED:20250228T164542Z
LAST-MODIFIED:20250228T164542Z
UID:1940-1744045200-1744050600@pcfamilysupport.org
SUMMARY:Transition Informational Sessions PM
DESCRIPTION:
URL:https://pcfamilysupport.org/event/transition-informational-sessions-pm/
LOCATION:118 Long Pond Rd. Suite 205 Plymouth\, MA 02360\, 118 Long Pond Road\, Plymouth\, 02360\, United States
CATEGORIES:Informational Session
ATTACH;FMTTYPE=image/jpeg:https://pcfamilysupport.org/wp-content/uploads/2025/02/Transition-series-2025-March-April-scaled.jpg
ORGANIZER;CN="Plymouth County Family Support Inc":MAILTO:events@pcfamilysupport.org
END:VEVENT
BEGIN:VEVENT
DTSTART;TZID=America/New_York:20250407T100000
DTEND;TZID=America/New_York:20250407T113000
DTSTAMP:20260419T093748
CREATED:20250228T164441Z
LAST-MODIFIED:20250228T164441Z
UID:1938-1744020000-1744025400@pcfamilysupport.org
SUMMARY:Transition Informational Sessions AM
DESCRIPTION:
URL:https://pcfamilysupport.org/event/transition-informational-sessions-am-6/
LOCATION:118 Long Pond Rd. Suite 205 Plymouth\, MA 02360\, 118 Long Pond Road\, Plymouth\, 02360\, United States
CATEGORIES:Informational Session
ATTACH;FMTTYPE=image/jpeg:https://pcfamilysupport.org/wp-content/uploads/2025/02/Transition-series-2025-March-April-scaled.jpg
ORGANIZER;CN="Plymouth County Family Support Inc":MAILTO:events@pcfamilysupport.org
END:VEVENT
BEGIN:VEVENT
DTSTART;TZID=America/New_York:20250405T144500
DTEND;TZID=America/New_York:20250405T153000
DTSTAMP:20260419T093749
CREATED:20250303T194633Z
LAST-MODIFIED:20250303T194633Z
UID:1970-1743864300-1743867000@pcfamilysupport.org
SUMMARY:We Can Dance!
DESCRIPTION:
URL:https://pcfamilysupport.org/event/we-can-dance-12/
LOCATION:116 Long Pond Rd # 16\, Plymouth\, MA 02360\, 116 Long Pond Road #16\, Plymouth\, MA\, 02360\, United States
CATEGORIES:Dance
ATTACH;FMTTYPE=image/jpeg:https://pcfamilysupport.org/wp-content/uploads/2025/03/We-Can-Dance-March-April-2025-Ages-7-scaled.jpg
ORGANIZER;CN="Plymouth County Family Support Inc":MAILTO:events@pcfamilysupport.org
END:VEVENT
BEGIN:VEVENT
DTSTART;TZID=America/New_York:20250402T110000
DTEND;TZID=America/New_York:20250402T120000
DTSTAMP:20260419T093749
CREATED:20250304T181146Z
LAST-MODIFIED:20250304T181146Z
UID:1977-1743591600-1743595200@pcfamilysupport.org
SUMMARY:Arts & Rec
DESCRIPTION:
URL:https://pcfamilysupport.org/event/arts-rec-2/
LOCATION:155 Webster St\, Hanover 02339\, 155 Webster St\, Hanover\, 02339\, United States
CATEGORIES:art class
ATTACH;FMTTYPE=image/jpeg:https://pcfamilysupport.org/wp-content/uploads/2025/03/Arts-Rec-Adult-March-May-scaled.jpg
ORGANIZER;CN="Plymouth County Family Support Inc":MAILTO:events@pcfamilysupport.org
END:VEVENT
BEGIN:VEVENT
DTSTART;TZID=America/New_York:20250401T103000
DTEND;TZID=America/New_York:20250401T113000
DTSTAMP:20260419T093749
CREATED:20250205T184226Z
LAST-MODIFIED:20250205T184226Z
UID:1862-1743503400-1743507000@pcfamilysupport.org
SUMMARY:Sing Explore Create
DESCRIPTION:
URL:https://pcfamilysupport.org/event/sing-explore-create-28/
LOCATION:33 Rockland St Hanover 02339\, 33 Rockland St\, Hanover\, 02339\, United States
CATEGORIES:Music/Creative Arts/Wellness
ATTACH;FMTTYPE=image/jpeg:https://pcfamilysupport.org/wp-content/uploads/2025/02/SEC-Adult-Music-Class-Feb-June-2025-scaled.jpg
ORGANIZER;CN="Plymouth County Family Support Inc":MAILTO:events@pcfamilysupport.org
END:VEVENT
BEGIN:VEVENT
DTSTART;TZID=America/New_York:20250401T090000
DTEND;TZID=America/New_York:20250401T100000
DTSTAMP:20260419T093749
CREATED:20250205T181418Z
LAST-MODIFIED:20250205T181418Z
UID:1840-1743498000-1743501600@pcfamilysupport.org
SUMMARY:Introduction to Pickleball
DESCRIPTION:
URL:https://pcfamilysupport.org/event/introduction-to-pickleball-11/
LOCATION:37 PROPRIETORS DRIVE\, MARSHFIELD MA  02050\, 37 PROPRIETORS DRIVE\, Marshfield\, MA\, 02050\, United States
CATEGORIES:pickleball
ATTACH;FMTTYPE=image/jpeg:https://pcfamilysupport.org/wp-content/uploads/2025/02/Intro-to-Pickleball-Jan-April-18-scaled.jpg
ORGANIZER;CN="Plymouth County Family Support Inc":MAILTO:events@pcfamilysupport.org
END:VEVENT
BEGIN:VEVENT
DTSTART;TZID=America/New_York:20250331T170000
DTEND;TZID=America/New_York:20250331T183000
DTSTAMP:20260419T093749
CREATED:20250228T164626Z
LAST-MODIFIED:20250228T164626Z
UID:1942-1743440400-1743445800@pcfamilysupport.org
SUMMARY:Transition Informational Sessions PM
DESCRIPTION:
URL:https://pcfamilysupport.org/event/transition-informational-sessions-pm-2/
LOCATION:118 Long Pond Rd. Suite 205 Plymouth\, MA 02360\, 118 Long Pond Road\, Plymouth\, 02360\, United States
CATEGORIES:Informational Session
ATTACH;FMTTYPE=image/jpeg:https://pcfamilysupport.org/wp-content/uploads/2025/02/Transition-series-2025-March-April-scaled.jpg
ORGANIZER;CN="Plymouth County Family Support Inc":MAILTO:events@pcfamilysupport.org
END:VEVENT
BEGIN:VEVENT
DTSTART;TZID=America/New_York:20250331T100000
DTEND;TZID=America/New_York:20250331T113000
DTSTAMP:20260419T093749
CREATED:20250228T164358Z
LAST-MODIFIED:20250228T164358Z
UID:1936-1743415200-1743420600@pcfamilysupport.org
SUMMARY:Transition Informational Sessions AM
DESCRIPTION:
URL:https://pcfamilysupport.org/event/transition-informational-sessions-am-5/
LOCATION:118 Long Pond Rd. Suite 205 Plymouth\, MA 02360\, 118 Long Pond Road\, Plymouth\, 02360\, United States
CATEGORIES:Informational Session
ATTACH;FMTTYPE=image/jpeg:https://pcfamilysupport.org/wp-content/uploads/2025/02/Transition-series-2025-March-April-scaled.jpg
ORGANIZER;CN="Plymouth County Family Support Inc":MAILTO:events@pcfamilysupport.org
END:VEVENT
BEGIN:VEVENT
DTSTART;TZID=America/New_York:20250330T103000
DTEND;TZID=America/New_York:20250330T180000
DTSTAMP:20260419T093749
CREATED:20250312T182453Z
LAST-MODIFIED:20250312T182453Z
UID:2001-1743330600-1743357600@pcfamilysupport.org
SUMMARY:World Figure Skating Championships
DESCRIPTION:
URL:https://pcfamilysupport.org/event/world-figure-skating-championships/
LOCATION:10 Shops at 5 Way Plymouth MA 02360\, 10 Shops At 5 Way\, Plymouth\, MA\, 02360\, United States
CATEGORIES:Trip
ATTACH;FMTTYPE=image/jpeg:https://pcfamilysupport.org/wp-content/uploads/2025/03/Figure-Skating-Championships-Sunday-March-30th-18-scaled.jpg
ORGANIZER;CN="Plymouth County Family Support Inc":MAILTO:events@pcfamilysupport.org
END:VEVENT
BEGIN:VEVENT
DTSTART;TZID=America/New_York:20250329T144500
DTEND;TZID=America/New_York:20250329T153000
DTSTAMP:20260419T093749
CREATED:20250303T194550Z
LAST-MODIFIED:20250303T194550Z
UID:1968-1743259500-1743262200@pcfamilysupport.org
SUMMARY:We Can Dance!
DESCRIPTION:
URL:https://pcfamilysupport.org/event/we-can-dance-11/
LOCATION:116 Long Pond Rd # 16\, Plymouth\, MA 02360\, 116 Long Pond Road #16\, Plymouth\, MA\, 02360\, United States
CATEGORIES:Dance
ATTACH;FMTTYPE=image/jpeg:https://pcfamilysupport.org/wp-content/uploads/2025/03/We-Can-Dance-March-April-2025-Ages-7-scaled.jpg
ORGANIZER;CN="Plymouth County Family Support Inc":MAILTO:events@pcfamilysupport.org
END:VEVENT
BEGIN:VEVENT
DTSTART;TZID=America/New_York:20250327T160000
DTEND;TZID=America/New_York:20250327T223000
DTSTAMP:20260419T093749
CREATED:20250228T165522Z
LAST-MODIFIED:20250228T165522Z
UID:1956-1743091200-1743114600@pcfamilysupport.org
SUMMARY:Blue Man Group
DESCRIPTION:
URL:https://pcfamilysupport.org/event/blue-man-group-3/
LOCATION:118 Long Pond Rd. Suite 205 Plymouth\, MA 02360\, 118 Long Pond Road\, Plymouth\, 02360\, United States
CATEGORIES:Trip
ATTACH;FMTTYPE=image/png:https://pcfamilysupport.org/wp-content/uploads/2025/02/Blue-Man-Group-March-13th-27th-18.png
ORGANIZER;CN="Plymouth County Family Support Inc":MAILTO:events@pcfamilysupport.org
END:VEVENT
BEGIN:VEVENT
DTSTART;TZID=America/New_York:20250326T163000
DTEND;TZID=America/New_York:20250326T190000
DTSTAMP:20260419T093749
CREATED:20250317T134417Z
LAST-MODIFIED:20250317T134417Z
UID:2004-1743006600-1743015600@pcfamilysupport.org
SUMMARY:ASD Game Night - Mysterium
DESCRIPTION:
URL:https://pcfamilysupport.org/event/asd-game-night-mysterium/
LOCATION:118 Long Pond Rd. Suite 205 Plymouth\, MA 02360\, 118 Long Pond Road\, Plymouth\, 02360\, United States
CATEGORIES:Game Night
ATTACH;FMTTYPE=image/jpeg:https://pcfamilysupport.org/wp-content/uploads/2025/03/Mysterium-1-scaled.jpg
ORGANIZER;CN="Plymouth County Family Support Inc":MAILTO:events@pcfamilysupport.org
END:VEVENT
BEGIN:VEVENT
DTSTART;TZID=America/New_York:20250326T110000
DTEND;TZID=America/New_York:20250326T120000
DTSTAMP:20260419T093749
CREATED:20250304T180832Z
LAST-MODIFIED:20250304T180832Z
UID:1974-1742986800-1742990400@pcfamilysupport.org
SUMMARY:Arts & Rec
DESCRIPTION:
URL:https://pcfamilysupport.org/event/arts-rec/
LOCATION:155 Webster St\, Hanover 02339\, 155 Webster St\, Hanover\, 02339\, United States
CATEGORIES:art class
ATTACH;FMTTYPE=image/jpeg:https://pcfamilysupport.org/wp-content/uploads/2025/03/Arts-Rec-Adult-March-May-scaled.jpg
ORGANIZER;CN="Plymouth County Family Support Inc":MAILTO:events@pcfamilysupport.org
END:VEVENT
BEGIN:VEVENT
DTSTART;TZID=America/New_York:20250325T103000
DTEND;TZID=America/New_York:20250325T113000
DTSTAMP:20260419T093749
CREATED:20250205T184115Z
LAST-MODIFIED:20250205T184115Z
UID:1860-1742898600-1742902200@pcfamilysupport.org
SUMMARY:Sing Explore Create
DESCRIPTION:
URL:https://pcfamilysupport.org/event/sing-explore-create-27/
LOCATION:33 Rockland St Hanover 02339\, 33 Rockland St\, Hanover\, 02339\, United States
CATEGORIES:Music/Creative Arts/Wellness
ATTACH;FMTTYPE=image/jpeg:https://pcfamilysupport.org/wp-content/uploads/2025/02/SEC-Adult-Music-Class-Feb-June-2025-scaled.jpg
ORGANIZER;CN="Plymouth County Family Support Inc":MAILTO:events@pcfamilysupport.org
END:VEVENT
BEGIN:VEVENT
DTSTART;TZID=America/New_York:20250325T090000
DTEND;TZID=America/New_York:20250325T100000
DTSTAMP:20260419T093749
CREATED:20250205T181322Z
LAST-MODIFIED:20250205T181322Z
UID:1836-1742893200-1742896800@pcfamilysupport.org
SUMMARY:Introduction to Pickleball
DESCRIPTION:
URL:https://pcfamilysupport.org/event/introduction-to-pickleball-10/
LOCATION:37 PROPRIETORS DRIVE\, MARSHFIELD MA  02050\, 37 PROPRIETORS DRIVE\, Marshfield\, MA\, 02050\, United States
CATEGORIES:pickleball
ATTACH;FMTTYPE=image/jpeg:https://pcfamilysupport.org/wp-content/uploads/2025/02/Intro-to-Pickleball-Jan-April-18-scaled.jpg
ORGANIZER;CN="Plymouth County Family Support Inc":MAILTO:events@pcfamilysupport.org
END:VEVENT
BEGIN:VEVENT
DTSTART;TZID=America/New_York:20250324T170000
DTEND;TZID=America/New_York:20250324T183000
DTSTAMP:20260419T093749
CREATED:20250228T164706Z
LAST-MODIFIED:20250228T164706Z
UID:1944-1742835600-1742841000@pcfamilysupport.org
SUMMARY:Transition Informational Sessions PM
DESCRIPTION:
URL:https://pcfamilysupport.org/event/transition-informational-sessions-pm-3/
LOCATION:118 Long Pond Rd. Suite 205 Plymouth\, MA 02360\, 118 Long Pond Road\, Plymouth\, 02360\, United States
CATEGORIES:Informational Session
ATTACH;FMTTYPE=image/jpeg:https://pcfamilysupport.org/wp-content/uploads/2025/02/Transition-series-2025-March-April-scaled.jpg
ORGANIZER;CN="Plymouth County Family Support Inc":MAILTO:events@pcfamilysupport.org
END:VEVENT
BEGIN:VEVENT
DTSTART;TZID=America/New_York:20250324T160000
DTEND;TZID=America/New_York:20250324T164500
DTSTAMP:20260419T093749
CREATED:20250113T194137Z
LAST-MODIFIED:20250113T194137Z
UID:1769-1742832000-1742834700@pcfamilysupport.org
SUMMARY:Children's Art Class
DESCRIPTION:
URL:https://pcfamilysupport.org/event/childrens-art-class-19/
LOCATION:155 Webster St\, Hanover 02339\, 155 Webster St\, Hanover\, 02339\, United States
CATEGORIES:art class
ATTACH;FMTTYPE=image/jpeg:https://pcfamilysupport.org/wp-content/uploads/2025/01/Arts-Rec-Children-Jan-March-scaled.jpg
ORGANIZER;CN="Plymouth County Family Support Inc":MAILTO:events@pcfamilysupport.org
END:VEVENT
BEGIN:VEVENT
DTSTART;TZID=America/New_York:20250324T150000
DTEND;TZID=America/New_York:20250324T154500
DTSTAMP:20260419T093749
CREATED:20250116T144424Z
LAST-MODIFIED:20250116T144424Z
UID:1804-1742828400-1742831100@pcfamilysupport.org
SUMMARY:Gotta Dance Class
DESCRIPTION:
URL:https://pcfamilysupport.org/event/gotta-dance-class-9/
LOCATION:160 N. Main Street\, Carver\, MA 02330\, 160 N Main Street\, Carver\, MA\, 02330\, United States
CATEGORIES:Dance
ATTACH;FMTTYPE=image/jpeg:https://pcfamilysupport.org/wp-content/uploads/2025/01/Gotta-Dance-LLDS-Flyer-Winter-2025-scaled.jpg
ORGANIZER;CN="Plymouth County Family Support Inc":MAILTO:events@pcfamilysupport.org
END:VEVENT
BEGIN:VEVENT
DTSTART;TZID=America/New_York:20250324T100000
DTEND;TZID=America/New_York:20250324T113000
DTSTAMP:20260419T093749
CREATED:20250228T164311Z
LAST-MODIFIED:20250228T164311Z
UID:1934-1742810400-1742815800@pcfamilysupport.org
SUMMARY:Transition Informational Sessions AM
DESCRIPTION:
URL:https://pcfamilysupport.org/event/transition-informational-sessions-am-4/
LOCATION:118 Long Pond Rd. Suite 205 Plymouth\, MA 02360\, 118 Long Pond Road\, Plymouth\, 02360\, United States
CATEGORIES:Informational Session
ATTACH;FMTTYPE=image/jpeg:https://pcfamilysupport.org/wp-content/uploads/2025/02/Transition-series-2025-March-April-scaled.jpg
ORGANIZER;CN="Plymouth County Family Support Inc":MAILTO:events@pcfamilysupport.org
END:VEVENT
BEGIN:VEVENT
DTSTART;TZID=America/New_York:20250322T144500
DTEND;TZID=America/New_York:20250322T153000
DTSTAMP:20260419T093749
CREATED:20250303T194506Z
LAST-MODIFIED:20250303T194506Z
UID:1966-1742654700-1742657400@pcfamilysupport.org
SUMMARY:We Can Dance!
DESCRIPTION:
URL:https://pcfamilysupport.org/event/we-can-dance-10/
LOCATION:116 Long Pond Rd # 16\, Plymouth\, MA 02360\, 116 Long Pond Road #16\, Plymouth\, MA\, 02360\, United States
CATEGORIES:Dance
ATTACH;FMTTYPE=image/jpeg:https://pcfamilysupport.org/wp-content/uploads/2025/03/We-Can-Dance-March-April-2025-Ages-7-scaled.jpg
ORGANIZER;CN="Plymouth County Family Support Inc":MAILTO:events@pcfamilysupport.org
END:VEVENT
BEGIN:VEVENT
DTSTART;TZID=America/New_York:20250320T180000
DTEND;TZID=America/New_York:20250320T200000
DTSTAMP:20260419T093749
CREATED:20250228T165215Z
LAST-MODIFIED:20250228T165215Z
UID:1952-1742493600-1742500800@pcfamilysupport.org
SUMMARY:ST. PATRICK’S DAY DANCE
DESCRIPTION:
URL:https://pcfamilysupport.org/event/st-patricks-day-dance/
LOCATION:424 Long Pond Rd. Plymouth\, MA 02360\, 424 Long Pond Rd.\, Plymouth\, MA\, 02360\, United States
CATEGORIES:Dance
ATTACH;FMTTYPE=image/png:https://pcfamilysupport.org/wp-content/uploads/2025/02/St.-Patricks-Day-Dance-Thursday-March-20th-2025.png
ORGANIZER;CN="Plymouth County Family Support Inc":MAILTO:events@pcfamilysupport.org
END:VEVENT
BEGIN:VEVENT
DTSTART;TZID=America/New_York:20250319T163000
DTEND;TZID=America/New_York:20250319T190000
DTSTAMP:20260419T093749
CREATED:20250306T180425Z
LAST-MODIFIED:20250306T180425Z
UID:1998-1742401800-1742410800@pcfamilysupport.org
SUMMARY:ASD Movie Night
DESCRIPTION:
URL:https://pcfamilysupport.org/event/asd-movie-night/
LOCATION:118 Long Pond Rd. Suite 205 Plymouth\, MA 02360\, 118 Long Pond Road\, Plymouth\, 02360\, United States
CATEGORIES:Movie Night
ATTACH;FMTTYPE=image/jpeg:https://pcfamilysupport.org/wp-content/uploads/2025/03/Men-in-Tights-scaled.jpg
ORGANIZER;CN="Plymouth County Family Support Inc":MAILTO:events@pcfamilysupport.org
END:VEVENT
BEGIN:VEVENT
DTSTART;TZID=America/New_York:20250319T110000
DTEND;TZID=America/New_York:20250402T120000
DTSTAMP:20260419T093749
CREATED:20250113T195615Z
LAST-MODIFIED:20250113T195615Z
UID:1785-1742382000-1743595200@pcfamilysupport.org
SUMMARY:Adult Art Class
DESCRIPTION:
URL:https://pcfamilysupport.org/event/adult-art-class-15/
LOCATION:155 Webster St\, Hanover 02339\, 155 Webster St\, Hanover\, 02339\, United States
CATEGORIES:art class
ATTACH;FMTTYPE=image/jpeg:https://pcfamilysupport.org/wp-content/uploads/2025/01/Arts-Rec-Adult-Jan-March-scaled.jpg
ORGANIZER;CN="Plymouth County Family Support Inc":MAILTO:events@pcfamilysupport.org
END:VEVENT
BEGIN:VEVENT
DTSTART;TZID=America/New_York:20250318T103000
DTEND;TZID=America/New_York:20250318T113000
DTSTAMP:20260419T093749
CREATED:20250205T184017Z
LAST-MODIFIED:20250205T184017Z
UID:1858-1742293800-1742297400@pcfamilysupport.org
SUMMARY:Sing Explore Create
DESCRIPTION:
URL:https://pcfamilysupport.org/event/sing-explore-create-26/
LOCATION:33 Rockland St Hanover 02339\, 33 Rockland St\, Hanover\, 02339\, United States
CATEGORIES:Music/Creative Arts/Wellness
ATTACH;FMTTYPE=image/jpeg:https://pcfamilysupport.org/wp-content/uploads/2025/02/SEC-Adult-Music-Class-Feb-June-2025-scaled.jpg
ORGANIZER;CN="Plymouth County Family Support Inc":MAILTO:events@pcfamilysupport.org
END:VEVENT
BEGIN:VEVENT
DTSTART;TZID=America/New_York:20250318T090000
DTEND;TZID=America/New_York:20250318T100000
DTSTAMP:20260419T093749
CREATED:20250205T181240Z
LAST-MODIFIED:20250205T181240Z
UID:1837-1742288400-1742292000@pcfamilysupport.org
SUMMARY:Introduction to Pickleball
DESCRIPTION:
URL:https://pcfamilysupport.org/event/introduction-to-pickleball-9/
LOCATION:37 PROPRIETORS DRIVE\, MARSHFIELD MA  02050\, 37 PROPRIETORS DRIVE\, Marshfield\, MA\, 02050\, United States
CATEGORIES:pickleball
ATTACH;FMTTYPE=image/jpeg:https://pcfamilysupport.org/wp-content/uploads/2025/02/Intro-to-Pickleball-Jan-April-18-scaled.jpg
ORGANIZER;CN="Plymouth County Family Support Inc":MAILTO:events@pcfamilysupport.org
END:VEVENT
BEGIN:VEVENT
DTSTART;TZID=America/New_York:20250317T170000
DTEND;TZID=America/New_York:20250317T183000
DTSTAMP:20260419T093749
CREATED:20250228T164750Z
LAST-MODIFIED:20250228T164750Z
UID:1946-1742230800-1742236200@pcfamilysupport.org
SUMMARY:Transition Informational Sessions PM
DESCRIPTION:
URL:https://pcfamilysupport.org/event/transition-informational-sessions-pm-4/
LOCATION:118 Long Pond Rd. Suite 205 Plymouth\, MA 02360\, 118 Long Pond Road\, Plymouth\, 02360\, United States
CATEGORIES:Informational Session
ATTACH;FMTTYPE=image/jpeg:https://pcfamilysupport.org/wp-content/uploads/2025/02/Transition-series-2025-March-April-scaled.jpg
ORGANIZER;CN="Plymouth County Family Support Inc":MAILTO:events@pcfamilysupport.org
END:VEVENT
BEGIN:VEVENT
DTSTART;TZID=America/New_York:20250317T160000
DTEND;TZID=America/New_York:20250317T164500
DTSTAMP:20260419T093749
CREATED:20250113T194101Z
LAST-MODIFIED:20250113T194101Z
UID:1767-1742227200-1742229900@pcfamilysupport.org
SUMMARY:Children's Art Class
DESCRIPTION:
URL:https://pcfamilysupport.org/event/childrens-art-class-18/
LOCATION:155 Webster St\, Hanover 02339\, 155 Webster St\, Hanover\, 02339\, United States
CATEGORIES:art class
ATTACH;FMTTYPE=image/jpeg:https://pcfamilysupport.org/wp-content/uploads/2025/01/Arts-Rec-Children-Jan-March-scaled.jpg
ORGANIZER;CN="Plymouth County Family Support Inc":MAILTO:events@pcfamilysupport.org
END:VEVENT
END:VCALENDAR