BEGIN:VCALENDAR
VERSION:2.0
PRODID:-//Plymouth County Family Support Inc. - ECPv6.15.20//NONSGML v1.0//EN
CALSCALE:GREGORIAN
METHOD:PUBLISH
X-ORIGINAL-URL:https://pcfamilysupport.org
X-WR-CALDESC:Events for Plymouth County Family Support Inc.
REFRESH-INTERVAL;VALUE=DURATION:PT1H
X-Robots-Tag:noindex
X-PUBLISHED-TTL:PT1H
BEGIN:VTIMEZONE
TZID:America/New_York
BEGIN:DAYLIGHT
TZOFFSETFROM:-0500
TZOFFSETTO:-0400
TZNAME:EDT
DTSTART:20240310T070000
END:DAYLIGHT
BEGIN:STANDARD
TZOFFSETFROM:-0400
TZOFFSETTO:-0500
TZNAME:EST
DTSTART:20241103T060000
END:STANDARD
BEGIN:DAYLIGHT
TZOFFSETFROM:-0500
TZOFFSETTO:-0400
TZNAME:EDT
DTSTART:20250309T070000
END:DAYLIGHT
BEGIN:STANDARD
TZOFFSETFROM:-0400
TZOFFSETTO:-0500
TZNAME:EST
DTSTART:20251102T060000
END:STANDARD
BEGIN:DAYLIGHT
TZOFFSETFROM:-0500
TZOFFSETTO:-0400
TZNAME:EDT
DTSTART:20260308T070000
END:DAYLIGHT
BEGIN:STANDARD
TZOFFSETFROM:-0400
TZOFFSETTO:-0500
TZNAME:EST
DTSTART:20261101T060000
END:STANDARD
END:VTIMEZONE
BEGIN:VEVENT
DTSTART;TZID=America/New_York:20250310T160000
DTEND;TZID=America/New_York:20250310T164500
DTSTAMP:20260419T163538
CREATED:20250113T194016Z
LAST-MODIFIED:20250113T194016Z
UID:1765-1741622400-1741625100@pcfamilysupport.org
SUMMARY:Children's Art Class
DESCRIPTION:
URL:https://pcfamilysupport.org/event/childrens-art-class-17/
LOCATION:155 Webster St\, Hanover 02339\, 155 Webster St\, Hanover\, 02339\, United States
CATEGORIES:art class
ATTACH;FMTTYPE=image/jpeg:https://pcfamilysupport.org/wp-content/uploads/2025/01/Arts-Rec-Children-Jan-March-scaled.jpg
ORGANIZER;CN="Plymouth County Family Support Inc":MAILTO:events@pcfamilysupport.org
END:VEVENT
BEGIN:VEVENT
DTSTART;TZID=America/New_York:20250310T150000
DTEND;TZID=America/New_York:20250310T154500
DTSTAMP:20260419T163538
CREATED:20250116T143654Z
LAST-MODIFIED:20250116T143654Z
UID:1800-1741618800-1741621500@pcfamilysupport.org
SUMMARY:Gotta Dance Class
DESCRIPTION:
URL:https://pcfamilysupport.org/event/gotta-dance-class-7/
LOCATION:160 N. Main Street\, Carver\, MA 02330\, 160 N Main Street\, Carver\, MA\, 02330\, United States
CATEGORIES:Dance
ATTACH;FMTTYPE=image/jpeg:https://pcfamilysupport.org/wp-content/uploads/2025/01/Gotta-Dance-LLDS-Flyer-Winter-2025-scaled.jpg
ORGANIZER;CN="Plymouth County Family Support Inc":MAILTO:events@pcfamilysupport.org
END:VEVENT
BEGIN:VEVENT
DTSTART;TZID=America/New_York:20250310T100000
DTEND;TZID=America/New_York:20250310T113000
DTSTAMP:20260419T163538
CREATED:20250228T164036Z
LAST-MODIFIED:20250228T164036Z
UID:1930-1741600800-1741606200@pcfamilysupport.org
SUMMARY:Transition Informational Sessions AM
DESCRIPTION:
URL:https://pcfamilysupport.org/event/transition-informational-sessions-am-2/
LOCATION:118 Long Pond Rd. Suite 205 Plymouth\, MA 02360\, 118 Long Pond Road\, Plymouth\, 02360\, United States
CATEGORIES:Informational Session
ATTACH;FMTTYPE=image/jpeg:https://pcfamilysupport.org/wp-content/uploads/2025/02/Transition-series-2025-March-April-scaled.jpg
ORGANIZER;CN="Plymouth County Family Support Inc":MAILTO:events@pcfamilysupport.org
END:VEVENT
BEGIN:VEVENT
DTSTART;TZID=America/New_York:20250309T100000
DTEND;TZID=America/New_York:20250309T170000
DTSTAMP:20260419T163538
CREATED:20250306T180241Z
LAST-MODIFIED:20250306T180241Z
UID:1996-1741514400-1741539600@pcfamilysupport.org
SUMMARY:Putt Shack & Museum of Illusions
DESCRIPTION:
URL:https://pcfamilysupport.org/event/putt-shack-museum-of-illusions/
LOCATION:118 Long Pond Rd. Suite 205 Plymouth\, MA 02360\, 118 Long Pond Road\, Plymouth\, 02360\, United States
CATEGORIES:Trip
ATTACH;FMTTYPE=image/jpeg:https://pcfamilysupport.org/wp-content/uploads/2025/03/Puttshack-Museum-of-Illusions-Sunday-March-9th-DESE-1-scaled.jpg
ORGANIZER;CN="Plymouth County Family Support Inc":MAILTO:events@pcfamilysupport.org
END:VEVENT
BEGIN:VEVENT
DTSTART;TZID=America/New_York:20250308T144500
DTEND;TZID=America/New_York:20250308T153000
DTSTAMP:20260419T163538
CREATED:20250303T194245Z
LAST-MODIFIED:20250303T194245Z
UID:1960-1741445100-1741447800@pcfamilysupport.org
SUMMARY:We Can Dance!
DESCRIPTION:
URL:https://pcfamilysupport.org/event/we-can-dance-8/
LOCATION:116 Long Pond Rd # 16\, Plymouth\, MA 02360\, 116 Long Pond Road #16\, Plymouth\, MA\, 02360\, United States
CATEGORIES:Dance
ATTACH;FMTTYPE=image/jpeg:https://pcfamilysupport.org/wp-content/uploads/2025/03/We-Can-Dance-March-April-2025-Ages-7-scaled.jpg
ORGANIZER;CN="Plymouth County Family Support Inc":MAILTO:events@pcfamilysupport.org
END:VEVENT
BEGIN:VEVENT
DTSTART;TZID=America/New_York:20250305T110000
DTEND;TZID=America/New_York:20250305T120000
DTSTAMP:20260419T163538
CREATED:20250113T195449Z
LAST-MODIFIED:20250113T195449Z
UID:1781-1741172400-1741176000@pcfamilysupport.org
SUMMARY:Adult Art Class
DESCRIPTION:
URL:https://pcfamilysupport.org/event/adult-art-class-13/
LOCATION:155 Webster St\, Hanover 02339\, 155 Webster St\, Hanover\, 02339\, United States
CATEGORIES:art class
ATTACH;FMTTYPE=image/jpeg:https://pcfamilysupport.org/wp-content/uploads/2025/01/Arts-Rec-Adult-Jan-March-scaled.jpg
ORGANIZER;CN="Plymouth County Family Support Inc":MAILTO:events@pcfamilysupport.org
END:VEVENT
BEGIN:VEVENT
DTSTART;TZID=America/New_York:20250304T103000
DTEND;TZID=America/New_York:20250304T113000
DTSTAMP:20260419T163538
CREATED:20250205T183809Z
LAST-MODIFIED:20250205T183809Z
UID:1853-1741084200-1741087800@pcfamilysupport.org
SUMMARY:Sing Explore Create
DESCRIPTION:
URL:https://pcfamilysupport.org/event/sing-explore-create-24/
LOCATION:33 Rockland St Hanover 02339\, 33 Rockland St\, Hanover\, 02339\, United States
CATEGORIES:Music/Creative Arts/Wellness
ATTACH;FMTTYPE=image/jpeg:https://pcfamilysupport.org/wp-content/uploads/2025/02/SEC-Adult-Music-Class-Feb-June-2025-scaled.jpg
ORGANIZER;CN="Plymouth County Family Support Inc":MAILTO:events@pcfamilysupport.org
END:VEVENT
BEGIN:VEVENT
DTSTART;TZID=America/New_York:20250304T090000
DTEND;TZID=America/New_York:20250304T100000
DTSTAMP:20260419T163538
CREATED:20250205T181045Z
LAST-MODIFIED:20250205T181045Z
UID:1832-1741078800-1741082400@pcfamilysupport.org
SUMMARY:Introduction to Pickleball
DESCRIPTION:
URL:https://pcfamilysupport.org/event/introduction-to-pickleball-7/
LOCATION:37 PROPRIETORS DRIVE\, MARSHFIELD MA  02050\, 37 PROPRIETORS DRIVE\, Marshfield\, MA\, 02050\, United States
CATEGORIES:pickleball
ATTACH;FMTTYPE=image/jpeg:https://pcfamilysupport.org/wp-content/uploads/2025/02/Intro-to-Pickleball-Jan-April-18-scaled.jpg
ORGANIZER;CN="Plymouth County Family Support Inc":MAILTO:events@pcfamilysupport.org
END:VEVENT
BEGIN:VEVENT
DTSTART;TZID=America/New_York:20250303T170000
DTEND;TZID=America/New_York:20250303T183000
DTSTAMP:20260419T163538
CREATED:20250228T164948Z
LAST-MODIFIED:20250228T164948Z
UID:1950-1741021200-1741026600@pcfamilysupport.org
SUMMARY:Transition Informational Sessions PM
DESCRIPTION:
URL:https://pcfamilysupport.org/event/transition-informational-sessions-pm-6/
LOCATION:118 Long Pond Rd. Suite 205 Plymouth\, MA 02360\, 118 Long Pond Road\, Plymouth\, 02360\, United States
CATEGORIES:Informational Session
ATTACH;FMTTYPE=image/jpeg:https://pcfamilysupport.org/wp-content/uploads/2025/02/Transition-series-2025-March-April-scaled.jpg
ORGANIZER;CN="Plymouth County Family Support Inc":MAILTO:events@pcfamilysupport.org
END:VEVENT
BEGIN:VEVENT
DTSTART;TZID=America/New_York:20250303T170000
DTEND;TZID=America/New_York:20250303T183000
DTSTAMP:20260419T163538
CREATED:20250228T162643Z
LAST-MODIFIED:20250228T162643Z
UID:1926-1741021200-1741026600@pcfamilysupport.org
SUMMARY:Game Night
DESCRIPTION:
URL:https://pcfamilysupport.org/event/game-night-4/
LOCATION:132 South St. Plymouth\, MA  02360\, 132 South St.\, Plymouth\, MA\, 02360\, United States
CATEGORIES:Game Night
ATTACH;FMTTYPE=image/png:https://pcfamilysupport.org/wp-content/uploads/2025/02/Game-Night-Monday-March-3rd-18.png
ORGANIZER;CN="Plymouth County Family Support Inc":MAILTO:events@pcfamilysupport.org
END:VEVENT
BEGIN:VEVENT
DTSTART;TZID=America/New_York:20250303T160000
DTEND;TZID=America/New_York:20250303T164500
DTSTAMP:20260419T163538
CREATED:20250113T193940Z
LAST-MODIFIED:20250113T193940Z
UID:1763-1741017600-1741020300@pcfamilysupport.org
SUMMARY:Children's Art Class
DESCRIPTION:
URL:https://pcfamilysupport.org/event/childrens-art-class-16/
LOCATION:155 Webster St\, Hanover 02339\, 155 Webster St\, Hanover\, 02339\, United States
CATEGORIES:art class
ATTACH;FMTTYPE=image/jpeg:https://pcfamilysupport.org/wp-content/uploads/2025/01/Arts-Rec-Children-Jan-March-scaled.jpg
ORGANIZER;CN="Plymouth County Family Support Inc":MAILTO:events@pcfamilysupport.org
END:VEVENT
BEGIN:VEVENT
DTSTART;TZID=America/New_York:20250303T150000
DTEND;TZID=America/New_York:20250303T154500
DTSTAMP:20260419T163538
CREATED:20250116T143520Z
LAST-MODIFIED:20250116T143520Z
UID:1798-1741014000-1741016700@pcfamilysupport.org
SUMMARY:Gotta Dance Class
DESCRIPTION:
URL:https://pcfamilysupport.org/event/gotta-dance-class-6/
LOCATION:160 N. Main Street\, Carver\, MA 02330\, 160 N Main Street\, Carver\, MA\, 02330\, United States
CATEGORIES:Dance
ATTACH;FMTTYPE=image/jpeg:https://pcfamilysupport.org/wp-content/uploads/2025/01/Gotta-Dance-LLDS-Flyer-Winter-2025-scaled.jpg
ORGANIZER;CN="Plymouth County Family Support Inc":MAILTO:events@pcfamilysupport.org
END:VEVENT
BEGIN:VEVENT
DTSTART;TZID=America/New_York:20250303T100000
DTEND;TZID=America/New_York:20250303T113000
DTSTAMP:20260419T163538
CREATED:20250228T163845Z
LAST-MODIFIED:20250228T163845Z
UID:1928-1740996000-1741001400@pcfamilysupport.org
SUMMARY:Transition Informational Sessions AM
DESCRIPTION:
URL:https://pcfamilysupport.org/event/transition-informational-sessions-am/
LOCATION:118 Long Pond Rd. Suite 205 Plymouth\, MA 02360\, 118 Long Pond Road\, Plymouth\, 02360\, United States
CATEGORIES:Informational Session
ATTACH;FMTTYPE=image/jpeg:https://pcfamilysupport.org/wp-content/uploads/2025/02/Transition-series-2025-March-April-scaled.jpg
ORGANIZER;CN="Plymouth County Family Support Inc":MAILTO:events@pcfamilysupport.org
END:VEVENT
BEGIN:VEVENT
DTSTART;TZID=America/New_York:20250302T120000
DTEND;TZID=America/New_York:20250302T203000
DTSTAMP:20260419T163538
CREATED:20250228T162404Z
LAST-MODIFIED:20250228T162404Z
UID:1924-1740916800-1740947400@pcfamilysupport.org
SUMMARY:Providence Bruins: Teddy Bear Toss!
DESCRIPTION:
URL:https://pcfamilysupport.org/event/providence-bruins-teddy-bear-toss/
LOCATION:20 Shops at 5 Way Plymouth\, MA 02360\, 20 Shops at 5 Way\, Plymouth\, MA\, 02360\, United States
CATEGORIES:Trip
ATTACH;FMTTYPE=image/png:https://pcfamilysupport.org/wp-content/uploads/2025/02/Teddy-Bear-Toss-Sunday-March-2nd-2025.png
ORGANIZER;CN="Plymouth County Family Support Inc":MAILTO:events@pcfamilysupport.org
END:VEVENT
BEGIN:VEVENT
DTSTART;TZID=America/New_York:20250226T163000
DTEND;TZID=America/New_York:20250226T193000
DTSTAMP:20260419T163538
CREATED:20250212T191737Z
LAST-MODIFIED:20250212T191737Z
UID:1909-1740587400-1740598200@pcfamilysupport.org
SUMMARY:Dead of Winter Game Night
DESCRIPTION:
URL:https://pcfamilysupport.org/event/dead-of-winter-game-night/
LOCATION:118 Long Pond Rd. Suite 205 Plymouth\, MA 02360\, 118 Long Pond Road\, Plymouth\, 02360\, United States
CATEGORIES:Game Night
ATTACH;FMTTYPE=image/png:https://pcfamilysupport.org/wp-content/uploads/2025/02/Dead-of-Winter.png
ORGANIZER;CN="Plymouth County Family Support Inc":MAILTO:events@pcfamilysupport.org
END:VEVENT
BEGIN:VEVENT
DTSTART;TZID=America/New_York:20250226T110000
DTEND;TZID=America/New_York:20250226T120000
DTSTAMP:20260419T163538
CREATED:20250113T195359Z
LAST-MODIFIED:20250113T195359Z
UID:1779-1740567600-1740571200@pcfamilysupport.org
SUMMARY:Adult Art Class
DESCRIPTION:
URL:https://pcfamilysupport.org/event/adult-art-class-12/
LOCATION:155 Webster St\, Hanover 02339\, 155 Webster St\, Hanover\, 02339\, United States
CATEGORIES:art class
ATTACH;FMTTYPE=image/jpeg:https://pcfamilysupport.org/wp-content/uploads/2025/01/Arts-Rec-Adult-Jan-March-scaled.jpg
ORGANIZER;CN="Plymouth County Family Support Inc":MAILTO:events@pcfamilysupport.org
END:VEVENT
BEGIN:VEVENT
DTSTART;TZID=America/New_York:20250225T103000
DTEND;TZID=America/New_York:20250225T113000
DTSTAMP:20260419T163538
CREATED:20250205T183706Z
LAST-MODIFIED:20250205T183706Z
UID:1852-1740479400-1740483000@pcfamilysupport.org
SUMMARY:Sing Explore Create
DESCRIPTION:
URL:https://pcfamilysupport.org/event/sing-explore-create-23/
LOCATION:33 Rockland St Hanover 02339\, 33 Rockland St\, Hanover\, 02339\, United States
CATEGORIES:Music/Creative Arts/Wellness
ATTACH;FMTTYPE=image/jpeg:https://pcfamilysupport.org/wp-content/uploads/2025/02/SEC-Adult-Music-Class-Feb-June-2025-scaled.jpg
ORGANIZER;CN="Plymouth County Family Support Inc":MAILTO:events@pcfamilysupport.org
END:VEVENT
BEGIN:VEVENT
DTSTART;TZID=America/New_York:20250225T090000
DTEND;TZID=America/New_York:20250225T100000
DTSTAMP:20260419T163538
CREATED:20250205T180948Z
LAST-MODIFIED:20250205T180948Z
UID:1830-1740474000-1740477600@pcfamilysupport.org
SUMMARY:Introduction to Pickleball
DESCRIPTION:
URL:https://pcfamilysupport.org/event/introduction-to-pickleball-6/
LOCATION:37 PROPRIETORS DRIVE\, MARSHFIELD MA  02050\, 37 PROPRIETORS DRIVE\, Marshfield\, MA\, 02050\, United States
CATEGORIES:pickleball
ATTACH;FMTTYPE=image/jpeg:https://pcfamilysupport.org/wp-content/uploads/2025/02/Intro-to-Pickleball-Jan-April-18-scaled.jpg
ORGANIZER;CN="Plymouth County Family Support Inc":MAILTO:events@pcfamilysupport.org
END:VEVENT
BEGIN:VEVENT
DTSTART;TZID=America/New_York:20250224T160000
DTEND;TZID=America/New_York:20250224T164500
DTSTAMP:20260419T163538
CREATED:20250113T193854Z
LAST-MODIFIED:20250113T193854Z
UID:1761-1740412800-1740415500@pcfamilysupport.org
SUMMARY:Children's Art Class
DESCRIPTION:
URL:https://pcfamilysupport.org/event/childrens-art-class-15/
LOCATION:155 Webster St\, Hanover 02339\, 155 Webster St\, Hanover\, 02339\, United States
CATEGORIES:art class
ATTACH;FMTTYPE=image/jpeg:https://pcfamilysupport.org/wp-content/uploads/2025/01/Arts-Rec-Children-Jan-March-scaled.jpg
ORGANIZER;CN="Plymouth County Family Support Inc":MAILTO:events@pcfamilysupport.org
END:VEVENT
BEGIN:VEVENT
DTSTART;TZID=America/New_York:20250224T150000
DTEND;TZID=America/New_York:20250224T154500
DTSTAMP:20260419T163538
CREATED:20250116T143405Z
LAST-MODIFIED:20250116T143405Z
UID:1796-1740409200-1740411900@pcfamilysupport.org
SUMMARY:Gotta Dance Class
DESCRIPTION:
URL:https://pcfamilysupport.org/event/gotta-dance-class-5/
LOCATION:160 N. Main Street\, Carver\, MA 02330\, 160 N Main Street\, Carver\, MA\, 02330\, United States
CATEGORIES:Dance
ATTACH;FMTTYPE=image/jpeg:https://pcfamilysupport.org/wp-content/uploads/2025/01/Gotta-Dance-LLDS-Flyer-Winter-2025-scaled.jpg
ORGANIZER;CN="Plymouth County Family Support Inc":MAILTO:events@pcfamilysupport.org
END:VEVENT
BEGIN:VEVENT
DTSTART;TZID=America/New_York:20250222T130000
DTEND;TZID=America/New_York:20250222T230000
DTSTAMP:20260419T163538
CREATED:20250207T195946Z
LAST-MODIFIED:20250207T195946Z
UID:1898-1740229200-1740265200@pcfamilysupport.org
SUMMARY:New Hampshire Ice Castles
DESCRIPTION:
URL:https://pcfamilysupport.org/event/new-hampshire-ice-castles/
LOCATION:118 Long Pond Rd. Suite 205 Plymouth\, MA 02360\, 118 Long Pond Road\, Plymouth\, 02360\, United States
CATEGORIES:Trip
ATTACH;FMTTYPE=image/jpeg:https://pcfamilysupport.org/wp-content/uploads/2025/02/Ice-Castles-Saturday-February-22nd-18-scaled.jpg
ORGANIZER;CN="Plymouth County Family Support Inc":MAILTO:events@pcfamilysupport.org
END:VEVENT
BEGIN:VEVENT
DTSTART;TZID=America/New_York:20250221T100000
DTEND;TZID=America/New_York:20250221T111500
DTSTAMP:20260419T163538
CREATED:20250210T195905Z
LAST-MODIFIED:20250210T195905Z
UID:1905-1740132000-1740136500@pcfamilysupport.org
SUMMARY:Pancakes & Pajamas
DESCRIPTION:
URL:https://pcfamilysupport.org/event/pancakes-pajamas/
LOCATION:19 Depot St\, Duxbury\, MA 02332\, 19 Depot St\, Duxbury\, MA\, 02332\, United States
CATEGORIES:Cooking class
ATTACH;FMTTYPE=image/jpeg:https://pcfamilysupport.org/wp-content/uploads/2025/02/Pancakes-Pajamas-Friday-February-21st-scaled.jpg
ORGANIZER;CN="Plymouth County Family Support Inc":MAILTO:events@pcfamilysupport.org
END:VEVENT
BEGIN:VEVENT
DTSTART;TZID=America/New_York:20250220T140000
DTEND;TZID=America/New_York:20250220T154000
DTSTAMP:20260419T163538
CREATED:20250210T144446Z
LAST-MODIFIED:20250210T144446Z
UID:1901-1740060000-1740066000@pcfamilysupport.org
SUMMARY:Nova Trampoline Park
DESCRIPTION:
URL:https://pcfamilysupport.org/event/nova-trampoline-park/
LOCATION:65 Shops at 5 Way Plymouth\, MA 02360\, 65 Shops at 5 Way\, Plymouth\, MA\, 02360\, United States
CATEGORIES:Trip
ATTACH;FMTTYPE=image/jpeg:https://pcfamilysupport.org/wp-content/uploads/2025/02/Nova-Trampoline-Park-Thursday-February-20-2025-17-and-under-scaled.jpg
ORGANIZER;CN="Plymouth County Family Support Inc":MAILTO:events@pcfamilysupport.org
END:VEVENT
BEGIN:VEVENT
DTSTART;TZID=America/New_York:20250219T163000
DTEND;TZID=America/New_York:20250219T183000
DTSTAMP:20260419T163538
CREATED:20250207T163935Z
LAST-MODIFIED:20250207T163935Z
UID:1895-1739982600-1739989800@pcfamilysupport.org
SUMMARY:Movie Night
DESCRIPTION:
URL:https://pcfamilysupport.org/event/movie-night/
LOCATION:118 Long Pond Rd. Suite 205 Plymouth\, MA 02360\, 118 Long Pond Road\, Plymouth\, 02360\, United States
CATEGORIES:Movie Night
ATTACH;FMTTYPE=image/jpeg:https://pcfamilysupport.org/wp-content/uploads/2025/02/Mario-Movie-scaled.jpg
ORGANIZER;CN="Plymouth County Family Support Inc":MAILTO:events@pcfamilysupport.org
END:VEVENT
BEGIN:VEVENT
DTSTART;TZID=America/New_York:20250219T110000
DTEND;TZID=America/New_York:20250219T120000
DTSTAMP:20260419T163538
CREATED:20250113T195302Z
LAST-MODIFIED:20250113T195302Z
UID:1777-1739962800-1739966400@pcfamilysupport.org
SUMMARY:Adult Art Class
DESCRIPTION:
URL:https://pcfamilysupport.org/event/adult-art-class-11/
LOCATION:155 Webster St\, Hanover 02339\, 155 Webster St\, Hanover\, 02339\, United States
CATEGORIES:art class
ATTACH;FMTTYPE=image/jpeg:https://pcfamilysupport.org/wp-content/uploads/2025/01/Arts-Rec-Adult-Jan-March-scaled.jpg
ORGANIZER;CN="Plymouth County Family Support Inc":MAILTO:events@pcfamilysupport.org
END:VEVENT
BEGIN:VEVENT
DTSTART;TZID=America/New_York:20250219T100000
DTEND;TZID=America/New_York:20250219T113000
DTSTAMP:20260419T163538
CREATED:20250205T191026Z
LAST-MODIFIED:20250205T191026Z
UID:1891-1739959200-1739964600@pcfamilysupport.org
SUMMARY:Children's Plaster Fun Time
DESCRIPTION:
URL:https://pcfamilysupport.org/event/childrens-plaster-fun-time/
LOCATION:61 Commerce Way Ste 2 Plymouth\, MA 02360\, 61 Commerce Way Ste 2\, Plymouth\, MA\, 02360\, United States
CATEGORIES:art class
ATTACH;FMTTYPE=image/jpeg:https://pcfamilysupport.org/wp-content/uploads/2025/02/Plaster-Fun-Time-Wednesday-February-19th-17-and-under.jpg
ORGANIZER;CN="Plymouth County Family Support Inc":MAILTO:events@pcfamilysupport.org
END:VEVENT
BEGIN:VEVENT
DTSTART;TZID=America/New_York:20250217T150000
DTEND;TZID=America/New_York:20250217T154500
DTSTAMP:20260419T163538
CREATED:20250116T143033Z
LAST-MODIFIED:20250116T143033Z
UID:1794-1739804400-1739807100@pcfamilysupport.org
SUMMARY:Gotta Dance Class
DESCRIPTION:
URL:https://pcfamilysupport.org/event/gotta-dance-class-4/
LOCATION:160 N. Main Street\, Carver\, MA 02330\, 160 N Main Street\, Carver\, MA\, 02330\, United States
CATEGORIES:Dance
ATTACH;FMTTYPE=image/jpeg:https://pcfamilysupport.org/wp-content/uploads/2025/01/Gotta-Dance-LLDS-Flyer-Winter-2025-scaled.jpg
ORGANIZER;CN="Plymouth County Family Support Inc":MAILTO:events@pcfamilysupport.org
END:VEVENT
BEGIN:VEVENT
DTSTART;TZID=America/New_York:20250215T144500
DTEND;TZID=America/New_York:20250215T153000
DTSTAMP:20260419T163538
CREATED:20250108T191024Z
LAST-MODIFIED:20250108T191024Z
UID:1711-1739630700-1739633400@pcfamilysupport.org
SUMMARY:We Can Dance!
DESCRIPTION:
URL:https://pcfamilysupport.org/event/we-can-dance-6/
LOCATION:116 Long Pond Rd\, Plymouth 02360\, 116 Long Pond Rd\, Plymouth\, 02360\, United States
CATEGORIES:Dance
ATTACH;FMTTYPE=image/jpeg:https://pcfamilysupport.org/wp-content/uploads/2025/01/We-Can-Dance-Jan-Feb-2025-Ages-7-scaled.jpg
ORGANIZER;CN="Plymouth County Family Support Inc":MAILTO:events@pcfamilysupport.org
END:VEVENT
BEGIN:VEVENT
DTSTART;TZID=America/New_York:20250213T180000
DTEND;TZID=America/New_York:20250213T200000
DTSTAMP:20260419T163538
CREATED:20250205T190644Z
LAST-MODIFIED:20250205T190644Z
UID:1889-1739469600-1739476800@pcfamilysupport.org
SUMMARY:Valentine's Dance
DESCRIPTION:
URL:https://pcfamilysupport.org/event/valentines-dance/
LOCATION:424 Long Pond Rd. Plymouth\, MA 02360\, 424 Long Pond Rd.\, Plymouth\, MA\, 02360\, United States
CATEGORIES:Dance
ATTACH;FMTTYPE=image/jpeg:https://pcfamilysupport.org/wp-content/uploads/2025/02/Valentines-Dance-Thursday-February-13th-18-scaled.jpg
ORGANIZER;CN="Plymouth County Family Support Inc":MAILTO:events@pcfamilysupport.org
END:VEVENT
BEGIN:VEVENT
DTSTART;TZID=America/New_York:20250212T170000
DTEND;TZID=America/New_York:20250212T183000
DTSTAMP:20260419T163538
CREATED:20250205T190302Z
LAST-MODIFIED:20250205T190302Z
UID:1887-1739379600-1739385000@pcfamilysupport.org
SUMMARY:Valentine's Bingo Night
DESCRIPTION:
URL:https://pcfamilysupport.org/event/valentines-bingo-night/
LOCATION:132 SOUTH ST. PLYMOUTH\, MA 02360\, 132 South Street\, Plymouth\, MA\, 02360\, United States
CATEGORIES:Game Night
ATTACH;FMTTYPE=image/jpeg:https://pcfamilysupport.org/wp-content/uploads/2025/02/Valentines-Bingo-Wednesday-February-12th-18-scaled.jpg
ORGANIZER;CN="Plymouth County Family Support Inc":MAILTO:events@pcfamilysupport.org
END:VEVENT
END:VCALENDAR