BEGIN:VCALENDAR
VERSION:2.0
PRODID:-//Plymouth County Family Support Inc. - ECPv6.15.20//NONSGML v1.0//EN
CALSCALE:GREGORIAN
METHOD:PUBLISH
X-WR-CALNAME:Plymouth County Family Support Inc.
X-ORIGINAL-URL:https://pcfamilysupport.org
X-WR-CALDESC:Events for Plymouth County Family Support Inc.
REFRESH-INTERVAL;VALUE=DURATION:PT1H
X-Robots-Tag:noindex
X-PUBLISHED-TTL:PT1H
BEGIN:VTIMEZONE
TZID:America/New_York
BEGIN:DAYLIGHT
TZOFFSETFROM:-0500
TZOFFSETTO:-0400
TZNAME:EDT
DTSTART:20240310T070000
END:DAYLIGHT
BEGIN:STANDARD
TZOFFSETFROM:-0400
TZOFFSETTO:-0500
TZNAME:EST
DTSTART:20241103T060000
END:STANDARD
BEGIN:DAYLIGHT
TZOFFSETFROM:-0500
TZOFFSETTO:-0400
TZNAME:EDT
DTSTART:20250309T070000
END:DAYLIGHT
BEGIN:STANDARD
TZOFFSETFROM:-0400
TZOFFSETTO:-0500
TZNAME:EST
DTSTART:20251102T060000
END:STANDARD
BEGIN:DAYLIGHT
TZOFFSETFROM:-0500
TZOFFSETTO:-0400
TZNAME:EDT
DTSTART:20260308T070000
END:DAYLIGHT
BEGIN:STANDARD
TZOFFSETFROM:-0400
TZOFFSETTO:-0500
TZNAME:EST
DTSTART:20261101T060000
END:STANDARD
END:VTIMEZONE
BEGIN:VEVENT
DTSTART;TZID=America/New_York:20250131T153000
DTEND;TZID=America/New_York:20250131T163000
DTSTAMP:20260420T013912
CREATED:20250108T193522Z
LAST-MODIFIED:20250108T193522Z
UID:1732-1738337400-1738341000@pcfamilysupport.org
SUMMARY:Healthy Holiday Meals
DESCRIPTION:
URL:https://pcfamilysupport.org/event/healthy-holiday-meals-6/
LOCATION:60 Union St. Middleboro 02346\, 60 Union St.\, Middleboro\, MA\, 02346\, United States
CATEGORIES:Cooking class
ATTACH;FMTTYPE=image/jpeg:https://pcfamilysupport.org/wp-content/uploads/2024/12/Healthy-Holiday-Meals-Dec-Feb-18-scaled.jpg
END:VEVENT
BEGIN:VEVENT
DTSTART;TZID=America/New_York:20250130T173000
DTEND;TZID=America/New_York:20250130T220000
DTSTAMP:20260420T013912
CREATED:20250117T214341Z
LAST-MODIFIED:20250117T214341Z
UID:1810-1738258200-1738274400@pcfamilysupport.org
SUMMARY:Michael Jackson Tribute Concert
DESCRIPTION:
URL:https://pcfamilysupport.org/event/michael-jackson-tribute-concert/
LOCATION:6 Town Wharf Plymouth\, MA 02360\, 6 Town Wharf\, Plymouth\, MA\, 02360\, United States
CATEGORIES:Trip
ATTACH;FMTTYPE=image/png:https://pcfamilysupport.org/wp-content/uploads/2025/01/Michael-Jackson-Tribute-Concert-Thursday-Jan-30th-18.png
END:VEVENT
BEGIN:VEVENT
DTSTART;TZID=America/New_York:20250130T090000
DTEND;TZID=America/New_York:20250130T100000
DTSTAMP:20260420T013912
CREATED:20250108T192529Z
LAST-MODIFIED:20250108T192529Z
UID:1720-1738227600-1738231200@pcfamilysupport.org
SUMMARY:Introduction to Pickleball
DESCRIPTION:
URL:https://pcfamilysupport.org/event/introduction-to-pickleball-3/
LOCATION:37 PROPRIETORS DRIVE\, MARSHFIELD MA  02050\, 37 PROPRIETORS DRIVE\, Marshfield\, MA\, 02050\, United States
CATEGORIES:pickleball
ATTACH;FMTTYPE=image/jpeg:https://pcfamilysupport.org/wp-content/uploads/2024/12/Intro-to-Pickleball--scaled.jpg
ORGANIZER;CN="Plymouth County Family Support Inc":MAILTO:events@pcfamilysupport.org
END:VEVENT
BEGIN:VEVENT
DTSTART;TZID=America/New_York:20250129T170000
DTEND;TZID=America/New_York:20250129T180000
DTSTAMP:20260420T013912
CREATED:20250108T183324Z
LAST-MODIFIED:20250108T183324Z
UID:1675-1738170000-1738173600@pcfamilysupport.org
SUMMARY:Painting Class
DESCRIPTION:
URL:https://pcfamilysupport.org/event/painting-class-19/
LOCATION:54 Main St. #15 Lakeville\, MA 02347\, 54 Main St. #15\, Lakeville\, MA\, 02347\, United States
CATEGORIES:art class
ATTACH;FMTTYPE=image/jpeg:https://pcfamilysupport.org/wp-content/uploads/2024/12/Painting-Class-Dec-Feb-18-scaled.jpg
ORGANIZER;CN="Plymouth County Family Support Inc":MAILTO:events@pcfamilysupport.org
END:VEVENT
BEGIN:VEVENT
DTSTART;TZID=America/New_York:20250129T110000
DTEND;TZID=America/New_York:20250129T120000
DTSTAMP:20260420T013912
CREATED:20250113T194535Z
LAST-MODIFIED:20250113T194535Z
UID:1771-1738148400-1738152000@pcfamilysupport.org
SUMMARY:Adult Art Class
DESCRIPTION:
URL:https://pcfamilysupport.org/event/adult-art-class-8/
LOCATION:155 Webster St\, Hanover 02339\, 155 Webster St\, Hanover\, 02339\, United States
CATEGORIES:art class
ATTACH;FMTTYPE=image/jpeg:https://pcfamilysupport.org/wp-content/uploads/2025/01/Arts-Rec-Adult-Jan-March-scaled.jpg
ORGANIZER;CN="Plymouth County Family Support Inc":MAILTO:events@pcfamilysupport.org
END:VEVENT
BEGIN:VEVENT
DTSTART;TZID=America/New_York:20250128T171500
DTEND;TZID=America/New_York:20250128T180000
DTSTAMP:20260420T013912
CREATED:20250108T182834Z
LAST-MODIFIED:20250108T182834Z
UID:1665-1738084500-1738087200@pcfamilysupport.org
SUMMARY:Yoga with Melissa
DESCRIPTION:
URL:https://pcfamilysupport.org/event/yoga-with-melissa-9/
LOCATION:54 Main St. #15 Lakeville\, MA 02347\, 54 Main St. #15\, Lakeville\, MA\, 02347\, United States
CATEGORIES:yoga
ATTACH;FMTTYPE=image/jpeg:https://pcfamilysupport.org/wp-content/uploads/2024/12/Yoga-Dec-Feb-FY25-scaled.jpg
ORGANIZER;CN="Plymouth County Family Support Inc":MAILTO:events@pcfamilysupport.org
END:VEVENT
BEGIN:VEVENT
DTSTART;TZID=America/New_York:20250128T103000
DTEND;TZID=America/New_York:20250128T113000
DTSTAMP:20260420T013912
CREATED:20250108T185806Z
LAST-MODIFIED:20250108T185806Z
UID:1697-1738060200-1738063800@pcfamilysupport.org
SUMMARY:Sing Explore Create
DESCRIPTION:
URL:https://pcfamilysupport.org/event/sing-explore-create-21/
LOCATION:33 Rockland St Hanover 02339\, 33 Rockland St\, Hanover\, 02339\, United States
CATEGORIES:Music/Creative Arts/Wellness
ATTACH;FMTTYPE=image/jpeg:https://pcfamilysupport.org/wp-content/uploads/2024/11/SEC-Adult-Music-Class-Fall-Flyer-FY25-scaled.jpg
ORGANIZER;CN="Plymouth County Family Support Inc":MAILTO:events@pcfamilysupport.org
END:VEVENT
BEGIN:VEVENT
DTSTART;TZID=America/New_York:20250127T170000
DTEND;TZID=America/New_York:20250127T183000
DTSTAMP:20260420T013912
CREATED:20250117T214051Z
LAST-MODIFIED:20250117T214051Z
UID:1806-1737997200-1738002600@pcfamilysupport.org
SUMMARY:Game Night
DESCRIPTION:
URL:https://pcfamilysupport.org/event/game-night-3/
LOCATION:132 South St. Plymouth\, MA  02360\, 132 South St.\, Plymouth\, MA\, 02360\, United States
CATEGORIES:Game Night
ATTACH;FMTTYPE=image/png:https://pcfamilysupport.org/wp-content/uploads/2025/01/Game-Night-Monday-Jan-27.png
ORGANIZER;CN="Plymouth County Family Support Inc":MAILTO:events@pcfamilysupport.org
END:VEVENT
BEGIN:VEVENT
DTSTART;TZID=America/New_York:20250127T170000
DTEND;TZID=America/New_York:20250127T180000
DTSTAMP:20260420T013912
CREATED:20250108T193933Z
LAST-MODIFIED:20250108T193933Z
UID:1738-1737997200-1738000800@pcfamilysupport.org
SUMMARY:Animation Class
DESCRIPTION:
URL:https://pcfamilysupport.org/event/animation-class-14/
LOCATION:54 Main St. #15 Lakeville\, MA 02347\, 54 Main St. #15\, Lakeville\, MA\, 02347\, United States
CATEGORIES:art class
ATTACH;FMTTYPE=image/jpeg:https://pcfamilysupport.org/wp-content/uploads/2024/12/Animation-Class-Dec-Feb-18-scaled.jpg
END:VEVENT
BEGIN:VEVENT
DTSTART;TZID=America/New_York:20250127T160000
DTEND;TZID=America/New_York:20250127T164500
DTSTAMP:20260420T013912
CREATED:20250113T193648Z
LAST-MODIFIED:20250113T193648Z
UID:1755-1737993600-1737996300@pcfamilysupport.org
SUMMARY:Children's Art Class
DESCRIPTION:
URL:https://pcfamilysupport.org/event/childrens-art-class-12/
LOCATION:155 Webster St\, Hanover 02339\, 155 Webster St\, Hanover\, 02339\, United States
CATEGORIES:art class
ATTACH;FMTTYPE=image/jpeg:https://pcfamilysupport.org/wp-content/uploads/2025/01/Arts-Rec-Children-Jan-March-scaled.jpg
ORGANIZER;CN="Plymouth County Family Support Inc":MAILTO:events@pcfamilysupport.org
END:VEVENT
BEGIN:VEVENT
DTSTART;TZID=America/New_York:20250127T150000
DTEND;TZID=America/New_York:20250127T154500
DTSTAMP:20260420T013912
CREATED:20250116T142219Z
LAST-MODIFIED:20250116T142219Z
UID:1787-1737990000-1737992700@pcfamilysupport.org
SUMMARY:Gotta Dance Class
DESCRIPTION:
URL:https://pcfamilysupport.org/event/gotta-dance-class/
LOCATION:160 N. Main Street\, Carver\, MA 02330\, 160 N Main Street\, Carver\, MA\, 02330\, United States
CATEGORIES:Dance
ATTACH;FMTTYPE=image/jpeg:https://pcfamilysupport.org/wp-content/uploads/2025/01/Gotta-Dance-LLDS-Flyer-Winter-2025-scaled.jpg
ORGANIZER;CN="Plymouth County Family Support Inc":MAILTO:events@pcfamilysupport.org
END:VEVENT
BEGIN:VEVENT
DTSTART;TZID=America/New_York:20250125T144500
DTEND;TZID=America/New_York:20250125T153000
DTSTAMP:20260420T013912
CREATED:20250108T190707Z
LAST-MODIFIED:20250108T190707Z
UID:1705-1737816300-1737819000@pcfamilysupport.org
SUMMARY:We Can Dance!
DESCRIPTION:
URL:https://pcfamilysupport.org/event/we-can-dance-3/
LOCATION:116 Long Pond Rd\, Plymouth 02360\, 116 Long Pond Rd\, Plymouth\, 02360\, United States
CATEGORIES:Dance
ATTACH;FMTTYPE=image/jpeg:https://pcfamilysupport.org/wp-content/uploads/2025/01/We-Can-Dance-Jan-Feb-2025-Ages-7-scaled.jpg
ORGANIZER;CN="Plymouth County Family Support Inc":MAILTO:events@pcfamilysupport.org
END:VEVENT
BEGIN:VEVENT
DTSTART;TZID=America/New_York:20250124T153000
DTEND;TZID=America/New_York:20250124T163000
DTSTAMP:20260420T013912
CREATED:20250108T193439Z
LAST-MODIFIED:20250108T193439Z
UID:1730-1737732600-1737736200@pcfamilysupport.org
SUMMARY:Healthy Holiday Meals
DESCRIPTION:
URL:https://pcfamilysupport.org/event/healthy-holiday-meals-5/
LOCATION:60 Union St. Middleboro 02346\, 60 Union St.\, Middleboro\, MA\, 02346\, United States
CATEGORIES:Cooking class
ATTACH;FMTTYPE=image/jpeg:https://pcfamilysupport.org/wp-content/uploads/2024/12/Healthy-Holiday-Meals-Dec-Feb-18-scaled.jpg
END:VEVENT
BEGIN:VEVENT
DTSTART;TZID=America/New_York:20250123T153000
DTEND;TZID=America/New_York:20250123T230000
DTSTAMP:20260420T013912
CREATED:20250109T171230Z
LAST-MODIFIED:20250109T171230Z
UID:1742-1737646200-1737673200@pcfamilysupport.org
SUMMARY:Peter Pan Musical
DESCRIPTION:
URL:https://pcfamilysupport.org/event/peter-pan-musical/
LOCATION:118 Long Pond Rd. Suite 205 Plymouth\, MA 02360\, 118 Long Pond Road\, Plymouth\, 02360\, United States
CATEGORIES:Trip
ATTACH;FMTTYPE=image/jpeg:https://pcfamilysupport.org/wp-content/uploads/2025/01/Peter-Pan-Musical-Thursday-January-23rd-18-scaled.jpg
ORGANIZER;CN="Plymouth County Family Support Inc":MAILTO:events@pcfamilysupport.org
END:VEVENT
BEGIN:VEVENT
DTSTART;TZID=America/New_York:20250122T170000
DTEND;TZID=America/New_York:20250122T180000
DTSTAMP:20260420T013912
CREATED:20250108T183232Z
LAST-MODIFIED:20250108T183232Z
UID:1673-1737565200-1737568800@pcfamilysupport.org
SUMMARY:Painting Class
DESCRIPTION:
URL:https://pcfamilysupport.org/event/painting-class-18/
LOCATION:54 Main St. #15 Lakeville\, MA 02347\, 54 Main St. #15\, Lakeville\, MA\, 02347\, United States
CATEGORIES:art class
ATTACH;FMTTYPE=image/jpeg:https://pcfamilysupport.org/wp-content/uploads/2024/12/Painting-Class-Dec-Feb-18-scaled.jpg
ORGANIZER;CN="Plymouth County Family Support Inc":MAILTO:events@pcfamilysupport.org
END:VEVENT
BEGIN:VEVENT
DTSTART;TZID=America/New_York:20250122T163000
DTEND;TZID=America/New_York:20250122T193000
DTSTAMP:20260420T013912
CREATED:20250113T193308Z
LAST-MODIFIED:20250113T193308Z
UID:1753-1737563400-1737574200@pcfamilysupport.org
SUMMARY:Movie Night - The Martian
DESCRIPTION:
URL:https://pcfamilysupport.org/event/movie-night-the-martian/
LOCATION:118 Long Pond Rd. Suite 205 Plymouth\, MA 02360\, 118 Long Pond Road\, Plymouth\, 02360\, United States
ATTACH;FMTTYPE=image/jpeg:https://pcfamilysupport.org/wp-content/uploads/2025/01/The-Martian-scaled.jpg
ORGANIZER;CN="Plymouth County Family Support Inc":MAILTO:events@pcfamilysupport.org
END:VEVENT
BEGIN:VEVENT
DTSTART;TZID=America/New_York:20250121T171500
DTEND;TZID=America/New_York:20250121T180000
DTSTAMP:20260420T013912
CREATED:20250108T182751Z
LAST-MODIFIED:20250108T182751Z
UID:1663-1737479700-1737482400@pcfamilysupport.org
SUMMARY:Yoga with Melissa
DESCRIPTION:
URL:https://pcfamilysupport.org/event/yoga-with-melissa-8/
LOCATION:54 Main St. #15 Lakeville\, MA 02347\, 54 Main St. #15\, Lakeville\, MA\, 02347\, United States
CATEGORIES:yoga
ATTACH;FMTTYPE=image/jpeg:https://pcfamilysupport.org/wp-content/uploads/2024/12/Yoga-Dec-Feb-FY25-scaled.jpg
ORGANIZER;CN="Plymouth County Family Support Inc":MAILTO:events@pcfamilysupport.org
END:VEVENT
BEGIN:VEVENT
DTSTART;TZID=America/New_York:20250121T103000
DTEND;TZID=America/New_York:20250121T113000
DTSTAMP:20260420T013912
CREATED:20250108T185721Z
LAST-MODIFIED:20250108T185721Z
UID:1695-1737455400-1737459000@pcfamilysupport.org
SUMMARY:Sing Explore Create
DESCRIPTION:
URL:https://pcfamilysupport.org/event/sing-explore-create-20/
LOCATION:33 Rockland St Hanover 02339\, 33 Rockland St\, Hanover\, 02339\, United States
CATEGORIES:Music/Creative Arts/Wellness
ATTACH;FMTTYPE=image/jpeg:https://pcfamilysupport.org/wp-content/uploads/2024/11/SEC-Adult-Music-Class-Fall-Flyer-FY25-scaled.jpg
ORGANIZER;CN="Plymouth County Family Support Inc":MAILTO:events@pcfamilysupport.org
END:VEVENT
BEGIN:VEVENT
DTSTART;TZID=America/New_York:20250118T144500
DTEND;TZID=America/New_York:20250118T153000
DTSTAMP:20260420T013912
CREATED:20250108T190624Z
LAST-MODIFIED:20250108T190624Z
UID:1703-1737211500-1737214200@pcfamilysupport.org
SUMMARY:We Can Dance!
DESCRIPTION:
URL:https://pcfamilysupport.org/event/we-can-dance-2/
LOCATION:116 Long Pond Rd\, Plymouth 02360\, 116 Long Pond Rd\, Plymouth\, 02360\, United States
CATEGORIES:Dance
ATTACH;FMTTYPE=image/jpeg:https://pcfamilysupport.org/wp-content/uploads/2025/01/We-Can-Dance-Jan-Feb-2025-Ages-7-scaled.jpg
ORGANIZER;CN="Plymouth County Family Support Inc":MAILTO:events@pcfamilysupport.org
END:VEVENT
BEGIN:VEVENT
DTSTART;TZID=America/New_York:20250117T153000
DTEND;TZID=America/New_York:20250117T163000
DTSTAMP:20260420T013912
CREATED:20250108T193357Z
LAST-MODIFIED:20250108T193357Z
UID:1728-1737127800-1737131400@pcfamilysupport.org
SUMMARY:Healthy Holiday Meals
DESCRIPTION:
URL:https://pcfamilysupport.org/event/healthy-holiday-meals-4/
LOCATION:60 Union St. Middleboro 02346\, 60 Union St.\, Middleboro\, MA\, 02346\, United States
CATEGORIES:Cooking class
ATTACH;FMTTYPE=image/jpeg:https://pcfamilysupport.org/wp-content/uploads/2024/12/Healthy-Holiday-Meals-Dec-Feb-18-scaled.jpg
END:VEVENT
BEGIN:VEVENT
DTSTART;TZID=America/New_York:20250116T090000
DTEND;TZID=America/New_York:20250116T100000
DTSTAMP:20260420T013912
CREATED:20250108T192431Z
LAST-MODIFIED:20250108T192431Z
UID:1718-1737018000-1737021600@pcfamilysupport.org
SUMMARY:Introduction to Pickleball
DESCRIPTION:
URL:https://pcfamilysupport.org/event/introduction-to-pickleball-2/
LOCATION:37 PROPRIETORS DRIVE\, MARSHFIELD MA  02050\, 37 PROPRIETORS DRIVE\, Marshfield\, MA\, 02050\, United States
CATEGORIES:pickleball
ATTACH;FMTTYPE=image/jpeg:https://pcfamilysupport.org/wp-content/uploads/2024/12/Intro-to-Pickleball--scaled.jpg
ORGANIZER;CN="Plymouth County Family Support Inc":MAILTO:events@pcfamilysupport.org
END:VEVENT
BEGIN:VEVENT
DTSTART;TZID=America/New_York:20250115T170000
DTEND;TZID=America/New_York:20250115T180000
DTSTAMP:20260420T013912
CREATED:20250108T183143Z
LAST-MODIFIED:20250108T183143Z
UID:1671-1736960400-1736964000@pcfamilysupport.org
SUMMARY:Painting Class
DESCRIPTION:
URL:https://pcfamilysupport.org/event/painting-class-17/
LOCATION:54 Main St. #15 Lakeville\, MA 02347\, 54 Main St. #15\, Lakeville\, MA\, 02347\, United States
CATEGORIES:art class
ATTACH;FMTTYPE=image/jpeg:https://pcfamilysupport.org/wp-content/uploads/2024/12/Painting-Class-Dec-Feb-18-scaled.jpg
ORGANIZER;CN="Plymouth County Family Support Inc":MAILTO:events@pcfamilysupport.org
END:VEVENT
BEGIN:VEVENT
DTSTART;TZID=America/New_York:20250115T163000
DTEND;TZID=America/New_York:20250115T193000
DTSTAMP:20260420T013912
CREATED:20250108T193031Z
LAST-MODIFIED:20250108T193031Z
UID:1724-1736958600-1736969400@pcfamilysupport.org
SUMMARY:ASD Game Night
DESCRIPTION:
URL:https://pcfamilysupport.org/event/asd-game-night/
LOCATION:118 Long Pond Rd. Suite 205 Plymouth\, MA 02360\, 118 Long Pond Road\, Plymouth\, 02360\, United States
CATEGORIES:Game Night
ATTACH;FMTTYPE=image/jpeg:https://pcfamilysupport.org/wp-content/uploads/2025/01/Jurassic-World-scaled.jpg
ORGANIZER;CN="Plymouth County Family Support Inc":MAILTO:events@pcfamilysupport.org
END:VEVENT
BEGIN:VEVENT
DTSTART;TZID=America/New_York:20250114T171500
DTEND;TZID=America/New_York:20250114T180000
DTSTAMP:20260420T013912
CREATED:20250108T182710Z
LAST-MODIFIED:20250108T182710Z
UID:1661-1736874900-1736877600@pcfamilysupport.org
SUMMARY:Yoga with Melissa
DESCRIPTION:
URL:https://pcfamilysupport.org/event/yoga-with-melissa-7/
LOCATION:54 Main St. #15 Lakeville\, MA 02347\, 54 Main St. #15\, Lakeville\, MA\, 02347\, United States
CATEGORIES:yoga
ATTACH;FMTTYPE=image/jpeg:https://pcfamilysupport.org/wp-content/uploads/2024/12/Yoga-Dec-Feb-FY25-scaled.jpg
ORGANIZER;CN="Plymouth County Family Support Inc":MAILTO:events@pcfamilysupport.org
END:VEVENT
BEGIN:VEVENT
DTSTART;TZID=America/New_York:20250114T103000
DTEND;TZID=America/New_York:20250114T113000
DTSTAMP:20260420T013912
CREATED:20250108T185625Z
LAST-MODIFIED:20250108T185625Z
UID:1693-1736850600-1736854200@pcfamilysupport.org
SUMMARY:Sing Explore Create
DESCRIPTION:
URL:https://pcfamilysupport.org/event/sing-explore-create-19/
LOCATION:33 Rockland St Hanover 02339\, 33 Rockland St\, Hanover\, 02339\, United States
CATEGORIES:Music/Creative Arts/Wellness
ATTACH;FMTTYPE=image/jpeg:https://pcfamilysupport.org/wp-content/uploads/2024/11/SEC-Adult-Music-Class-Fall-Flyer-FY25-scaled.jpg
ORGANIZER;CN="Plymouth County Family Support Inc":MAILTO:events@pcfamilysupport.org
END:VEVENT
BEGIN:VEVENT
DTSTART;TZID=America/New_York:20250113T170000
DTEND;TZID=America/New_York:20250113T180000
DTSTAMP:20260420T013912
CREATED:20250108T193815Z
LAST-MODIFIED:20250108T193815Z
UID:1736-1736787600-1736791200@pcfamilysupport.org
SUMMARY:Animation Class
DESCRIPTION:
URL:https://pcfamilysupport.org/event/animation-class-13/
LOCATION:54 Main St. #15 Lakeville\, MA 02347\, 54 Main St. #15\, Lakeville\, MA\, 02347\, United States
CATEGORIES:art class
ATTACH;FMTTYPE=image/jpeg:https://pcfamilysupport.org/wp-content/uploads/2024/12/Animation-Class-Dec-Feb-18-scaled.jpg
END:VEVENT
BEGIN:VEVENT
DTSTART;TZID=America/New_York:20250113T160000
DTEND;TZID=America/New_York:20250217T164500
DTSTAMP:20260420T013912
CREATED:20241108T013616Z
LAST-MODIFIED:20241108T013616Z
UID:1552-1736784000-1739810700@pcfamilysupport.org
SUMMARY:Children's Art Class
DESCRIPTION:
URL:https://pcfamilysupport.org/event/childrens-art-class-10/
LOCATION:155 Webster St\, Hanover 02339\, 155 Webster St\, Hanover\, 02339\, United States
CATEGORIES:art class
ATTACH;FMTTYPE=image/jpeg:https://pcfamilysupport.org/wp-content/uploads/2024/11/Arts-Rec-Children-Art-Class-Nov-Jan.jpg
ORGANIZER;CN="Plymouth County Family Support Inc":MAILTO:events@pcfamilysupport.org
END:VEVENT
BEGIN:VEVENT
DTSTART;TZID=America/New_York:20250112T150000
DTEND;TZID=America/New_York:20250112T220000
DTSTAMP:20260420T013912
CREATED:20250108T191626Z
LAST-MODIFIED:20250108T191626Z
UID:1713-1736694000-1736719200@pcfamilysupport.org
SUMMARY:BOSTON CELTICS
DESCRIPTION:
URL:https://pcfamilysupport.org/event/boston-celtics/
LOCATION:285 Washington St. Norwell\, MA 02061\, 285 Washington Street\, Norwell\, MA\, 02061\, United States
CATEGORIES:Trip
ATTACH;FMTTYPE=image/jpeg:https://pcfamilysupport.org/wp-content/uploads/2025/01/Boston-Celtics-January-12-DESE-scaled.jpg
ORGANIZER;CN="Plymouth County Family Support Inc":MAILTO:events@pcfamilysupport.org
END:VEVENT
BEGIN:VEVENT
DTSTART;TZID=America/New_York:20250111T144500
DTEND;TZID=America/New_York:20250111T153000
DTSTAMP:20260420T013912
CREATED:20250108T190539Z
LAST-MODIFIED:20250108T190539Z
UID:1701-1736606700-1736609400@pcfamilysupport.org
SUMMARY:We Can Dance!
DESCRIPTION:
URL:https://pcfamilysupport.org/event/we-can-dance/
LOCATION:116 Long Pond Rd\, Plymouth 02360\, 116 Long Pond Rd\, Plymouth\, 02360\, United States
CATEGORIES:Dance
ATTACH;FMTTYPE=image/jpeg:https://pcfamilysupport.org/wp-content/uploads/2025/01/We-Can-Dance-Jan-Feb-2025-Ages-7-scaled.jpg
ORGANIZER;CN="Plymouth County Family Support Inc":MAILTO:events@pcfamilysupport.org
END:VEVENT
BEGIN:VEVENT
DTSTART;TZID=America/New_York:20250110T153000
DTEND;TZID=America/New_York:20250110T163000
DTSTAMP:20260420T013912
CREATED:20250108T193249Z
LAST-MODIFIED:20250108T193249Z
UID:1726-1736523000-1736526600@pcfamilysupport.org
SUMMARY:Healthy Holiday Meals
DESCRIPTION:
URL:https://pcfamilysupport.org/event/healthy-holiday-meals-3/
LOCATION:60 Union St. Middleboro 02346\, 60 Union St.\, Middleboro\, MA\, 02346\, United States
CATEGORIES:Cooking class
ATTACH;FMTTYPE=image/jpeg:https://pcfamilysupport.org/wp-content/uploads/2024/12/Healthy-Holiday-Meals-Dec-Feb-18-scaled.jpg
END:VEVENT
END:VCALENDAR