BEGIN:VCALENDAR
VERSION:2.0
PRODID:-//Plymouth County Family Support Inc. - ECPv6.15.20//NONSGML v1.0//EN
CALSCALE:GREGORIAN
METHOD:PUBLISH
X-WR-CALNAME:Plymouth County Family Support Inc.
X-ORIGINAL-URL:https://pcfamilysupport.org
X-WR-CALDESC:Events for Plymouth County Family Support Inc.
REFRESH-INTERVAL;VALUE=DURATION:PT1H
X-Robots-Tag:noindex
X-PUBLISHED-TTL:PT1H
BEGIN:VTIMEZONE
TZID:America/New_York
BEGIN:DAYLIGHT
TZOFFSETFROM:-0500
TZOFFSETTO:-0400
TZNAME:EDT
DTSTART:20230312T070000
END:DAYLIGHT
BEGIN:STANDARD
TZOFFSETFROM:-0400
TZOFFSETTO:-0500
TZNAME:EST
DTSTART:20231105T060000
END:STANDARD
BEGIN:DAYLIGHT
TZOFFSETFROM:-0500
TZOFFSETTO:-0400
TZNAME:EDT
DTSTART:20240310T070000
END:DAYLIGHT
BEGIN:STANDARD
TZOFFSETFROM:-0400
TZOFFSETTO:-0500
TZNAME:EST
DTSTART:20241103T060000
END:STANDARD
BEGIN:DAYLIGHT
TZOFFSETFROM:-0500
TZOFFSETTO:-0400
TZNAME:EDT
DTSTART:20250309T070000
END:DAYLIGHT
BEGIN:STANDARD
TZOFFSETFROM:-0400
TZOFFSETTO:-0500
TZNAME:EST
DTSTART:20251102T060000
END:STANDARD
BEGIN:DAYLIGHT
TZOFFSETFROM:-0500
TZOFFSETTO:-0400
TZNAME:EDT
DTSTART:20260308T070000
END:DAYLIGHT
BEGIN:STANDARD
TZOFFSETFROM:-0400
TZOFFSETTO:-0500
TZNAME:EST
DTSTART:20261101T060000
END:STANDARD
END:VTIMEZONE
BEGIN:VEVENT
DTSTART;TZID=America/New_York:20250116T090000
DTEND;TZID=America/New_York:20250116T100000
DTSTAMP:20260420T050813
CREATED:20250108T192431Z
LAST-MODIFIED:20250108T192431Z
UID:1718-1737018000-1737021600@pcfamilysupport.org
SUMMARY:Introduction to Pickleball
DESCRIPTION:
URL:https://pcfamilysupport.org/event/introduction-to-pickleball-2/
LOCATION:37 PROPRIETORS DRIVE\, MARSHFIELD MA  02050\, 37 PROPRIETORS DRIVE\, Marshfield\, MA\, 02050\, United States
CATEGORIES:pickleball
ATTACH;FMTTYPE=image/jpeg:https://pcfamilysupport.org/wp-content/uploads/2024/12/Intro-to-Pickleball--scaled.jpg
ORGANIZER;CN="Plymouth County Family Support Inc":MAILTO:events@pcfamilysupport.org
END:VEVENT
BEGIN:VEVENT
DTSTART;TZID=America/New_York:20250115T170000
DTEND;TZID=America/New_York:20250115T180000
DTSTAMP:20260420T050813
CREATED:20250108T183143Z
LAST-MODIFIED:20250108T183143Z
UID:1671-1736960400-1736964000@pcfamilysupport.org
SUMMARY:Painting Class
DESCRIPTION:
URL:https://pcfamilysupport.org/event/painting-class-17/
LOCATION:54 Main St. #15 Lakeville\, MA 02347\, 54 Main St. #15\, Lakeville\, MA\, 02347\, United States
CATEGORIES:art class
ATTACH;FMTTYPE=image/jpeg:https://pcfamilysupport.org/wp-content/uploads/2024/12/Painting-Class-Dec-Feb-18-scaled.jpg
ORGANIZER;CN="Plymouth County Family Support Inc":MAILTO:events@pcfamilysupport.org
END:VEVENT
BEGIN:VEVENT
DTSTART;TZID=America/New_York:20250115T163000
DTEND;TZID=America/New_York:20250115T193000
DTSTAMP:20260420T050813
CREATED:20250108T193031Z
LAST-MODIFIED:20250108T193031Z
UID:1724-1736958600-1736969400@pcfamilysupport.org
SUMMARY:ASD Game Night
DESCRIPTION:
URL:https://pcfamilysupport.org/event/asd-game-night/
LOCATION:118 Long Pond Rd. Suite 205 Plymouth\, MA 02360\, 118 Long Pond Road\, Plymouth\, 02360\, United States
CATEGORIES:Game Night
ATTACH;FMTTYPE=image/jpeg:https://pcfamilysupport.org/wp-content/uploads/2025/01/Jurassic-World-scaled.jpg
ORGANIZER;CN="Plymouth County Family Support Inc":MAILTO:events@pcfamilysupport.org
END:VEVENT
BEGIN:VEVENT
DTSTART;TZID=America/New_York:20250114T171500
DTEND;TZID=America/New_York:20250114T180000
DTSTAMP:20260420T050813
CREATED:20250108T182710Z
LAST-MODIFIED:20250108T182710Z
UID:1661-1736874900-1736877600@pcfamilysupport.org
SUMMARY:Yoga with Melissa
DESCRIPTION:
URL:https://pcfamilysupport.org/event/yoga-with-melissa-7/
LOCATION:54 Main St. #15 Lakeville\, MA 02347\, 54 Main St. #15\, Lakeville\, MA\, 02347\, United States
CATEGORIES:yoga
ATTACH;FMTTYPE=image/jpeg:https://pcfamilysupport.org/wp-content/uploads/2024/12/Yoga-Dec-Feb-FY25-scaled.jpg
ORGANIZER;CN="Plymouth County Family Support Inc":MAILTO:events@pcfamilysupport.org
END:VEVENT
BEGIN:VEVENT
DTSTART;TZID=America/New_York:20250114T103000
DTEND;TZID=America/New_York:20250114T113000
DTSTAMP:20260420T050813
CREATED:20250108T185625Z
LAST-MODIFIED:20250108T185625Z
UID:1693-1736850600-1736854200@pcfamilysupport.org
SUMMARY:Sing Explore Create
DESCRIPTION:
URL:https://pcfamilysupport.org/event/sing-explore-create-19/
LOCATION:33 Rockland St Hanover 02339\, 33 Rockland St\, Hanover\, 02339\, United States
CATEGORIES:Music/Creative Arts/Wellness
ATTACH;FMTTYPE=image/jpeg:https://pcfamilysupport.org/wp-content/uploads/2024/11/SEC-Adult-Music-Class-Fall-Flyer-FY25-scaled.jpg
ORGANIZER;CN="Plymouth County Family Support Inc":MAILTO:events@pcfamilysupport.org
END:VEVENT
BEGIN:VEVENT
DTSTART;TZID=America/New_York:20250113T170000
DTEND;TZID=America/New_York:20250113T180000
DTSTAMP:20260420T050813
CREATED:20250108T193815Z
LAST-MODIFIED:20250108T193815Z
UID:1736-1736787600-1736791200@pcfamilysupport.org
SUMMARY:Animation Class
DESCRIPTION:
URL:https://pcfamilysupport.org/event/animation-class-13/
LOCATION:54 Main St. #15 Lakeville\, MA 02347\, 54 Main St. #15\, Lakeville\, MA\, 02347\, United States
CATEGORIES:art class
ATTACH;FMTTYPE=image/jpeg:https://pcfamilysupport.org/wp-content/uploads/2024/12/Animation-Class-Dec-Feb-18-scaled.jpg
END:VEVENT
BEGIN:VEVENT
DTSTART;TZID=America/New_York:20250113T160000
DTEND;TZID=America/New_York:20250217T164500
DTSTAMP:20260420T050813
CREATED:20241108T013616Z
LAST-MODIFIED:20241108T013616Z
UID:1552-1736784000-1739810700@pcfamilysupport.org
SUMMARY:Children's Art Class
DESCRIPTION:
URL:https://pcfamilysupport.org/event/childrens-art-class-10/
LOCATION:155 Webster St\, Hanover 02339\, 155 Webster St\, Hanover\, 02339\, United States
CATEGORIES:art class
ATTACH;FMTTYPE=image/jpeg:https://pcfamilysupport.org/wp-content/uploads/2024/11/Arts-Rec-Children-Art-Class-Nov-Jan.jpg
ORGANIZER;CN="Plymouth County Family Support Inc":MAILTO:events@pcfamilysupport.org
END:VEVENT
BEGIN:VEVENT
DTSTART;TZID=America/New_York:20250112T150000
DTEND;TZID=America/New_York:20250112T220000
DTSTAMP:20260420T050813
CREATED:20250108T191626Z
LAST-MODIFIED:20250108T191626Z
UID:1713-1736694000-1736719200@pcfamilysupport.org
SUMMARY:BOSTON CELTICS
DESCRIPTION:
URL:https://pcfamilysupport.org/event/boston-celtics/
LOCATION:285 Washington St. Norwell\, MA 02061\, 285 Washington Street\, Norwell\, MA\, 02061\, United States
CATEGORIES:Trip
ATTACH;FMTTYPE=image/jpeg:https://pcfamilysupport.org/wp-content/uploads/2025/01/Boston-Celtics-January-12-DESE-scaled.jpg
ORGANIZER;CN="Plymouth County Family Support Inc":MAILTO:events@pcfamilysupport.org
END:VEVENT
BEGIN:VEVENT
DTSTART;TZID=America/New_York:20250111T144500
DTEND;TZID=America/New_York:20250111T153000
DTSTAMP:20260420T050813
CREATED:20250108T190539Z
LAST-MODIFIED:20250108T190539Z
UID:1701-1736606700-1736609400@pcfamilysupport.org
SUMMARY:We Can Dance!
DESCRIPTION:
URL:https://pcfamilysupport.org/event/we-can-dance/
LOCATION:116 Long Pond Rd\, Plymouth 02360\, 116 Long Pond Rd\, Plymouth\, 02360\, United States
CATEGORIES:Dance
ATTACH;FMTTYPE=image/jpeg:https://pcfamilysupport.org/wp-content/uploads/2025/01/We-Can-Dance-Jan-Feb-2025-Ages-7-scaled.jpg
ORGANIZER;CN="Plymouth County Family Support Inc":MAILTO:events@pcfamilysupport.org
END:VEVENT
BEGIN:VEVENT
DTSTART;TZID=America/New_York:20250110T153000
DTEND;TZID=America/New_York:20250110T163000
DTSTAMP:20260420T050813
CREATED:20250108T193249Z
LAST-MODIFIED:20250108T193249Z
UID:1726-1736523000-1736526600@pcfamilysupport.org
SUMMARY:Healthy Holiday Meals
DESCRIPTION:
URL:https://pcfamilysupport.org/event/healthy-holiday-meals-3/
LOCATION:60 Union St. Middleboro 02346\, 60 Union St.\, Middleboro\, MA\, 02346\, United States
CATEGORIES:Cooking class
ATTACH;FMTTYPE=image/jpeg:https://pcfamilysupport.org/wp-content/uploads/2024/12/Healthy-Holiday-Meals-Dec-Feb-18-scaled.jpg
END:VEVENT
BEGIN:VEVENT
DTSTART;TZID=America/New_York:20250109T090000
DTEND;TZID=America/New_York:20250109T100000
DTSTAMP:20260420T050813
CREATED:20250108T192327Z
LAST-MODIFIED:20250108T192327Z
UID:1716-1736413200-1736416800@pcfamilysupport.org
SUMMARY:Introduction to Pickleball
DESCRIPTION:
URL:https://pcfamilysupport.org/event/introduction-to-pickleball/
LOCATION:37 PROPRIETORS DRIVE\, MARSHFIELD MA  02050\, 37 PROPRIETORS DRIVE\, Marshfield\, MA\, 02050\, United States
CATEGORIES:pickleball
ATTACH;FMTTYPE=image/jpeg:https://pcfamilysupport.org/wp-content/uploads/2024/12/Intro-to-Pickleball--scaled.jpg
ORGANIZER;CN="Plymouth County Family Support Inc":MAILTO:events@pcfamilysupport.org
END:VEVENT
BEGIN:VEVENT
DTSTART;TZID=America/New_York:20250108T170000
DTEND;TZID=America/New_York:20250108T180000
DTSTAMP:20260420T050813
CREATED:20250108T183059Z
LAST-MODIFIED:20250108T183059Z
UID:1669-1736355600-1736359200@pcfamilysupport.org
SUMMARY:Painting Class
DESCRIPTION:
URL:https://pcfamilysupport.org/event/painting-class-16/
LOCATION:54 Main St. #15 Lakeville\, MA 02347\, 54 Main St. #15\, Lakeville\, MA\, 02347\, United States
CATEGORIES:art class
ATTACH;FMTTYPE=image/jpeg:https://pcfamilysupport.org/wp-content/uploads/2024/12/Painting-Class-Dec-Feb-18-scaled.jpg
ORGANIZER;CN="Plymouth County Family Support Inc":MAILTO:events@pcfamilysupport.org
END:VEVENT
BEGIN:VEVENT
DTSTART;TZID=America/New_York:20250108T163000
DTEND;TZID=America/New_York:20250108T193000
DTSTAMP:20260420T050813
CREATED:20250108T190052Z
LAST-MODIFIED:20250108T190052Z
UID:1699-1736353800-1736364600@pcfamilysupport.org
SUMMARY:Anime and Pizza Social Night - Wind Breaker
DESCRIPTION:
URL:https://pcfamilysupport.org/event/anime-and-pizza-social-night-wind-breaker/
LOCATION:118 Long Pond Rd. Suite 205 Plymouth\, MA 02360\, 118 Long Pond Road\, Plymouth\, 02360\, United States
CATEGORIES:anime club
ATTACH;FMTTYPE=image/jpeg:https://pcfamilysupport.org/wp-content/uploads/2025/01/Wind-Breaker-scaled.jpg
ORGANIZER;CN="Plymouth County Family Support Inc":MAILTO:events@pcfamilysupport.org
END:VEVENT
BEGIN:VEVENT
DTSTART;TZID=America/New_York:20250107T171500
DTEND;TZID=America/New_York:20250107T180000
DTSTAMP:20260420T050813
CREATED:20250108T182413Z
LAST-MODIFIED:20250108T182413Z
UID:1659-1736270100-1736272800@pcfamilysupport.org
SUMMARY:Yoga with Melissa
DESCRIPTION:
URL:https://pcfamilysupport.org/event/yoga-with-melissa-6/
LOCATION:54 Main St. #15 Lakeville\, MA 02347\, 54 Main St. #15\, Lakeville\, MA\, 02347\, United States
CATEGORIES:yoga
ATTACH;FMTTYPE=image/jpeg:https://pcfamilysupport.org/wp-content/uploads/2024/12/Yoga-Dec-Feb-FY25-scaled.jpg
ORGANIZER;CN="Plymouth County Family Support Inc":MAILTO:events@pcfamilysupport.org
END:VEVENT
BEGIN:VEVENT
DTSTART;TZID=America/New_York:20250107T103000
DTEND;TZID=America/New_York:20250107T113000
DTSTAMP:20260420T050813
CREATED:20250108T185532Z
LAST-MODIFIED:20250108T185532Z
UID:1691-1736245800-1736249400@pcfamilysupport.org
SUMMARY:Sing Explore Create
DESCRIPTION:
URL:https://pcfamilysupport.org/event/sing-explore-create-18/
LOCATION:33 Rockland St Hanover 02339\, 33 Rockland St\, Hanover\, 02339\, United States
CATEGORIES:Music/Creative Arts/Wellness
ATTACH;FMTTYPE=image/jpeg:https://pcfamilysupport.org/wp-content/uploads/2024/11/SEC-Adult-Music-Class-Fall-Flyer-FY25-scaled.jpg
ORGANIZER;CN="Plymouth County Family Support Inc":MAILTO:events@pcfamilysupport.org
END:VEVENT
BEGIN:VEVENT
DTSTART;TZID=America/New_York:20250106T160000
DTEND;TZID=America/New_York:20250106T164500
DTSTAMP:20260420T050813
CREATED:20250108T182102Z
LAST-MODIFIED:20250108T182102Z
UID:1657-1736179200-1736181900@pcfamilysupport.org
SUMMARY:Children's Art Class
DESCRIPTION:
URL:https://pcfamilysupport.org/event/childrens-art-class-11/
LOCATION:155 Webster St\, Hanover 02339\, 155 Webster St\, Hanover\, 02339\, United States
CATEGORIES:art class
ATTACH;FMTTYPE=image/jpeg:https://pcfamilysupport.org/wp-content/uploads/2024/11/Arts-Rec-Children-Art-Class-Nov-Jan.jpg
ORGANIZER;CN="Plymouth County Family Support Inc":MAILTO:events@pcfamilysupport.org
END:VEVENT
BEGIN:VEVENT
DTSTART;TZID=America/New_York:20250105T140000
DTEND;TZID=America/New_York:20250105T220000
DTSTAMP:20260420T050813
CREATED:20250108T184237Z
LAST-MODIFIED:20250108T184237Z
UID:1689-1736085600-1736114400@pcfamilysupport.org
SUMMARY:BOSTON BRUINS
DESCRIPTION:
URL:https://pcfamilysupport.org/event/boston-bruins/
LOCATION:118 Long Pond Rd. Suite 205 Plymouth\, MA 02360\, 118 Long Pond Road\, Plymouth\, 02360\, United States
CATEGORIES:Trip
ATTACH;FMTTYPE=image/jpeg:https://pcfamilysupport.org/wp-content/uploads/2025/01/Boston-Bruins-Dec-3-and-Jan-5-18-scaled.jpg
ORGANIZER;CN="Plymouth County Family Support Inc":MAILTO:events@pcfamilysupport.org
END:VEVENT
BEGIN:VEVENT
DTSTART;VALUE=DATE:20250102
DTEND;VALUE=DATE:20250103
DTSTAMP:20260420T050813
CREATED:20250108T183949Z
LAST-MODIFIED:20250108T183949Z
UID:1681-1735776000-1735862399@pcfamilysupport.org
SUMMARY:NYC: RADIO CITY CHRISTMAS SPECTACULAR
DESCRIPTION:
URL:https://pcfamilysupport.org/event/nyc-radio-city-christmas-spectacular/
LOCATION:118 Long Pond Rd. Suite 205 Plymouth\, MA 02360\, 118 Long Pond Road\, Plymouth\, 02360\, United States
CATEGORIES:Trip
ATTACH;FMTTYPE=image/jpeg:https://pcfamilysupport.org/wp-content/uploads/2025/01/New-York-City-Thursday-January-2nd-18-scaled.jpg
END:VEVENT
BEGIN:VEVENT
DTSTART;TZID=America/New_York:20241231T090000
DTEND;TZID=America/New_York:20241231T100000
DTSTAMP:20260420T050813
CREATED:20241202T185609Z
LAST-MODIFIED:20241202T190137Z
UID:1581-1735635600-1735639200@pcfamilysupport.org
SUMMARY:Pickleball
DESCRIPTION:
URL:https://pcfamilysupport.org/event/pickleball-15/
LOCATION:Boys and Girls Club of Marshfield\, 37 Proprietors Drive\, Marshfield\, MA\, 02050\, United States
CATEGORIES:pickleball
ATTACH;FMTTYPE=image/jpeg:https://pcfamilysupport.org/wp-content/uploads/2024/11/Pickleball-Oct-Dec-2024-scaled.jpg
ORGANIZER;CN="Plymouth County Family Support Inc":MAILTO:events@pcfamilysupport.org
END:VEVENT
BEGIN:VEVENT
DTSTART;TZID=America/New_York:20241230T170000
DTEND;TZID=America/New_York:20241230T180000
DTSTAMP:20260420T050813
CREATED:20241202T195546Z
LAST-MODIFIED:20241202T195546Z
UID:1613-1735578000-1735581600@pcfamilysupport.org
SUMMARY:Animation Class
DESCRIPTION:
URL:https://pcfamilysupport.org/event/animation-class-12/
LOCATION:54 Main St. #15 Lakeville\, MA 02347\, 54 Main St. #15\, Lakeville\, MA\, 02347\, United States
CATEGORIES:art class
ATTACH;FMTTYPE=image/jpeg:https://pcfamilysupport.org/wp-content/uploads/2024/12/Animation-Class-Dec-Feb-18-scaled.jpg
END:VEVENT
BEGIN:VEVENT
DTSTART;TZID=America/New_York:20241230T160000
DTEND;TZID=America/New_York:20241230T164500
DTSTAMP:20260420T050813
CREATED:20241108T013348Z
LAST-MODIFIED:20241202T193429Z
UID:1548-1735574400-1735577100@pcfamilysupport.org
SUMMARY:Children's Art Class
DESCRIPTION:
URL:https://pcfamilysupport.org/event/childrens-art-class-9/
LOCATION:155 Webster St\, Hanover 02339\, 155 Webster St\, Hanover\, 02339\, United States
CATEGORIES:art class
ATTACH;FMTTYPE=image/jpeg:https://pcfamilysupport.org/wp-content/uploads/2024/11/Arts-Rec-Children-Art-Class-Nov-Jan.jpg
ORGANIZER;CN="Plymouth County Family Support Inc":MAILTO:events@pcfamilysupport.org
END:VEVENT
BEGIN:VEVENT
DTSTART;TZID=America/New_York:20241224T103000
DTEND;TZID=America/New_York:20241224T113000
DTSTAMP:20260420T050813
CREATED:20241202T190737Z
LAST-MODIFIED:20241202T190737Z
UID:1587-1735036200-1735039800@pcfamilysupport.org
SUMMARY:Sing Explore Create
DESCRIPTION:
URL:https://pcfamilysupport.org/event/sing-explore-create-17/
LOCATION:33 Rockland St Hanover 02339\, 33 Rockland St\, Hanover\, 02339\, United States
CATEGORIES:Music/Creative Arts/Wellness
ATTACH;FMTTYPE=image/jpeg:https://pcfamilysupport.org/wp-content/uploads/2024/11/SEC-Adult-Music-Class-Fall-Flyer-FY25-scaled.jpg
ORGANIZER;CN="Plymouth County Family Support Inc":MAILTO:events@pcfamilysupport.org
END:VEVENT
BEGIN:VEVENT
DTSTART;TZID=America/New_York:20241224T090000
DTEND;TZID=America/New_York:20241224T100000
DTSTAMP:20260420T050813
CREATED:20241202T185505Z
LAST-MODIFIED:20241202T185505Z
UID:1579-1735030800-1735034400@pcfamilysupport.org
SUMMARY:Pickleball
DESCRIPTION:
URL:https://pcfamilysupport.org/event/pickleball-14/
LOCATION:Boys and Girls Club of Marshfield\, 37 Proprietors Drive\, Marshfield\, MA\, 02050\, United States
CATEGORIES:pickleball
ATTACH;FMTTYPE=image/jpeg:https://pcfamilysupport.org/wp-content/uploads/2024/11/Pickleball-Oct-Dec-2024-scaled.jpg
ORGANIZER;CN="Plymouth County Family Support Inc":MAILTO:events@pcfamilysupport.org
END:VEVENT
BEGIN:VEVENT
DTSTART;TZID=America/New_York:20241223T170000
DTEND;TZID=America/New_York:20241223T180000
DTSTAMP:20260420T050813
CREATED:20241202T195425Z
LAST-MODIFIED:20241202T195425Z
UID:1611-1734973200-1734976800@pcfamilysupport.org
SUMMARY:Animation Class
DESCRIPTION:
URL:https://pcfamilysupport.org/event/animation-class-11/
LOCATION:54 Main St. #15 Lakeville\, MA 02347\, 54 Main St. #15\, Lakeville\, MA\, 02347\, United States
CATEGORIES:art class
ATTACH;FMTTYPE=image/jpeg:https://pcfamilysupport.org/wp-content/uploads/2024/12/Animation-Class-Dec-Feb-18-scaled.jpg
END:VEVENT
BEGIN:VEVENT
DTSTART;TZID=America/New_York:20241223T160000
DTEND;TZID=America/New_York:20241223T164500
DTSTAMP:20260420T050813
CREATED:20241108T013058Z
LAST-MODIFIED:20241108T013058Z
UID:1546-1734969600-1734972300@pcfamilysupport.org
SUMMARY:Children's Art Class
DESCRIPTION:
URL:https://pcfamilysupport.org/event/childrens-art-class-8/
LOCATION:155 Webster St\, Hanover 02339\, 155 Webster St\, Hanover\, 02339\, United States
CATEGORIES:art class
ATTACH;FMTTYPE=image/jpeg:https://pcfamilysupport.org/wp-content/uploads/2024/11/Arts-Rec-Children-Art-Class-Nov-Jan.jpg
ORGANIZER;CN="Plymouth County Family Support Inc":MAILTO:events@pcfamilysupport.org
END:VEVENT
BEGIN:VEVENT
DTSTART;TZID=America/New_York:20241222T140000
DTEND;TZID=America/New_York:20241222T200000
DTSTAMP:20260420T050813
CREATED:20241210T183714Z
LAST-MODIFIED:20241210T183714Z
UID:1648-1734876000-1734897600@pcfamilysupport.org
SUMMARY:Edaville’s Festival Of Lights
DESCRIPTION:
URL:https://pcfamilysupport.org/event/edavilles-festival-of-lights-2/
LOCATION:5 PINE ST. CARVER\, MA 02330\, 5 Pine Street\, Carver\, MA\, 02330\, United States
CATEGORIES:Trip
ATTACH;FMTTYPE=image/jpeg:https://pcfamilysupport.org/wp-content/uploads/2024/12/Edaville-Festival-of-Lights-Family-Passes-scaled.jpg
ORGANIZER;CN="Plymouth County Family Support Inc":MAILTO:events@pcfamilysupport.org
END:VEVENT
BEGIN:VEVENT
DTSTART;TZID=America/New_York:20241221T144500
DTEND;TZID=America/New_York:20241221T153000
DTSTAMP:20260420T050813
CREATED:20241202T192851Z
LAST-MODIFIED:20241202T192851Z
UID:1599-1734792300-1734795000@pcfamilysupport.org
SUMMARY:We Can Dance (7+)
DESCRIPTION:
URL:https://pcfamilysupport.org/event/we-can-dance-7-9/
LOCATION:116 Long Pond Rd\, Plymouth 02360\, 116 Long Pond Rd\, Plymouth\, 02360\, United States
CATEGORIES:Dance
ATTACH;FMTTYPE=image/jpeg:https://pcfamilysupport.org/wp-content/uploads/2024/11/We-Can-Dance-Nov-Dec-2024-7-scaled.jpg
ORGANIZER;CN="Plymouth County Family Support Inc":MAILTO:events@pcfamilysupport.org
END:VEVENT
BEGIN:VEVENT
DTSTART;TZID=America/New_York:20241221T140000
DTEND;TZID=America/New_York:20241221T210000
DTSTAMP:20260420T050813
CREATED:20241210T183519Z
LAST-MODIFIED:20241210T183519Z
UID:1644-1734789600-1734814800@pcfamilysupport.org
SUMMARY:Edaville’s Festival Of Lights
DESCRIPTION:
URL:https://pcfamilysupport.org/event/edavilles-festival-of-lights/
LOCATION:5 PINE ST. CARVER\, MA 02330\, 5 Pine Street\, Carver\, MA\, 02330\, United States
CATEGORIES:Trip
ATTACH;FMTTYPE=image/jpeg:https://pcfamilysupport.org/wp-content/uploads/2024/12/Edaville-Festival-of-Lights-Family-Passes-scaled.jpg
ORGANIZER;CN="Plymouth County Family Support Inc":MAILTO:events@pcfamilysupport.org
END:VEVENT
BEGIN:VEVENT
DTSTART;TZID=America/New_York:20241220T153000
DTEND;TZID=America/New_York:20241220T163000
DTSTAMP:20260420T050813
CREATED:20241203T182029Z
LAST-MODIFIED:20241203T182029Z
UID:1629-1734708600-1734712200@pcfamilysupport.org
SUMMARY:Healthy Holiday Meals
DESCRIPTION:
URL:https://pcfamilysupport.org/event/healthy-holiday-meals-2/
LOCATION:60 Union St. Middleboro 02346\, 60 Union St.\, Middleboro\, MA\, 02346\, United States
CATEGORIES:Cooking class
ATTACH;FMTTYPE=image/jpeg:https://pcfamilysupport.org/wp-content/uploads/2024/12/Healthy-Holiday-Meals-Dec-Feb-18-scaled.jpg
END:VEVENT
BEGIN:VEVENT
DTSTART;TZID=America/New_York:20241219T160000
DTEND;TZID=America/New_York:20241219T213000
DTSTAMP:20260420T050813
CREATED:20241206T194009Z
LAST-MODIFIED:20241206T194009Z
UID:1641-1734624000-1734643800@pcfamilysupport.org
SUMMARY:Polar Express Train Ride
DESCRIPTION:
URL:https://pcfamilysupport.org/event/polar-express-train-ride-2/
LOCATION:20 Shops at 5 Way Plymouth\, MA 02360\, 20 Shops at 5 Way\, Plymouth\, MA\, 02360\, United States
CATEGORIES:Trip
ATTACH;FMTTYPE=image/jpeg:https://pcfamilysupport.org/wp-content/uploads/2024/12/Polar-Express-Train-Rides-18-scaled.jpg
ORGANIZER;CN="Plymouth County Family Support Inc":MAILTO:events@pcfamilysupport.org
END:VEVENT
END:VCALENDAR