BEGIN:VCALENDAR
VERSION:2.0
PRODID:-//Plymouth County Family Support Inc. - ECPv6.15.20//NONSGML v1.0//EN
CALSCALE:GREGORIAN
METHOD:PUBLISH
X-ORIGINAL-URL:https://pcfamilysupport.org
X-WR-CALDESC:Events for Plymouth County Family Support Inc.
REFRESH-INTERVAL;VALUE=DURATION:PT1H
X-Robots-Tag:noindex
X-PUBLISHED-TTL:PT1H
BEGIN:VTIMEZONE
TZID:America/New_York
BEGIN:DAYLIGHT
TZOFFSETFROM:-0500
TZOFFSETTO:-0400
TZNAME:EDT
DTSTART:20230312T070000
END:DAYLIGHT
BEGIN:STANDARD
TZOFFSETFROM:-0400
TZOFFSETTO:-0500
TZNAME:EST
DTSTART:20231105T060000
END:STANDARD
BEGIN:DAYLIGHT
TZOFFSETFROM:-0500
TZOFFSETTO:-0400
TZNAME:EDT
DTSTART:20240310T070000
END:DAYLIGHT
BEGIN:STANDARD
TZOFFSETFROM:-0400
TZOFFSETTO:-0500
TZNAME:EST
DTSTART:20241103T060000
END:STANDARD
BEGIN:DAYLIGHT
TZOFFSETFROM:-0500
TZOFFSETTO:-0400
TZNAME:EDT
DTSTART:20250309T070000
END:DAYLIGHT
BEGIN:STANDARD
TZOFFSETFROM:-0400
TZOFFSETTO:-0500
TZNAME:EST
DTSTART:20251102T060000
END:STANDARD
END:VTIMEZONE
BEGIN:VEVENT
DTSTART;TZID=America/New_York:20241211T150000
DTEND;TZID=America/New_York:20241211T230000
DTSTAMP:20260420T112817
CREATED:20241202T193943Z
LAST-MODIFIED:20241202T193943Z
UID:1605-1733929200-1733958000@pcfamilysupport.org
SUMMARY:Hamilton
DESCRIPTION:
URL:https://pcfamilysupport.org/event/hamilton/
LOCATION:118 Long Pond Rd. Suite 205 Plymouth\, MA 02360\, 118 Long Pond Road\, Plymouth\, 02360\, United States
CATEGORIES:Trip
ATTACH;FMTTYPE=image/jpeg:https://pcfamilysupport.org/wp-content/uploads/2024/12/Hamilton-Wednesday-December-11th-18-scaled.jpg
END:VEVENT
BEGIN:VEVENT
DTSTART;TZID=America/New_York:20241210T171500
DTEND;TZID=America/New_York:20241210T180000
DTSTAMP:20260420T112817
CREATED:20241202T200024Z
LAST-MODIFIED:20241202T200024Z
UID:1617-1733850900-1733853600@pcfamilysupport.org
SUMMARY:Yoga with Melissa
DESCRIPTION:
URL:https://pcfamilysupport.org/event/yoga-with-melissa-4/
LOCATION:54 Main St. #15 Lakeville\, MA 02347\, 54 Main St. #15\, Lakeville\, MA\, 02347\, United States
CATEGORIES:yoga
ATTACH;FMTTYPE=image/jpeg:https://pcfamilysupport.org/wp-content/uploads/2024/12/Yoga-Dec-Feb-FY25-scaled.jpg
ORGANIZER;CN="Plymouth County Family Support Inc":MAILTO:events@pcfamilysupport.org
END:VEVENT
BEGIN:VEVENT
DTSTART;TZID=America/New_York:20241210T103000
DTEND;TZID=America/New_York:20241210T113000
DTSTAMP:20260420T112817
CREATED:20241202T190416Z
LAST-MODIFIED:20241202T190416Z
UID:1583-1733826600-1733830200@pcfamilysupport.org
SUMMARY:Sing Explore Create
DESCRIPTION:
URL:https://pcfamilysupport.org/event/sing-explore-create-15/
LOCATION:33 Rockland St Hanover 02339\, 33 Rockland St\, Hanover\, 02339\, United States
CATEGORIES:Music/Creative Arts/Wellness
ATTACH;FMTTYPE=image/jpeg:https://pcfamilysupport.org/wp-content/uploads/2024/11/SEC-Adult-Music-Class-Fall-Flyer-FY25-scaled.jpg
ORGANIZER;CN="Plymouth County Family Support Inc":MAILTO:events@pcfamilysupport.org
END:VEVENT
BEGIN:VEVENT
DTSTART;TZID=America/New_York:20241210T090000
DTEND;TZID=America/New_York:20241210T100000
DTSTAMP:20260420T112817
CREATED:20241202T184843Z
LAST-MODIFIED:20241202T184843Z
UID:1575-1733821200-1733824800@pcfamilysupport.org
SUMMARY:Pickleball
DESCRIPTION:
URL:https://pcfamilysupport.org/event/pickleball-12/
LOCATION:Boys and Girls Club of Marshfield\, 37 Proprietors Drive\, Marshfield\, MA\, 02050\, United States
CATEGORIES:pickleball
ATTACH;FMTTYPE=image/jpeg:https://pcfamilysupport.org/wp-content/uploads/2024/11/Pickleball-Oct-Dec-2024-scaled.jpg
ORGANIZER;CN="Plymouth County Family Support Inc":MAILTO:events@pcfamilysupport.org
END:VEVENT
BEGIN:VEVENT
DTSTART;TZID=America/New_York:20241209T160000
DTEND;TZID=America/New_York:20241209T164500
DTSTAMP:20260420T112817
CREATED:20241108T012821Z
LAST-MODIFIED:20241108T012821Z
UID:1542-1733760000-1733762700@pcfamilysupport.org
SUMMARY:Children's Art Class
DESCRIPTION:
URL:https://pcfamilysupport.org/event/childrens-art-class-6/
LOCATION:155 Webster St\, Hanover 02339\, 155 Webster St\, Hanover\, 02339\, United States
CATEGORIES:art class
ATTACH;FMTTYPE=image/jpeg:https://pcfamilysupport.org/wp-content/uploads/2024/11/Arts-Rec-Children-Art-Class-Nov-Jan.jpg
ORGANIZER;CN="Plymouth County Family Support Inc":MAILTO:events@pcfamilysupport.org
END:VEVENT
BEGIN:VEVENT
DTSTART;TZID=America/New_York:20241207T170000
DTEND;TZID=America/New_York:20241207T213000
DTSTAMP:20260420T112817
CREATED:20241202T193141Z
LAST-MODIFIED:20241202T193141Z
UID:1601-1733590800-1733607000@pcfamilysupport.org
SUMMARY:A Christmas Carol
DESCRIPTION:
URL:https://pcfamilysupport.org/event/a-christmas-carol/
LOCATION:111 Pond St. Norwell\, MA 02061\, 111 Pond Street\, Norwell\, MA\, 02061\, United States
CATEGORIES:Trip
ATTACH;FMTTYPE=image/jpeg:https://pcfamilysupport.org/wp-content/uploads/2024/12/A-Christmas-Carol-Saturday-December-7th-scaled.jpg
END:VEVENT
BEGIN:VEVENT
DTSTART;TZID=America/New_York:20241207T150000
DTEND;TZID=America/New_York:20241207T170000
DTSTAMP:20260420T112817
CREATED:20241202T191946Z
LAST-MODIFIED:20241202T191946Z
UID:1592-1733583600-1733590800@pcfamilysupport.org
SUMMARY:Sesame Street Live
DESCRIPTION:
URL:https://pcfamilysupport.org/event/sesame-street-live/
LOCATION:1 Avenue Of The Arts\, Providence\, RI 02903\, 1 Avenue Of The Arts\,\, Providence\, MA\, 02903\, United States
CATEGORIES:Trip
ATTACH;FMTTYPE=image/jpeg:https://pcfamilysupport.org/wp-content/uploads/2024/12/Family-Passes-to-Sesame-St-Live-Saturday-December-7th-scaled.jpg
END:VEVENT
BEGIN:VEVENT
DTSTART;TZID=America/New_York:20241207T144500
DTEND;TZID=America/New_York:20241207T153000
DTSTAMP:20260420T112817
CREATED:20241102T192217Z
LAST-MODIFIED:20241202T192744Z
UID:1501-1733582700-1733585400@pcfamilysupport.org
SUMMARY:We Can Dance (7+)
DESCRIPTION:
URL:https://pcfamilysupport.org/event/we-can-dance-7-5/
LOCATION:116 Long Pond Rd\, Plymouth 02360\, 116 Long Pond Rd\, Plymouth\, 02360\, United States
CATEGORIES:Dance
ATTACH;FMTTYPE=image/jpeg:https://pcfamilysupport.org/wp-content/uploads/2024/11/We-Can-Dance-Nov-Dec-2024-7-scaled.jpg
ORGANIZER;CN="Plymouth County Family Support Inc":MAILTO:events@pcfamilysupport.org
END:VEVENT
BEGIN:VEVENT
DTSTART;TZID=America/New_York:20241206T153000
DTEND;TZID=America/New_York:20241206T163000
DTSTAMP:20260420T112817
CREATED:20241203T181820Z
LAST-MODIFIED:20241203T181820Z
UID:1627-1733499000-1733502600@pcfamilysupport.org
SUMMARY:Healthy Holiday Meals
DESCRIPTION:
URL:https://pcfamilysupport.org/event/healthy-holiday-meals/
LOCATION:60 Union St. Middleboro 02346\, 60 Union St.\, Middleboro\, MA\, 02346\, United States
CATEGORIES:Cooking class
ATTACH;FMTTYPE=image/jpeg:https://pcfamilysupport.org/wp-content/uploads/2024/12/Healthy-Holiday-Meals-Dec-Feb-18-scaled.jpg
END:VEVENT
BEGIN:VEVENT
DTSTART;TZID=America/New_York:20241205T180000
DTEND;TZID=America/New_York:20241205T200000
DTSTAMP:20260420T112817
CREATED:20241202T191408Z
LAST-MODIFIED:20241202T191408Z
UID:1589-1733421600-1733428800@pcfamilysupport.org
SUMMARY:Holiday Dance
DESCRIPTION:
URL:https://pcfamilysupport.org/event/holiday-dance/
LOCATION:AMERICAN LEGION POST #40 199 FEDERAL FURNACE RD. PLYMOUTH\, MA 02360\, 199 FEDERAL FURNACE RD.\, Plymouth\, MA\, 02360\, United States
CATEGORIES:Dance
ATTACH;FMTTYPE=image/jpeg:https://pcfamilysupport.org/wp-content/uploads/2024/12/Holiday-Dance-Thursday-December-5th-2024-scaled.jpg
ORGANIZER;CN="Plymouth County Family Support Inc":MAILTO:events@pcfamilysupport.org
END:VEVENT
BEGIN:VEVENT
DTSTART;TZID=America/New_York:20241204T170000
DTEND;TZID=America/New_York:20241204T180000
DTSTAMP:20260420T112817
CREATED:20241203T181133Z
LAST-MODIFIED:20241203T181133Z
UID:1621-1733331600-1733335200@pcfamilysupport.org
SUMMARY:Painting Class
DESCRIPTION:
URL:https://pcfamilysupport.org/event/painting-class-13/
LOCATION:54 Main St. #15 Lakeville\, MA 02347\, 54 Main St. #15\, Lakeville\, MA\, 02347\, United States
CATEGORIES:art class
ATTACH;FMTTYPE=image/jpeg:https://pcfamilysupport.org/wp-content/uploads/2024/12/Painting-Class-Dec-Feb-18-scaled.jpg
ORGANIZER;CN="Plymouth County Family Support Inc":MAILTO:events@pcfamilysupport.org
END:VEVENT
BEGIN:VEVENT
DTSTART;TZID=America/New_York:20241203T171500
DTEND;TZID=America/New_York:20241203T180000
DTSTAMP:20260420T112817
CREATED:20241202T195903Z
LAST-MODIFIED:20241202T195903Z
UID:1615-1733246100-1733248800@pcfamilysupport.org
SUMMARY:Yoga with Melissa
DESCRIPTION:
URL:https://pcfamilysupport.org/event/yoga-with-melissa-3/
LOCATION:54 Main St. #15 Lakeville\, MA 02347\, 54 Main St. #15\, Lakeville\, MA\, 02347\, United States
CATEGORIES:yoga
ATTACH;FMTTYPE=image/jpeg:https://pcfamilysupport.org/wp-content/uploads/2024/12/Yoga-Dec-Feb-FY25-scaled.jpg
ORGANIZER;CN="Plymouth County Family Support Inc":MAILTO:events@pcfamilysupport.org
END:VEVENT
BEGIN:VEVENT
DTSTART;TZID=America/New_York:20241203T103000
DTEND;TZID=America/New_York:20241203T113000
DTSTAMP:20260420T112817
CREATED:20241104T200839Z
LAST-MODIFIED:20241104T200839Z
UID:1492-1733221800-1733225400@pcfamilysupport.org
SUMMARY:Sing Explore Create
DESCRIPTION:
URL:https://pcfamilysupport.org/event/sing-explore-create-14/
LOCATION:33 Rockland St Hanover 02339\, 33 Rockland St\, Hanover\, 02339\, United States
CATEGORIES:Music/Creative Arts/Wellness
ATTACH;FMTTYPE=image/jpeg:https://pcfamilysupport.org/wp-content/uploads/2024/11/SEC-Adult-Music-Class-Fall-Flyer-FY25-scaled.jpg
ORGANIZER;CN="Plymouth County Family Support Inc":MAILTO:events@pcfamilysupport.org
END:VEVENT
BEGIN:VEVENT
DTSTART;TZID=America/New_York:20241203T090000
DTEND;TZID=America/New_York:20241203T100000
DTSTAMP:20260420T112817
CREATED:20241104T203128Z
LAST-MODIFIED:20241202T184632Z
UID:1516-1733216400-1733220000@pcfamilysupport.org
SUMMARY:Pickleball
DESCRIPTION:
URL:https://pcfamilysupport.org/event/pickleball-11/
LOCATION:Boys and Girls Club of Marshfield\, 37 Proprietors Drive\, Marshfield\, MA\, 02050\, United States
CATEGORIES:pickleball
ATTACH;FMTTYPE=image/jpeg:https://pcfamilysupport.org/wp-content/uploads/2024/11/Pickleball-Oct-Dec-2024-scaled.jpg
ORGANIZER;CN="Plymouth County Family Support Inc":MAILTO:events@pcfamilysupport.org
END:VEVENT
BEGIN:VEVENT
DTSTART;TZID=America/New_York:20241202T170000
DTEND;TZID=America/New_York:20241202T180000
DTSTAMP:20260420T112817
CREATED:20241202T195159Z
LAST-MODIFIED:20241202T195159Z
UID:1607-1733158800-1733162400@pcfamilysupport.org
SUMMARY:Animation Class
DESCRIPTION:
URL:https://pcfamilysupport.org/event/animation-class-9/
LOCATION:54 Main St. #15 Lakeville\, MA 02347\, 54 Main St. #15\, Lakeville\, MA\, 02347\, United States
CATEGORIES:art class
ATTACH;FMTTYPE=image/jpeg:https://pcfamilysupport.org/wp-content/uploads/2024/12/Animation-Class-Dec-Feb-18-scaled.jpg
END:VEVENT
BEGIN:VEVENT
DTSTART;TZID=America/New_York:20241202T160000
DTEND;TZID=America/New_York:20241202T164500
DTSTAMP:20260420T112817
CREATED:20241108T012716Z
LAST-MODIFIED:20241108T012716Z
UID:1540-1733155200-1733157900@pcfamilysupport.org
SUMMARY:Children's Art Class
DESCRIPTION:
URL:https://pcfamilysupport.org/event/childrens-art-class-5/
LOCATION:155 Webster St\, Hanover 02339\, 155 Webster St\, Hanover\, 02339\, United States
CATEGORIES:art class
ATTACH;FMTTYPE=image/jpeg:https://pcfamilysupport.org/wp-content/uploads/2024/11/Arts-Rec-Children-Art-Class-Nov-Jan.jpg
ORGANIZER;CN="Plymouth County Family Support Inc":MAILTO:events@pcfamilysupport.org
END:VEVENT
BEGIN:VEVENT
DTSTART;TZID=America/New_York:20241126T170000
DTEND;TZID=America/New_York:20241126T183000
DTSTAMP:20260420T112817
CREATED:20241119T193137Z
LAST-MODIFIED:20241119T193137Z
UID:1555-1732640400-1732645800@pcfamilysupport.org
SUMMARY:THANKSGIVING BINGO NIGHT
DESCRIPTION:
URL:https://pcfamilysupport.org/event/thanksgiving-bingo-night/
LOCATION:132 SOUTH ST. PLYMOUTH\, MA 02360\, 132 South Street\, Plymouth\, MA\, 02360\, United States
CATEGORIES:Game Night
ATTACH;FMTTYPE=image/jpeg:https://pcfamilysupport.org/wp-content/uploads/2024/11/Thanksgiving-Bingo-Tuesday-November-26th-scaled.jpg
ORGANIZER;CN="Plymouth County Family Support Inc":MAILTO:events@pcfamilysupport.org
END:VEVENT
BEGIN:VEVENT
DTSTART;TZID=America/New_York:20241126T103000
DTEND;TZID=America/New_York:20241126T113000
DTSTAMP:20260420T112817
CREATED:20241104T200813Z
LAST-MODIFIED:20241104T200813Z
UID:1490-1732617000-1732620600@pcfamilysupport.org
SUMMARY:Sing Explore Create
DESCRIPTION:
URL:https://pcfamilysupport.org/event/sing-explore-create-13/
LOCATION:33 Rockland St Hanover 02339\, 33 Rockland St\, Hanover\, 02339\, United States
CATEGORIES:Music/Creative Arts/Wellness
ATTACH;FMTTYPE=image/jpeg:https://pcfamilysupport.org/wp-content/uploads/2024/11/SEC-Adult-Music-Class-Fall-Flyer-FY25-scaled.jpg
ORGANIZER;CN="Plymouth County Family Support Inc":MAILTO:events@pcfamilysupport.org
END:VEVENT
BEGIN:VEVENT
DTSTART;TZID=America/New_York:20241126T090000
DTEND;TZID=America/New_York:20241126T100000
DTSTAMP:20260420T112817
CREATED:20241104T203105Z
LAST-MODIFIED:20241104T203105Z
UID:1514-1732611600-1732615200@pcfamilysupport.org
SUMMARY:Pickleball
DESCRIPTION:
URL:https://pcfamilysupport.org/event/pickleball-10/
LOCATION:Boys and Girls Club of Marshfield\, 37 Proprietors Drive\, Marshfield\, MA\, 02050\, United States
CATEGORIES:pickleball
ATTACH;FMTTYPE=image/jpeg:https://pcfamilysupport.org/wp-content/uploads/2024/11/Pickleball-Oct-Dec-2024-scaled.jpg
ORGANIZER;CN="Plymouth County Family Support Inc":MAILTO:events@pcfamilysupport.org
END:VEVENT
BEGIN:VEVENT
DTSTART;TZID=America/New_York:20241125T170000
DTEND;TZID=America/New_York:20241125T180000
DTSTAMP:20260420T112817
CREATED:20241104T195930Z
LAST-MODIFIED:20241104T195930Z
UID:1482-1732554000-1732557600@pcfamilysupport.org
SUMMARY:Animation Class
DESCRIPTION:
URL:https://pcfamilysupport.org/event/animation-class-8/
LOCATION:54 Main St. #15 Lakeville\, MA 02347\, 54 Main St. #15\, Lakeville\, MA\, 02347\, United States
CATEGORIES:art class
ATTACH;FMTTYPE=image/jpeg:https://pcfamilysupport.org/wp-content/uploads/2024/11/Animation-Class-Sept-Nov-18-scaled.jpg
END:VEVENT
BEGIN:VEVENT
DTSTART;TZID=America/New_York:20241125T160000
DTEND;TZID=America/New_York:20241125T164500
DTSTAMP:20260420T112817
CREATED:20241108T012550Z
LAST-MODIFIED:20241108T012550Z
UID:1538-1732550400-1732553100@pcfamilysupport.org
SUMMARY:Children's Art Class
DESCRIPTION:
URL:https://pcfamilysupport.org/event/childrens-art-class-4/
LOCATION:155 Webster St\, Hanover 02339\, 155 Webster St\, Hanover\, 02339\, United States
CATEGORIES:art class
ATTACH;FMTTYPE=image/jpeg:https://pcfamilysupport.org/wp-content/uploads/2024/11/Arts-Rec-Children-Art-Class-Nov-Jan.jpg
ORGANIZER;CN="Plymouth County Family Support Inc":MAILTO:events@pcfamilysupport.org
END:VEVENT
BEGIN:VEVENT
DTSTART;TZID=America/New_York:20241124T120000
DTEND;TZID=America/New_York:20241124T150000
DTSTAMP:20260420T112817
CREATED:20241119T194029Z
LAST-MODIFIED:20241119T194029Z
UID:1559-1732449600-1732460400@pcfamilysupport.org
SUMMARY:Wicked Movie Screening
DESCRIPTION:
URL:https://pcfamilysupport.org/event/wicked-movie-screening/
LOCATION:101 Kingston Collection Way Kingston\, MA 02364\, 101 Kingston Collection Way\, Kingston\, MA\, 02364\, United States
ATTACH;FMTTYPE=image/jpeg:https://pcfamilysupport.org/wp-content/uploads/2024/11/Wicked-Movie-Sunday-November-24th-scaled.jpg
ORGANIZER;CN="Plymouth County Family Support Inc":MAILTO:events@pcfamilysupport.org
END:VEVENT
BEGIN:VEVENT
DTSTART;TZID=America/New_York:20241123T144500
DTEND;TZID=America/New_York:20241123T153000
DTSTAMP:20260420T112817
CREATED:20241104T202437Z
LAST-MODIFIED:20241104T202437Z
UID:1505-1732373100-1732375800@pcfamilysupport.org
SUMMARY:We Can Dance (7+)
DESCRIPTION:
URL:https://pcfamilysupport.org/event/we-can-dance-7-7/
LOCATION:116 Long Pond Rd\, Plymouth 02360\, 116 Long Pond Rd\, Plymouth\, 02360\, United States
CATEGORIES:Dance
ATTACH;FMTTYPE=image/jpeg:https://pcfamilysupport.org/wp-content/uploads/2024/11/We-Can-Dance-Nov-Dec-2024-7-scaled.jpg
ORGANIZER;CN="Plymouth County Family Support Inc":MAILTO:events@pcfamilysupport.org
END:VEVENT
BEGIN:VEVENT
DTSTART;TZID=America/New_York:20241122T153000
DTEND;TZID=America/New_York:20241122T163000
DTSTAMP:20260420T112817
CREATED:20241104T195649Z
LAST-MODIFIED:20241104T195649Z
UID:1474-1732289400-1732293000@pcfamilysupport.org
SUMMARY:Healthy Fall Cooking Class
DESCRIPTION:
URL:https://pcfamilysupport.org/event/healthy-fall-cooking-class-8/
LOCATION:60 Union St. Middleboro 02346\, 60 Union St.\, Middleboro\, MA\, 02346\, United States
CATEGORIES:Cooking class
ATTACH;FMTTYPE=image/jpeg:https://pcfamilysupport.org/wp-content/uploads/2024/11/Healthy-Fall-Cooking-Class-18-scaled.jpg
END:VEVENT
BEGIN:VEVENT
DTSTART;TZID=America/New_York:20241121T180000
DTEND;TZID=America/New_York:20241121T200000
DTSTAMP:20260420T112817
CREATED:20241104T205056Z
LAST-MODIFIED:20241104T205056Z
UID:1528-1732212000-1732219200@pcfamilysupport.org
SUMMARY:Fall Harvest Dance
DESCRIPTION:
URL:https://pcfamilysupport.org/event/fall-harvest-dance/
LOCATION:Crosswinds Golf Club\, 424 Long Pond Rd\, Plymouth\, MA\, 02360\, United States
CATEGORIES:Dance
ATTACH;FMTTYPE=image/jpeg:https://pcfamilysupport.org/wp-content/uploads/2024/11/Fall-Harvest-Dance-Thursday-November-21st-18-scaled.jpg
ORGANIZER;CN="Plymouth County Family Support Inc":MAILTO:events@pcfamilysupport.org
END:VEVENT
BEGIN:VEVENT
DTSTART;TZID=America/New_York:20241119T103000
DTEND;TZID=America/New_York:20241119T113000
DTSTAMP:20260420T112817
CREATED:20241104T200736Z
LAST-MODIFIED:20241104T200736Z
UID:1488-1732012200-1732015800@pcfamilysupport.org
SUMMARY:Sing Explore Create
DESCRIPTION:
URL:https://pcfamilysupport.org/event/sing-explore-create-12/
LOCATION:33 Rockland St Hanover 02339\, 33 Rockland St\, Hanover\, 02339\, United States
CATEGORIES:Music/Creative Arts/Wellness
ATTACH;FMTTYPE=image/jpeg:https://pcfamilysupport.org/wp-content/uploads/2024/11/SEC-Adult-Music-Class-Fall-Flyer-FY25-scaled.jpg
ORGANIZER;CN="Plymouth County Family Support Inc":MAILTO:events@pcfamilysupport.org
END:VEVENT
BEGIN:VEVENT
DTSTART;TZID=America/New_York:20241119T090000
DTEND;TZID=America/New_York:20241119T100000
DTSTAMP:20260420T112817
CREATED:20241104T203034Z
LAST-MODIFIED:20241104T203034Z
UID:1512-1732006800-1732010400@pcfamilysupport.org
SUMMARY:Pickleball
DESCRIPTION:
URL:https://pcfamilysupport.org/event/pickleball-9/
LOCATION:Boys and Girls Club of Marshfield\, 37 Proprietors Drive\, Marshfield\, MA\, 02050\, United States
CATEGORIES:pickleball
ATTACH;FMTTYPE=image/jpeg:https://pcfamilysupport.org/wp-content/uploads/2024/11/Pickleball-Oct-Dec-2024-scaled.jpg
ORGANIZER;CN="Plymouth County Family Support Inc":MAILTO:events@pcfamilysupport.org
END:VEVENT
BEGIN:VEVENT
DTSTART;TZID=America/New_York:20241118T170000
DTEND;TZID=America/New_York:20241118T180000
DTSTAMP:20260420T112817
CREATED:20241104T195859Z
LAST-MODIFIED:20241104T195859Z
UID:1480-1731949200-1731952800@pcfamilysupport.org
SUMMARY:Animation Class
DESCRIPTION:
URL:https://pcfamilysupport.org/event/animation-class-7/
LOCATION:54 Main St. #15 Lakeville\, MA 02347\, 54 Main St. #15\, Lakeville\, MA\, 02347\, United States
CATEGORIES:art class
ATTACH;FMTTYPE=image/jpeg:https://pcfamilysupport.org/wp-content/uploads/2024/11/Animation-Class-Sept-Nov-18-scaled.jpg
END:VEVENT
BEGIN:VEVENT
DTSTART;TZID=America/New_York:20241117T120000
DTEND;TZID=America/New_York:20241117T170000
DTSTAMP:20260420T112817
CREATED:20241104T204812Z
LAST-MODIFIED:20241104T204812Z
UID:1524-1731844800-1731862800@pcfamilysupport.org
SUMMARY:Harry Potter Exhibit
DESCRIPTION:
URL:https://pcfamilysupport.org/event/harry-potter-exhibit/
CATEGORIES:Trip
ATTACH;FMTTYPE=image/jpeg:https://pcfamilysupport.org/wp-content/uploads/2024/11/Harry-Potter-Exhibit-Sunday-November-17th-18-scaled.jpg
ORGANIZER;CN="Plymouth County Family Support Inc":MAILTO:events@pcfamilysupport.org
END:VEVENT
BEGIN:VEVENT
DTSTART;TZID=America/New_York:20241116T144500
DTEND;TZID=America/New_York:20241116T153000
DTSTAMP:20260420T112817
CREATED:20241104T202411Z
LAST-MODIFIED:20241104T202411Z
UID:1503-1731768300-1731771000@pcfamilysupport.org
SUMMARY:We Can Dance (7+)
DESCRIPTION:
URL:https://pcfamilysupport.org/event/we-can-dance-7-6/
LOCATION:116 Long Pond Rd\, Plymouth 02360\, 116 Long Pond Rd\, Plymouth\, 02360\, United States
CATEGORIES:Dance
ATTACH;FMTTYPE=image/jpeg:https://pcfamilysupport.org/wp-content/uploads/2024/11/We-Can-Dance-Nov-Dec-2024-7-scaled.jpg
ORGANIZER;CN="Plymouth County Family Support Inc":MAILTO:events@pcfamilysupport.org
END:VEVENT
END:VCALENDAR