BEGIN:VCALENDAR
VERSION:2.0
PRODID:-//Plymouth County Family Support Inc. - ECPv6.15.20//NONSGML v1.0//EN
CALSCALE:GREGORIAN
METHOD:PUBLISH
X-WR-CALNAME:Plymouth County Family Support Inc.
X-ORIGINAL-URL:https://pcfamilysupport.org
X-WR-CALDESC:Events for Plymouth County Family Support Inc.
REFRESH-INTERVAL;VALUE=DURATION:PT1H
X-Robots-Tag:noindex
X-PUBLISHED-TTL:PT1H
BEGIN:VTIMEZONE
TZID:America/New_York
BEGIN:DAYLIGHT
TZOFFSETFROM:-0500
TZOFFSETTO:-0400
TZNAME:EDT
DTSTART:20230312T070000
END:DAYLIGHT
BEGIN:STANDARD
TZOFFSETFROM:-0400
TZOFFSETTO:-0500
TZNAME:EST
DTSTART:20231105T060000
END:STANDARD
BEGIN:DAYLIGHT
TZOFFSETFROM:-0500
TZOFFSETTO:-0400
TZNAME:EDT
DTSTART:20240310T070000
END:DAYLIGHT
BEGIN:STANDARD
TZOFFSETFROM:-0400
TZOFFSETTO:-0500
TZNAME:EST
DTSTART:20241103T060000
END:STANDARD
BEGIN:DAYLIGHT
TZOFFSETFROM:-0500
TZOFFSETTO:-0400
TZNAME:EDT
DTSTART:20250309T070000
END:DAYLIGHT
BEGIN:STANDARD
TZOFFSETFROM:-0400
TZOFFSETTO:-0500
TZNAME:EST
DTSTART:20251102T060000
END:STANDARD
END:VTIMEZONE
BEGIN:VEVENT
DTSTART;TZID=America/New_York:20241105T090000
DTEND;TZID=America/New_York:20241105T100000
DTSTAMP:20260420T183242
CREATED:20241104T202936Z
LAST-MODIFIED:20241104T202936Z
UID:1507-1730797200-1730800800@pcfamilysupport.org
SUMMARY:Pickleball
DESCRIPTION:
URL:https://pcfamilysupport.org/event/pickleball-7/
LOCATION:Boys and Girls Club of Marshfield\, 37 Proprietors Drive\, Marshfield\, MA\, 02050\, United States
CATEGORIES:pickleball
ATTACH;FMTTYPE=image/jpeg:https://pcfamilysupport.org/wp-content/uploads/2024/11/Pickleball-Oct-Dec-2024-scaled.jpg
ORGANIZER;CN="Plymouth County Family Support Inc":MAILTO:events@pcfamilysupport.org
END:VEVENT
BEGIN:VEVENT
DTSTART;TZID=America/New_York:20241104T170000
DTEND;TZID=America/New_York:20241104T180000
DTSTAMP:20260420T183242
CREATED:20241001T165008Z
LAST-MODIFIED:20241104T195742Z
UID:1418-1730739600-1730743200@pcfamilysupport.org
SUMMARY:Animation Class
DESCRIPTION:
URL:https://pcfamilysupport.org/event/animation-class-5/
LOCATION:54 Main St. #15 Lakeville\, MA 02347\, 54 Main St. #15\, Lakeville\, MA\, 02347\, United States
CATEGORIES:art class
ATTACH;FMTTYPE=image/jpeg:https://pcfamilysupport.org/wp-content/uploads/2024/11/Animation-Class-Sept-Nov-18-scaled.jpg
END:VEVENT
BEGIN:VEVENT
DTSTART;TZID=America/New_York:20241101T153000
DTEND;TZID=America/New_York:20241101T163000
DTSTAMP:20260420T183242
CREATED:20241001T164405Z
LAST-MODIFIED:20241104T195543Z
UID:1412-1730475000-1730478600@pcfamilysupport.org
SUMMARY:Healthy Fall Cooking Class
DESCRIPTION:
URL:https://pcfamilysupport.org/event/healthy-fall-cooking-class-6/
LOCATION:60 Union St. Middleboro 02346\, 60 Union St.\, Middleboro\, MA\, 02346\, United States
CATEGORIES:Cooking class
ATTACH;FMTTYPE=image/jpeg:https://pcfamilysupport.org/wp-content/uploads/2024/11/Healthy-Fall-Cooking-Class-18-scaled.jpg
END:VEVENT
BEGIN:VEVENT
DTSTART;TZID=America/New_York:20241031T103000
DTEND;TZID=America/New_York:20241031T120000
DTSTAMP:20260420T183242
CREATED:20241001T171018Z
LAST-MODIFIED:20241001T171018Z
UID:1431-1730370600-1730376000@pcfamilysupport.org
SUMMARY:Golf Club
DESCRIPTION:
URL:https://pcfamilysupport.org/event/golf-club-2/
LOCATION:624 Webster Street\, Marshfield\, MA 02050\, 624 Webster Street\, Marshfield\, MA\, 02050\, United States
CATEGORIES:Trip
ATTACH;FMTTYPE=image/jpeg:https://pcfamilysupport.org/wp-content/uploads/2024/10/Golf-Club-@-Green-Harbor-Driving-Range-scaled.jpg
ORGANIZER;CN="Plymouth County Family Support Inc":MAILTO:events@pcfamilysupport.org
END:VEVENT
BEGIN:VEVENT
DTSTART;TZID=America/New_York:20241030T170000
DTEND;TZID=America/New_York:20241030T180000
DTSTAMP:20260420T183242
CREATED:20241001T154819Z
LAST-MODIFIED:20241001T154819Z
UID:1383-1730307600-1730311200@pcfamilysupport.org
SUMMARY:Painting Class
DESCRIPTION:
URL:https://pcfamilysupport.org/event/painting-class-11/
LOCATION:54 Main St. #15 Lakeville\, MA 02347\, 54 Main St. #15\, Lakeville\, MA\, 02347\, United States
CATEGORIES:art class
ATTACH;FMTTYPE=image/jpeg:https://pcfamilysupport.org/wp-content/uploads/2024/09/Painting-Class-September-November-18-scaled.jpg
ORGANIZER;CN="Plymouth County Family Support Inc":MAILTO:events@pcfamilysupport.org
END:VEVENT
BEGIN:VEVENT
DTSTART;TZID=America/New_York:20241029T103000
DTEND;TZID=America/New_York:20241029T113000
DTSTAMP:20260420T183242
CREATED:20241001T153338Z
LAST-MODIFIED:20241001T153338Z
UID:1373-1730197800-1730201400@pcfamilysupport.org
SUMMARY:Sing Explore Create
DESCRIPTION:
URL:https://pcfamilysupport.org/event/sing-explore-create-9/
LOCATION:33 Rockland St Hanover 02339\, 33 Rockland St\, Hanover\, 02339\, United States
CATEGORIES:Music/Creative Arts/Wellness
ATTACH;FMTTYPE=image/png:https://pcfamilysupport.org/wp-content/uploads/2024/08/SEC-Adult-Music-Class-Fall-Flyer-FY25.png
ORGANIZER;CN="Plymouth County Family Support Inc":MAILTO:events@pcfamilysupport.org
END:VEVENT
BEGIN:VEVENT
DTSTART;VALUE=DATE:20241029
DTEND;VALUE=DATE:20241030
DTSTAMP:20260420T183242
CREATED:20241001T151416Z
LAST-MODIFIED:20241001T151416Z
UID:1365-1730160000-1730246399@pcfamilysupport.org
SUMMARY:IEP Framework Workshop
DESCRIPTION:
URL:https://pcfamilysupport.org/event/iep-framework-workshop-7/
CATEGORIES:Informational Session
ATTACH;FMTTYPE=image/png:https://pcfamilysupport.org/wp-content/uploads/2024/09/IEP-workshop.png
ORGANIZER;CN="Plymouth County Family Support Inc":MAILTO:events@pcfamilysupport.org
END:VEVENT
BEGIN:VEVENT
DTSTART;TZID=America/New_York:20241028T170000
DTEND;TZID=America/New_York:20241028T183000
DTSTAMP:20260420T183242
CREATED:20241004T185215Z
LAST-MODIFIED:20241004T185215Z
UID:1453-1730134800-1730140200@pcfamilysupport.org
SUMMARY:Halloween Game Night
DESCRIPTION:
URL:https://pcfamilysupport.org/event/halloween-game-night/
LOCATION:132 SOUTH ST. PLYMOUTH\, MA 02360\, 132 South Street\, Plymouth\, MA\, 02360\, United States
CATEGORIES:Game Night
ATTACH;FMTTYPE=image/png:https://pcfamilysupport.org/wp-content/uploads/2024/10/Halloween-Bingo-Night-Mon.-Oct-28.png
END:VEVENT
BEGIN:VEVENT
DTSTART;TZID=America/New_York:20241026T170000
DTEND;TZID=America/New_York:20241026T200000
DTSTAMP:20260420T183242
CREATED:20241001T170527Z
LAST-MODIFIED:20241001T170527Z
UID:1427-1729962000-1729972800@pcfamilysupport.org
SUMMARY:Wine Tasting Fundraiser
DESCRIPTION:
URL:https://pcfamilysupport.org/event/wine-tasting-fundraiser/
LOCATION:83 Court St\, Plymouth\, MA 02360\, 83 Court St\, Plymouth\, MA\, 02360\, United States
CATEGORIES:Trip
ATTACH;FMTTYPE=image/jpeg:https://pcfamilysupport.org/wp-content/uploads/2024/10/Wine-Tasting-Event-Flyer-1-scaled.jpg
ORGANIZER;CN="Plymouth County Family Support Inc":MAILTO:events@pcfamilysupport.org
END:VEVENT
BEGIN:VEVENT
DTSTART;TZID=America/New_York:20241024T180000
DTEND;TZID=America/New_York:20241024T200000
DTSTAMP:20260420T183242
CREATED:20241004T185000Z
LAST-MODIFIED:20241004T185000Z
UID:1451-1729792800-1729800000@pcfamilysupport.org
SUMMARY:Halloween Dance
DESCRIPTION:
URL:https://pcfamilysupport.org/event/halloween-dance/
LOCATION:424 Long Pond Rd. Plymouth\, MA 02360\, 424 Long Pond Rd.\, Plymouth\, MA\, 02360\, United States
CATEGORIES:Dance
ATTACH;FMTTYPE=image/png:https://pcfamilysupport.org/wp-content/uploads/2024/10/Halloween-Dance-October-24-2024.png
ORGANIZER;CN="Plymouth County Family Support Inc":MAILTO:events@pcfamilysupport.org
END:VEVENT
BEGIN:VEVENT
DTSTART;TZID=America/New_York:20241023T173000
DTEND;TZID=America/New_York:20241023T190000
DTSTAMP:20260420T183242
CREATED:20241001T161555Z
LAST-MODIFIED:20241001T161555Z
UID:1399-1729704600-1729710000@pcfamilysupport.org
SUMMARY:Transition Informational Sessions With Anne Williams
DESCRIPTION:
URL:https://pcfamilysupport.org/event/transition-informational-sessions-with-anne-williams-12/
LOCATION:118 Long Pond Rd. Suite 205 Plymouth\, MA 02360\, 118 Long Pond Road\, Plymouth\, 02360\, United States
CATEGORIES:Informational Session
ATTACH;FMTTYPE=image/jpeg:https://pcfamilysupport.org/wp-content/uploads/2024/09/Transition-series-2025-Sept-Oct-scaled.jpg
ORGANIZER;CN="Plymouth County Family Support Inc":MAILTO:events@pcfamilysupport.org
END:VEVENT
BEGIN:VEVENT
DTSTART;TZID=America/New_York:20241023T170000
DTEND;TZID=America/New_York:20241023T183000
DTSTAMP:20260420T183242
CREATED:20241004T184810Z
LAST-MODIFIED:20241004T184810Z
UID:1448-1729702800-1729708200@pcfamilysupport.org
SUMMARY:Hanover Game Night
DESCRIPTION:
URL:https://pcfamilysupport.org/event/hanover-game-night/
LOCATION:John Curtis Free Library\, 534 Hanover Street\, Hanover\, MA\, 02339\, United States
CATEGORIES:Game Night
ATTACH;FMTTYPE=image/png:https://pcfamilysupport.org/wp-content/uploads/2024/10/Hanover-Game-Night-Wednesday-October-23.png
ORGANIZER;CN="Plymouth County Family Support Inc":MAILTO:events@pcfamilysupport.org
END:VEVENT
BEGIN:VEVENT
DTSTART;TZID=America/New_York:20241023T170000
DTEND;TZID=America/New_York:20241023T180000
DTSTAMP:20260420T183242
CREATED:20241001T154644Z
LAST-MODIFIED:20241001T154644Z
UID:1381-1729702800-1729706400@pcfamilysupport.org
SUMMARY:Painting Class
DESCRIPTION:
URL:https://pcfamilysupport.org/event/painting-class-10/
LOCATION:54 Main St. #15 Lakeville\, MA 02347\, 54 Main St. #15\, Lakeville\, MA\, 02347\, United States
CATEGORIES:art class
ATTACH;FMTTYPE=image/jpeg:https://pcfamilysupport.org/wp-content/uploads/2024/09/Painting-Class-September-November-18-scaled.jpg
ORGANIZER;CN="Plymouth County Family Support Inc":MAILTO:events@pcfamilysupport.org
END:VEVENT
BEGIN:VEVENT
DTSTART;TZID=America/New_York:20241023T100000
DTEND;TZID=America/New_York:20241023T113000
DTSTAMP:20260420T183242
CREATED:20241001T160920Z
LAST-MODIFIED:20241001T160920Z
UID:1397-1729677600-1729683000@pcfamilysupport.org
SUMMARY:Transition Informational Sessions With Anne Williams
DESCRIPTION:
URL:https://pcfamilysupport.org/event/transition-informational-sessions-with-anne-williams-11/
LOCATION:118 Long Pond Rd. Suite 205 Plymouth\, MA 02360\, 118 Long Pond Road\, Plymouth\, 02360\, United States
CATEGORIES:Informational Session
ATTACH;FMTTYPE=image/jpeg:https://pcfamilysupport.org/wp-content/uploads/2024/09/Transition-series-2025-Sept-Oct-scaled.jpg
ORGANIZER;CN="Plymouth County Family Support Inc":MAILTO:events@pcfamilysupport.org
END:VEVENT
BEGIN:VEVENT
DTSTART;TZID=America/New_York:20241022T103000
DTEND;TZID=America/New_York:20241022T113000
DTSTAMP:20260420T183242
CREATED:20241001T153216Z
LAST-MODIFIED:20241001T153216Z
UID:1371-1729593000-1729596600@pcfamilysupport.org
SUMMARY:Sing Explore Create
DESCRIPTION:
URL:https://pcfamilysupport.org/event/sing-explore-create-8/
LOCATION:33 Rockland St Hanover 02339\, 33 Rockland St\, Hanover\, 02339\, United States
CATEGORIES:Music/Creative Arts/Wellness
ATTACH;FMTTYPE=image/png:https://pcfamilysupport.org/wp-content/uploads/2024/08/SEC-Adult-Music-Class-Fall-Flyer-FY25.png
ORGANIZER;CN="Plymouth County Family Support Inc":MAILTO:events@pcfamilysupport.org
END:VEVENT
BEGIN:VEVENT
DTSTART;VALUE=DATE:20241022
DTEND;VALUE=DATE:20241023
DTSTAMP:20260420T183242
CREATED:20241001T151224Z
LAST-MODIFIED:20241001T151224Z
UID:1363-1729555200-1729641599@pcfamilysupport.org
SUMMARY:IEP Framework Workshop
DESCRIPTION:
URL:https://pcfamilysupport.org/event/iep-framework-workshop-6/
CATEGORIES:Informational Session
ATTACH;FMTTYPE=image/png:https://pcfamilysupport.org/wp-content/uploads/2024/09/IEP-workshop.png
ORGANIZER;CN="Plymouth County Family Support Inc":MAILTO:events@pcfamilysupport.org
END:VEVENT
BEGIN:VEVENT
DTSTART;TZID=America/New_York:20241018T153000
DTEND;TZID=America/New_York:20241018T163000
DTSTAMP:20260420T183242
CREATED:20241001T164242Z
LAST-MODIFIED:20241001T164242Z
UID:1410-1729265400-1729269000@pcfamilysupport.org
SUMMARY:Healthy Fall Cooking Class
DESCRIPTION:
URL:https://pcfamilysupport.org/event/healthy-fall-cooking-class-5/
LOCATION:60 Union St. Middleboro 02346\, 60 Union St.\, Middleboro\, MA\, 02346\, United States
CATEGORIES:Cooking class
ATTACH;FMTTYPE=image/jpeg:https://pcfamilysupport.org/wp-content/uploads/2024/09/Healthy-Fall-Cooking-Class-18-scaled.jpg
END:VEVENT
BEGIN:VEVENT
DTSTART;TZID=America/New_York:20241017T163000
DTEND;TZID=America/New_York:20241017T193000
DTSTAMP:20260420T183242
CREATED:20241004T185529Z
LAST-MODIFIED:20241004T185529Z
UID:1456-1729182600-1729193400@pcfamilysupport.org
SUMMARY:ASD Anime Club
DESCRIPTION:
URL:https://pcfamilysupport.org/event/asd-anime-club/
LOCATION:118 Long Pond Rd. Suite 205 Plymouth\, MA 02360\, 118 Long Pond Road\, Plymouth\, 02360\, United States
CATEGORIES:anime club
ATTACH;FMTTYPE=image/png:https://pcfamilysupport.org/wp-content/uploads/2024/10/Betrayal-at-House-on-the-Hill.png
ORGANIZER;CN="Plymouth County Family Support Inc":MAILTO:events@pcfamilysupport.org
END:VEVENT
BEGIN:VEVENT
DTSTART;TZID=America/New_York:20241016T173000
DTEND;TZID=America/New_York:20241016T190000
DTSTAMP:20260420T183242
CREATED:20241001T160531Z
LAST-MODIFIED:20241001T160531Z
UID:1393-1729099800-1729105200@pcfamilysupport.org
SUMMARY:Transition Informational Sessions With Anne Williams
DESCRIPTION:
URL:https://pcfamilysupport.org/event/transition-informational-sessions-with-anne-williams-9/
LOCATION:118 Long Pond Rd. Suite 205 Plymouth\, MA 02360\, 118 Long Pond Road\, Plymouth\, 02360\, United States
CATEGORIES:Informational Session
ATTACH;FMTTYPE=image/jpeg:https://pcfamilysupport.org/wp-content/uploads/2024/09/Transition-series-2025-Sept-Oct-scaled.jpg
ORGANIZER;CN="Plymouth County Family Support Inc":MAILTO:events@pcfamilysupport.org
END:VEVENT
BEGIN:VEVENT
DTSTART;TZID=America/New_York:20241016T170000
DTEND;TZID=America/New_York:20241016T180000
DTSTAMP:20260420T183242
CREATED:20241001T154213Z
LAST-MODIFIED:20241001T154213Z
UID:1379-1729098000-1729101600@pcfamilysupport.org
SUMMARY:Painting Class
DESCRIPTION:
URL:https://pcfamilysupport.org/event/painting-class-9/
LOCATION:54 Main St. #15 Lakeville\, MA 02347\, 54 Main St. #15\, Lakeville\, MA\, 02347\, United States
CATEGORIES:art class
ATTACH;FMTTYPE=image/jpeg:https://pcfamilysupport.org/wp-content/uploads/2024/09/Painting-Class-September-November-18-scaled.jpg
ORGANIZER;CN="Plymouth County Family Support Inc":MAILTO:events@pcfamilysupport.org
END:VEVENT
BEGIN:VEVENT
DTSTART;TZID=America/New_York:20241016T100000
DTEND;TZID=America/New_York:20241016T113000
DTSTAMP:20260420T183242
CREATED:20241001T160713Z
LAST-MODIFIED:20241001T160713Z
UID:1395-1729072800-1729078200@pcfamilysupport.org
SUMMARY:Transition Informational Sessions With Anne Williams
DESCRIPTION:
URL:https://pcfamilysupport.org/event/transition-informational-sessions-with-anne-williams-10/
LOCATION:118 Long Pond Rd. Suite 205 Plymouth\, MA 02360\, 118 Long Pond Road\, Plymouth\, 02360\, United States
CATEGORIES:Informational Session
ATTACH;FMTTYPE=image/jpeg:https://pcfamilysupport.org/wp-content/uploads/2024/09/Transition-series-2025-Sept-Oct-scaled.jpg
ORGANIZER;CN="Plymouth County Family Support Inc":MAILTO:events@pcfamilysupport.org
END:VEVENT
BEGIN:VEVENT
DTSTART;TZID=America/New_York:20241015T103000
DTEND;TZID=America/New_York:20241015T113000
DTSTAMP:20260420T183242
CREATED:20241001T151956Z
LAST-MODIFIED:20241001T151956Z
UID:1369-1728988200-1728991800@pcfamilysupport.org
SUMMARY:Sing Explore Create
DESCRIPTION:
URL:https://pcfamilysupport.org/event/sing-explore-create-7/
LOCATION:33 Rockland St Hanover 02339\, 33 Rockland St\, Hanover\, 02339\, United States
CATEGORIES:Music/Creative Arts/Wellness
ATTACH;FMTTYPE=image/png:https://pcfamilysupport.org/wp-content/uploads/2024/08/SEC-Adult-Music-Class-Fall-Flyer-FY25.png
ORGANIZER;CN="Plymouth County Family Support Inc":MAILTO:events@pcfamilysupport.org
END:VEVENT
BEGIN:VEVENT
DTSTART;VALUE=DATE:20241015
DTEND;VALUE=DATE:20241016
DTSTAMP:20260420T183242
CREATED:20241001T150710Z
LAST-MODIFIED:20241001T150710Z
UID:1359-1728950400-1729036799@pcfamilysupport.org
SUMMARY:IEP Framework Workshop
DESCRIPTION:
URL:https://pcfamilysupport.org/event/iep-framework-workshop-5/
CATEGORIES:Informational Session
ATTACH;FMTTYPE=image/png:https://pcfamilysupport.org/wp-content/uploads/2024/09/IEP-workshop.png
ORGANIZER;CN="Plymouth County Family Support Inc":MAILTO:events@pcfamilysupport.org
END:VEVENT
BEGIN:VEVENT
DTSTART;TZID=America/New_York:20241012T110000
DTEND;TZID=America/New_York:20241012T180000
DTSTAMP:20260420T183242
CREATED:20241004T184516Z
LAST-MODIFIED:20241004T184516Z
UID:1445-1728730800-1728756000@pcfamilysupport.org
SUMMARY:Family Day at Sauchuk's  Farm
DESCRIPTION:
URL:https://pcfamilysupport.org/event/family-day-at-sauchuks-farm/
LOCATION:200 CENTER STREET  PLYMPTON\, MASSACHUSETTS 02367\, 200 Center Street\, Plympton\, MA\, 02367\, United States
CATEGORIES:Trip
ATTACH;FMTTYPE=image/png:https://pcfamilysupport.org/wp-content/uploads/2024/10/Family-Day-at-Sauchuks-Saturday-October-12th.png
ORGANIZER;CN="Plymouth County Family Support Inc":MAILTO:events@pcfamilysupport.org
END:VEVENT
BEGIN:VEVENT
DTSTART;TZID=America/New_York:20241011T153000
DTEND;TZID=America/New_York:20241011T163000
DTSTAMP:20260420T183242
CREATED:20241001T163448Z
LAST-MODIFIED:20241001T163448Z
UID:1408-1728660600-1728664200@pcfamilysupport.org
SUMMARY:Healthy Fall Cooking Class
DESCRIPTION:
URL:https://pcfamilysupport.org/event/healthy-fall-cooking-class-4/
LOCATION:60 Union St. Middleboro 02346\, 60 Union St.\, Middleboro\, MA\, 02346\, United States
CATEGORIES:Cooking class
ATTACH;FMTTYPE=image/jpeg:https://pcfamilysupport.org/wp-content/uploads/2024/09/Healthy-Fall-Cooking-Class-18-scaled.jpg
END:VEVENT
BEGIN:VEVENT
DTSTART;TZID=America/New_York:20241010T163000
DTEND;TZID=America/New_York:20241010T183000
DTSTAMP:20260420T183242
CREATED:20241004T184138Z
LAST-MODIFIED:20241004T184138Z
UID:1443-1728577800-1728585000@pcfamilysupport.org
SUMMARY:ASD Halloween Movie Night
DESCRIPTION:
URL:https://pcfamilysupport.org/event/asd-halloween-movie-night/
LOCATION:118 Long Pond Rd. Suite 205 Plymouth\, MA 02360\, 118 Long Pond Road\, Plymouth\, 02360\, United States
CATEGORIES:ASD Only
ATTACH;FMTTYPE=image/png:https://pcfamilysupport.org/wp-content/uploads/2024/10/Halloween-Movie-Night-Registration-and-Ballot.png
ORGANIZER;CN="Plymouth County Family Support Inc":MAILTO:events@pcfamilysupport.org
END:VEVENT
BEGIN:VEVENT
DTSTART;TZID=America/New_York:20241010T103000
DTEND;TZID=America/New_York:20241010T120000
DTSTAMP:20260420T183242
CREATED:20241001T170002Z
LAST-MODIFIED:20241001T170002Z
UID:1424-1728556200-1728561600@pcfamilysupport.org
SUMMARY:Golf Club
DESCRIPTION:
URL:https://pcfamilysupport.org/event/golf-club/
LOCATION:624 Webster Street\, Marshfield\, MA 02050\, 624 Webster Street\, Marshfield\, MA\, 02050\, United States
CATEGORIES:Trip
ATTACH;FMTTYPE=image/jpeg:https://pcfamilysupport.org/wp-content/uploads/2024/10/Golf-Club-@-Green-Harbor-Driving-Range-scaled.jpg
ORGANIZER;CN="Plymouth County Family Support Inc":MAILTO:events@pcfamilysupport.org
END:VEVENT
BEGIN:VEVENT
DTSTART;TZID=America/New_York:20241009T173000
DTEND;TZID=America/New_York:20241009T190000
DTSTAMP:20260420T183242
CREATED:20241001T160038Z
LAST-MODIFIED:20241001T160038Z
UID:1389-1728495000-1728500400@pcfamilysupport.org
SUMMARY:Transition Informational Sessions With Anne Williams
DESCRIPTION:
URL:https://pcfamilysupport.org/event/transition-informational-sessions-with-anne-williams-7/
LOCATION:118 Long Pond Rd. Suite 205 Plymouth\, MA 02360\, 118 Long Pond Road\, Plymouth\, 02360\, United States
CATEGORIES:Informational Session
ATTACH;FMTTYPE=image/jpeg:https://pcfamilysupport.org/wp-content/uploads/2024/09/Transition-series-2025-Sept-Oct-scaled.jpg
ORGANIZER;CN="Plymouth County Family Support Inc":MAILTO:events@pcfamilysupport.org
END:VEVENT
BEGIN:VEVENT
DTSTART;TZID=America/New_York:20241009T170000
DTEND;TZID=America/New_York:20241009T190000
DTSTAMP:20260420T183242
CREATED:20241001T165522Z
LAST-MODIFIED:20241001T165522Z
UID:1420-1728493200-1728500400@pcfamilysupport.org
SUMMARY:Pumpkin Paint Night
DESCRIPTION:
URL:https://pcfamilysupport.org/event/pumpkin-paint-night-2/
LOCATION:Marshfield Boys & Girls Club\, 37 Proprietors Dr\, Marshfield\, MA\, 02050\, United States
CATEGORIES:art class
ATTACH;FMTTYPE=image/jpeg:https://pcfamilysupport.org/wp-content/uploads/2024/10/Pumpkin-Paint-Night-Wed.-Oct-9th-scaled.jpg
ORGANIZER;CN="Plymouth County Family Support Inc":MAILTO:events@pcfamilysupport.org
END:VEVENT
BEGIN:VEVENT
DTSTART;TZID=America/New_York:20241009T170000
DTEND;TZID=America/New_York:20241009T180000
DTSTAMP:20260420T183242
CREATED:20241001T154058Z
LAST-MODIFIED:20241001T154058Z
UID:1377-1728493200-1728496800@pcfamilysupport.org
SUMMARY:Painting Class
DESCRIPTION:
URL:https://pcfamilysupport.org/event/painting-class-8/
LOCATION:54 Main St. #15 Lakeville\, MA 02347\, 54 Main St. #15\, Lakeville\, MA\, 02347\, United States
CATEGORIES:art class
ATTACH;FMTTYPE=image/jpeg:https://pcfamilysupport.org/wp-content/uploads/2024/09/Painting-Class-September-November-18-scaled.jpg
ORGANIZER;CN="Plymouth County Family Support Inc":MAILTO:events@pcfamilysupport.org
END:VEVENT
END:VCALENDAR