BEGIN:VCALENDAR
VERSION:2.0
PRODID:-//Plymouth County Family Support Inc. - ECPv6.15.20//NONSGML v1.0//EN
CALSCALE:GREGORIAN
METHOD:PUBLISH
X-ORIGINAL-URL:https://pcfamilysupport.org
X-WR-CALDESC:Events for Plymouth County Family Support Inc.
REFRESH-INTERVAL;VALUE=DURATION:PT1H
X-Robots-Tag:noindex
X-PUBLISHED-TTL:PT1H
BEGIN:VTIMEZONE
TZID:America/New_York
BEGIN:DAYLIGHT
TZOFFSETFROM:-0500
TZOFFSETTO:-0400
TZNAME:EDT
DTSTART:20230312T070000
END:DAYLIGHT
BEGIN:STANDARD
TZOFFSETFROM:-0400
TZOFFSETTO:-0500
TZNAME:EST
DTSTART:20231105T060000
END:STANDARD
BEGIN:DAYLIGHT
TZOFFSETFROM:-0500
TZOFFSETTO:-0400
TZNAME:EDT
DTSTART:20240310T070000
END:DAYLIGHT
BEGIN:STANDARD
TZOFFSETFROM:-0400
TZOFFSETTO:-0500
TZNAME:EST
DTSTART:20241103T060000
END:STANDARD
BEGIN:DAYLIGHT
TZOFFSETFROM:-0500
TZOFFSETTO:-0400
TZNAME:EDT
DTSTART:20250309T070000
END:DAYLIGHT
BEGIN:STANDARD
TZOFFSETFROM:-0400
TZOFFSETTO:-0500
TZNAME:EST
DTSTART:20251102T060000
END:STANDARD
END:VTIMEZONE
BEGIN:VEVENT
DTSTART;TZID=America/New_York:20241009T100000
DTEND;TZID=America/New_York:20241009T113000
DTSTAMP:20260420T234720
CREATED:20241001T160150Z
LAST-MODIFIED:20241001T160150Z
UID:1391-1728468000-1728473400@pcfamilysupport.org
SUMMARY:Transition Informational Sessions With Anne Williams
DESCRIPTION:
URL:https://pcfamilysupport.org/event/transition-informational-sessions-with-anne-williams-8/
LOCATION:118 Long Pond Rd. Suite 205 Plymouth\, MA 02360\, 118 Long Pond Road\, Plymouth\, 02360\, United States
CATEGORIES:Informational Session
ATTACH;FMTTYPE=image/jpeg:https://pcfamilysupport.org/wp-content/uploads/2024/09/Transition-series-2025-Sept-Oct-scaled.jpg
ORGANIZER;CN="Plymouth County Family Support Inc":MAILTO:events@pcfamilysupport.org
END:VEVENT
BEGIN:VEVENT
DTSTART;TZID=America/New_York:20241008T103000
DTEND;TZID=America/New_York:20241008T113000
DTSTAMP:20260420T234720
CREATED:20241001T151631Z
LAST-MODIFIED:20241001T151631Z
UID:1367-1728383400-1728387000@pcfamilysupport.org
SUMMARY:Sing Explore Create
DESCRIPTION:
URL:https://pcfamilysupport.org/event/sing-explore-create-6/
LOCATION:33 Rockland St Hanover 02339\, 33 Rockland St\, Hanover\, 02339\, United States
CATEGORIES:Music/Creative Arts/Wellness
ATTACH;FMTTYPE=image/png:https://pcfamilysupport.org/wp-content/uploads/2024/08/SEC-Adult-Music-Class-Fall-Flyer-FY25.png
ORGANIZER;CN="Plymouth County Family Support Inc":MAILTO:events@pcfamilysupport.org
END:VEVENT
BEGIN:VEVENT
DTSTART;VALUE=DATE:20241008
DTEND;VALUE=DATE:20241009
DTSTAMP:20260420T234720
CREATED:20241001T150331Z
LAST-MODIFIED:20241001T150331Z
UID:1360-1728345600-1728431999@pcfamilysupport.org
SUMMARY:IEP Framework Workshop
DESCRIPTION:
URL:https://pcfamilysupport.org/event/iep-framework-workshop-4/
LOCATION:MA
CATEGORIES:Informational Session
ATTACH;FMTTYPE=image/png:https://pcfamilysupport.org/wp-content/uploads/2024/09/IEP-workshop.png
ORGANIZER;CN="Plymouth County Family Support Inc":MAILTO:events@pcfamilysupport.org
END:VEVENT
BEGIN:VEVENT
DTSTART;TZID=America/New_York:20241007T170000
DTEND;TZID=America/New_York:20241007T180000
DTSTAMP:20260420T234720
CREATED:20241001T164844Z
LAST-MODIFIED:20241001T164844Z
UID:1414-1728320400-1728324000@pcfamilysupport.org
SUMMARY:Animation Class
DESCRIPTION:
URL:https://pcfamilysupport.org/event/animation-class-4/
LOCATION:54 Main St. #15 Lakeville\, MA 02347\, 54 Main St. #15\, Lakeville\, MA\, 02347\, United States
CATEGORIES:art class
ATTACH;FMTTYPE=image/jpeg:https://pcfamilysupport.org/wp-content/uploads/2024/10/Animation-Class-Sept-Nov-18-scaled.jpg
END:VEVENT
BEGIN:VEVENT
DTSTART;TZID=America/New_York:20241007T160000
DTEND;TZID=America/New_York:20241007T220000
DTSTAMP:20260420T234720
CREATED:20241004T183803Z
LAST-MODIFIED:20241004T183803Z
UID:1435-1728316800-1728338400@pcfamilysupport.org
SUMMARY:Jack-O-Lantern Spectacular
DESCRIPTION:
URL:https://pcfamilysupport.org/event/jack-o-lantern-spectacular-2/
LOCATION:2 Plaza Way Plymouth\, MA 02360\, 2 Plaza Way\, Plymouth\, MA\, 02360\, United States
CATEGORIES:Trip
ATTACH;FMTTYPE=image/png:https://pcfamilysupport.org/wp-content/uploads/2024/10/Jack-O-Lantern-Spectacular-October-2024.png
ORGANIZER;CN="Plymouth County Family Support Inc":MAILTO:events@pcfamilysupport.org
END:VEVENT
BEGIN:VEVENT
DTSTART;TZID=America/New_York:20241004T153000
DTEND;TZID=America/New_York:20241004T163000
DTSTAMP:20260420T234720
CREATED:20241001T163336Z
LAST-MODIFIED:20241001T163336Z
UID:1406-1728055800-1728059400@pcfamilysupport.org
SUMMARY:Healthy Fall Cooking Class
DESCRIPTION:
URL:https://pcfamilysupport.org/event/healthy-fall-cooking-class-3/
LOCATION:60 Union St. Middleboro 02346\, 60 Union St.\, Middleboro\, MA\, 02346\, United States
CATEGORIES:Cooking class
ATTACH;FMTTYPE=image/jpeg:https://pcfamilysupport.org/wp-content/uploads/2024/09/Healthy-Fall-Cooking-Class-18-scaled.jpg
END:VEVENT
BEGIN:VEVENT
DTSTART;TZID=America/New_York:20241002T173000
DTEND;TZID=America/New_York:20241002T190000
DTSTAMP:20260420T234720
CREATED:20241001T155437Z
LAST-MODIFIED:20241001T155437Z
UID:1385-1727890200-1727895600@pcfamilysupport.org
SUMMARY:Transition Informational Sessions With Anne Williams
DESCRIPTION:
URL:https://pcfamilysupport.org/event/transition-informational-sessions-with-anne-williams-5/
LOCATION:118 Long Pond Rd. Suite 205 Plymouth\, MA 02360\, 118 Long Pond Road\, Plymouth\, 02360\, United States
CATEGORIES:Informational Session
ATTACH;FMTTYPE=image/jpeg:https://pcfamilysupport.org/wp-content/uploads/2024/09/Transition-series-2025-Sept-Oct-scaled.jpg
ORGANIZER;CN="Plymouth County Family Support Inc":MAILTO:events@pcfamilysupport.org
END:VEVENT
BEGIN:VEVENT
DTSTART;TZID=America/New_York:20241002T170000
DTEND;TZID=America/New_York:20241002T180000
DTSTAMP:20260420T234720
CREATED:20241001T153930Z
LAST-MODIFIED:20241001T153930Z
UID:1375-1727888400-1727892000@pcfamilysupport.org
SUMMARY:Painting Class
DESCRIPTION:
URL:https://pcfamilysupport.org/event/painting-class-7/
LOCATION:54 Main St. #15 Lakeville\, MA 02347\, 54 Main St. #15\, Lakeville\, MA\, 02347\, United States
CATEGORIES:art class
ATTACH;FMTTYPE=image/jpeg:https://pcfamilysupport.org/wp-content/uploads/2024/09/Painting-Class-September-November-18-scaled.jpg
ORGANIZER;CN="Plymouth County Family Support Inc":MAILTO:events@pcfamilysupport.org
END:VEVENT
BEGIN:VEVENT
DTSTART;TZID=America/New_York:20241002T100000
DTEND;TZID=America/New_York:20241002T113000
DTSTAMP:20260420T234720
CREATED:20241001T155602Z
LAST-MODIFIED:20241001T155602Z
UID:1387-1727863200-1727868600@pcfamilysupport.org
SUMMARY:Transition Informational Sessions With Anne Williams
DESCRIPTION:
URL:https://pcfamilysupport.org/event/transition-informational-sessions-with-anne-williams-6/
LOCATION:118 Long Pond Rd. Suite 205 Plymouth\, MA 02360\, 118 Long Pond Road\, Plymouth\, 02360\, United States
CATEGORIES:Informational Session
ATTACH;FMTTYPE=image/jpeg:https://pcfamilysupport.org/wp-content/uploads/2024/09/Transition-series-2025-Sept-Oct-scaled.jpg
ORGANIZER;CN="Plymouth County Family Support Inc":MAILTO:events@pcfamilysupport.org
END:VEVENT
BEGIN:VEVENT
DTSTART;VALUE=DATE:20241001
DTEND;VALUE=DATE:20241002
DTSTAMP:20260420T234720
CREATED:20241001T150146Z
LAST-MODIFIED:20241001T150146Z
UID:1357-1727740800-1727827199@pcfamilysupport.org
SUMMARY:IEP Framework Workshop
DESCRIPTION:
URL:https://pcfamilysupport.org/event/iep-framework-workshop-3/
LOCATION:MA
CATEGORIES:Informational Session
ATTACH;FMTTYPE=image/png:https://pcfamilysupport.org/wp-content/uploads/2024/09/IEP-workshop.png
ORGANIZER;CN="Plymouth County Family Support Inc":MAILTO:events@pcfamilysupport.org
END:VEVENT
BEGIN:VEVENT
DTSTART;TZID=America/New_York:20240930T170000
DTEND;TZID=America/New_York:20240930T180000
DTSTAMP:20260420T234720
CREATED:20240910T180101Z
LAST-MODIFIED:20240910T180101Z
UID:1300-1727715600-1727719200@pcfamilysupport.org
SUMMARY:Animation Class
DESCRIPTION:
URL:https://pcfamilysupport.org/event/animation-class-3/
LOCATION:54 Main St. #15 Lakeville\, MA 02347\, 54 Main St. #15\, Lakeville\, MA\, 02347\, United States
CATEGORIES:art class
ATTACH;FMTTYPE=image/jpeg:https://pcfamilysupport.org/wp-content/uploads/2024/09/Animation-Class-Sept-Nov-18-scaled.jpg
END:VEVENT
BEGIN:VEVENT
DTSTART;TZID=America/New_York:20240929T100000
DTEND;TZID=America/New_York:20240929T160000
DTSTAMP:20260420T234720
CREATED:20240917T175520Z
LAST-MODIFIED:20240917T175520Z
UID:1350-1727604000-1727625600@pcfamilysupport.org
SUMMARY:Sauchuk's Farm Pumpkin Patch
DESCRIPTION:
URL:https://pcfamilysupport.org/event/sauchuks-farm-pumpkin-patch/
LOCATION:10 Shops at 5 Way Plymouth MA 02360\, 10 Shops At 5 Way\, Plymouth\, MA\, 02360\, United States
CATEGORIES:Trip
ATTACH;FMTTYPE=image/jpeg:https://pcfamilysupport.org/wp-content/uploads/2024/09/Sauchuks-Pumpkin-Patch-Sunday-September-29th.jpg
ORGANIZER;CN="Plymouth County Family Support Inc":MAILTO:events@pcfamilysupport.org
END:VEVENT
BEGIN:VEVENT
DTSTART;TZID=America/New_York:20240928T100000
DTEND;TZID=America/New_York:20240928T130000
DTSTAMP:20260420T234720
CREATED:20240911T141137Z
LAST-MODIFIED:20240911T141137Z
UID:1340-1727517600-1727528400@pcfamilysupport.org
SUMMARY:Plymouth Health & Resource Fair
DESCRIPTION:
URL:https://pcfamilysupport.org/event/plymouth-health-resource-fair/
LOCATION:132 South St\, Plymouth\, MA 02360\, 132 South Street\, Plymouth\, MA\, 02360\, United States
CATEGORIES:Trip
END:VEVENT
BEGIN:VEVENT
DTSTART;TZID=America/New_York:20240925T173000
DTEND;TZID=America/New_York:20240925T190000
DTSTAMP:20260420T234720
CREATED:20240910T182418Z
LAST-MODIFIED:20240910T182418Z
UID:1319-1727285400-1727290800@pcfamilysupport.org
SUMMARY:Transition Informational Sessions With Anne Williams
DESCRIPTION:
URL:https://pcfamilysupport.org/event/transition-informational-sessions-with-anne-williams-3/
LOCATION:118 Long Pond Rd. Suite 205 Plymouth\, MA 02360\, 118 Long Pond Road\, Plymouth\, 02360\, United States
CATEGORIES:Informational Session
ATTACH;FMTTYPE=image/jpeg:https://pcfamilysupport.org/wp-content/uploads/2024/09/Transition-series-2025-Sept-Oct-scaled.jpg
ORGANIZER;CN="Plymouth County Family Support Inc":MAILTO:events@pcfamilysupport.org
END:VEVENT
BEGIN:VEVENT
DTSTART;TZID=America/New_York:20240925T170000
DTEND;TZID=America/New_York:20240925T180000
DTSTAMP:20260420T234720
CREATED:20240910T181651Z
LAST-MODIFIED:20240910T181651Z
UID:1313-1727283600-1727287200@pcfamilysupport.org
SUMMARY:Painting Class
DESCRIPTION:
URL:https://pcfamilysupport.org/event/painting-class-6/
LOCATION:54 Main St. #15 Lakeville\, MA 02347\, 54 Main St. #15\, Lakeville\, MA\, 02347\, United States
CATEGORIES:art class
ATTACH;FMTTYPE=image/jpeg:https://pcfamilysupport.org/wp-content/uploads/2024/09/Painting-Class-September-November-18-scaled.jpg
ORGANIZER;CN="Plymouth County Family Support Inc":MAILTO:events@pcfamilysupport.org
END:VEVENT
BEGIN:VEVENT
DTSTART;TZID=America/New_York:20240925T100000
DTEND;TZID=America/New_York:20240925T113000
DTSTAMP:20260420T234720
CREATED:20240910T182300Z
LAST-MODIFIED:20240910T182300Z
UID:1317-1727258400-1727263800@pcfamilysupport.org
SUMMARY:Transition Informational Sessions With Anne Williams
DESCRIPTION:
URL:https://pcfamilysupport.org/event/transition-informational-sessions-with-anne-williams-2/
LOCATION:118 Long Pond Rd. Suite 205 Plymouth\, MA 02360\, 118 Long Pond Road\, Plymouth\, 02360\, United States
CATEGORIES:Informational Session
ATTACH;FMTTYPE=image/jpeg:https://pcfamilysupport.org/wp-content/uploads/2024/09/Transition-series-2025-Sept-Oct-scaled.jpg
ORGANIZER;CN="Plymouth County Family Support Inc":MAILTO:events@pcfamilysupport.org
END:VEVENT
BEGIN:VEVENT
DTSTART;TZID=America/New_York:20240924T160000
DTEND;TZID=America/New_York:20240924T223000
DTSTAMP:20260420T234720
CREATED:20240913T144942Z
LAST-MODIFIED:20240913T144942Z
UID:1345-1727193600-1727217000@pcfamilysupport.org
SUMMARY:Mamma Mia: The Musical
DESCRIPTION:
URL:https://pcfamilysupport.org/event/mamma-mia-the-musical/
LOCATION:1775 Washington St. Hanover\, MA 02339\, 1775 Washington Street\, Hanover\, MA\, 02339\, United States
CATEGORIES:Trip
ATTACH;FMTTYPE=image/jpeg:https://pcfamilysupport.org/wp-content/uploads/2024/09/Mamma-Mia-Musical-Tuesday-September-24th.jpg
END:VEVENT
BEGIN:VEVENT
DTSTART;TZID=America/New_York:20240924T103000
DTEND;TZID=America/New_York:20240924T113000
DTSTAMP:20260420T234720
CREATED:20240910T181207Z
LAST-MODIFIED:20240910T181207Z
UID:1309-1727173800-1727177400@pcfamilysupport.org
SUMMARY:Sing Explore Create
DESCRIPTION:
URL:https://pcfamilysupport.org/event/sing-explore-create-5/
LOCATION:33 Rockland St Hanover 02339\, 33 Rockland St\, Hanover\, 02339\, United States
CATEGORIES:Music/Creative Arts/Wellness
ATTACH;FMTTYPE=image/png:https://pcfamilysupport.org/wp-content/uploads/2024/08/SEC-Adult-Music-Class-Fall-Flyer-FY25.png
ORGANIZER;CN="Plymouth County Family Support Inc":MAILTO:events@pcfamilysupport.org
END:VEVENT
BEGIN:VEVENT
DTSTART;VALUE=DATE:20240924
DTEND;VALUE=DATE:20240925
DTSTAMP:20260420T234720
CREATED:20240911T140256Z
LAST-MODIFIED:20240911T152009Z
UID:1338-1727136000-1727222399@pcfamilysupport.org
SUMMARY:IEP Framework Workshop
DESCRIPTION:
URL:https://pcfamilysupport.org/event/iep-framework-workshop-2/
LOCATION:MA
CATEGORIES:Informational Session
ATTACH;FMTTYPE=image/png:https://pcfamilysupport.org/wp-content/uploads/2024/09/IEP-workshop.png
ORGANIZER;CN="Plymouth County Family Support Inc":MAILTO:events@pcfamilysupport.org
END:VEVENT
BEGIN:VEVENT
DTSTART;TZID=America/New_York:20240923T173000
DTEND;TZID=America/New_York:20240923T193000
DTSTAMP:20260420T234720
CREATED:20240910T183421Z
LAST-MODIFIED:20240910T183421Z
UID:1325-1727112600-1727119800@pcfamilysupport.org
SUMMARY:Parents Night w/ Dakota Phillips
DESCRIPTION:
URL:https://pcfamilysupport.org/event/parents-night-w-dakota-phillips/
LOCATION:12 Resnik Rd. #3 Plymouth Ma\, 12 Resnik Road #3\, Plymouth\, MA\, 02360\, United States
CATEGORIES:Parents Night
ATTACH;FMTTYPE=image/jpeg:https://pcfamilysupport.org/wp-content/uploads/2024/09/Black-and-White-Parents-Night-School-Poster-scaled.jpg
ORGANIZER;CN="Plymouth County Family Support Inc":MAILTO:events@pcfamilysupport.org
END:VEVENT
BEGIN:VEVENT
DTSTART;TZID=America/New_York:20240923T170000
DTEND;TZID=America/New_York:20240923T180000
DTSTAMP:20260420T234720
CREATED:20240910T175936Z
LAST-MODIFIED:20240910T175936Z
UID:1296-1727110800-1727114400@pcfamilysupport.org
SUMMARY:Animation Class
DESCRIPTION:
URL:https://pcfamilysupport.org/event/animation-class-2/
LOCATION:54 Main St. #15 Lakeville\, MA 02347\, 54 Main St. #15\, Lakeville\, MA\, 02347\, United States
CATEGORIES:art class
ATTACH;FMTTYPE=image/jpeg:https://pcfamilysupport.org/wp-content/uploads/2024/09/Animation-Class-Sept-Nov-18-scaled.jpg
END:VEVENT
BEGIN:VEVENT
DTSTART;TZID=America/New_York:20240922T170000
DTEND;TZID=America/New_York:20240922T220000
DTSTAMP:20260420T234720
CREATED:20240910T183014Z
LAST-MODIFIED:20240910T183014Z
UID:1323-1727024400-1727042400@pcfamilysupport.org
SUMMARY:Franklin Park Zoo Lights
DESCRIPTION:
URL:https://pcfamilysupport.org/event/franklin-park-zoo-lights-2/
LOCATION:125 Church St. Pembroke\, MA 02359\, 125 Church Street\, Pembroke\, MA\, 02359\, United States
CATEGORIES:Trip
ATTACH;FMTTYPE=image/jpeg:https://pcfamilysupport.org/wp-content/uploads/2024/09/Zoo-Lights-Sunday-September-22nd-scaled.jpg
END:VEVENT
BEGIN:VEVENT
DTSTART;TZID=America/New_York:20240920T153000
DTEND;TZID=America/New_York:20240920T163000
DTSTAMP:20260420T234720
CREATED:20240911T135519Z
LAST-MODIFIED:20240911T135519Z
UID:1334-1726846200-1726849800@pcfamilysupport.org
SUMMARY:Healthy Fall Cooking Class
DESCRIPTION:
URL:https://pcfamilysupport.org/event/healthy-fall-cooking-class-2/
LOCATION:60 Union St. Middleboro 02346\, 60 Union St.\, Middleboro\, MA\, 02346\, United States
CATEGORIES:Cooking class
ATTACH;FMTTYPE=image/jpeg:https://pcfamilysupport.org/wp-content/uploads/2024/09/Healthy-Fall-Cooking-Class-18-scaled.jpg
END:VEVENT
BEGIN:VEVENT
DTSTART;TZID=America/New_York:20240919T180000
DTEND;TZID=America/New_York:20240919T200000
DTSTAMP:20260420T234720
CREATED:20240910T191409Z
LAST-MODIFIED:20240910T191409Z
UID:1329-1726768800-1726776000@pcfamilysupport.org
SUMMARY:All-Stars Sports Dance
DESCRIPTION:
URL:https://pcfamilysupport.org/event/all-stars-sports-dance/
LOCATION:424 Long Pond Rd. Plymouth\, MA 02360\, 424 Long Pond Rd.\, Plymouth\, MA\, 02360\, United States
CATEGORIES:Dance
ATTACH;FMTTYPE=image/jpeg:https://pcfamilysupport.org/wp-content/uploads/2024/09/All-Stars-Sports-Dance-Thursday-September-19th-scaled.jpg
ORGANIZER;CN="Plymouth County Family Support Inc":MAILTO:events@pcfamilysupport.org
END:VEVENT
BEGIN:VEVENT
DTSTART;TZID=America/New_York:20240918T173000
DTEND;TZID=America/New_York:20240918T190000
DTSTAMP:20260420T234720
CREATED:20240910T182549Z
LAST-MODIFIED:20240910T182549Z
UID:1321-1726680600-1726686000@pcfamilysupport.org
SUMMARY:Transition Informational Sessions With Anne Williams
DESCRIPTION:
URL:https://pcfamilysupport.org/event/transition-informational-sessions-with-anne-williams-4/
LOCATION:118 Long Pond Rd. Suite 205 Plymouth\, MA 02360\, 118 Long Pond Road\, Plymouth\, 02360\, United States
CATEGORIES:Informational Session
ATTACH;FMTTYPE=image/jpeg:https://pcfamilysupport.org/wp-content/uploads/2024/09/Transition-series-2025-Sept-Oct-scaled.jpg
ORGANIZER;CN="Plymouth County Family Support Inc":MAILTO:events@pcfamilysupport.org
END:VEVENT
BEGIN:VEVENT
DTSTART;TZID=America/New_York:20240918T170000
DTEND;TZID=America/New_York:20240918T180000
DTSTAMP:20260420T234720
CREATED:20240910T181513Z
LAST-MODIFIED:20240910T181513Z
UID:1311-1726678800-1726682400@pcfamilysupport.org
SUMMARY:Painting Class
DESCRIPTION:
URL:https://pcfamilysupport.org/event/painting-class-5/
LOCATION:54 Main St. #15 Lakeville\, MA 02347\, 54 Main St. #15\, Lakeville\, MA\, 02347\, United States
CATEGORIES:art class
ATTACH;FMTTYPE=image/jpeg:https://pcfamilysupport.org/wp-content/uploads/2024/09/Painting-Class-September-November-18-scaled.jpg
ORGANIZER;CN="Plymouth County Family Support Inc":MAILTO:events@pcfamilysupport.org
END:VEVENT
BEGIN:VEVENT
DTSTART;TZID=America/New_York:20240918T100000
DTEND;TZID=America/New_York:20240918T113000
DTSTAMP:20260420T234720
CREATED:20240910T182132Z
LAST-MODIFIED:20240910T182132Z
UID:1315-1726653600-1726659000@pcfamilysupport.org
SUMMARY:Transition Informational Sessions With Anne Williams
DESCRIPTION:
URL:https://pcfamilysupport.org/event/transition-informational-sessions-with-anne-williams/
LOCATION:118 Long Pond Rd. Suite 205 Plymouth\, MA 02360\, 118 Long Pond Road\, Plymouth\, 02360\, United States
CATEGORIES:Informational Session
ATTACH;FMTTYPE=image/jpeg:https://pcfamilysupport.org/wp-content/uploads/2024/09/Transition-series-2025-Sept-Oct-scaled.jpg
ORGANIZER;CN="Plymouth County Family Support Inc":MAILTO:events@pcfamilysupport.org
END:VEVENT
BEGIN:VEVENT
DTSTART;TZID=America/New_York:20240917T170000
DTEND;TZID=America/New_York:20240917T220000
DTSTAMP:20260420T234720
CREATED:20240910T180418Z
LAST-MODIFIED:20240910T180418Z
UID:1304-1726592400-1726610400@pcfamilysupport.org
SUMMARY:Franklin Park  Zoo Lights
DESCRIPTION:
URL:https://pcfamilysupport.org/event/franklin-park-zoo-lights/
LOCATION:125 Church St. Pembroke\, MA 02359\, 125 Church Street\, Pembroke\, MA\, 02359\, United States
CATEGORIES:Trip
ATTACH;FMTTYPE=image/jpeg:https://pcfamilysupport.org/wp-content/uploads/2024/09/Zoo-Lights-Tuesday-September-17th-scaled.jpg
END:VEVENT
BEGIN:VEVENT
DTSTART;TZID=America/New_York:20240917T103000
DTEND;TZID=America/New_York:20240917T113000
DTSTAMP:20260420T234720
CREATED:20240910T181047Z
LAST-MODIFIED:20240910T181047Z
UID:1307-1726569000-1726572600@pcfamilysupport.org
SUMMARY:Sing Explore Create
DESCRIPTION:
URL:https://pcfamilysupport.org/event/sing-explore-create-4/
LOCATION:33 Rockland St Hanover 02339\, 33 Rockland St\, Hanover\, 02339\, United States
CATEGORIES:Music/Creative Arts/Wellness
ATTACH;FMTTYPE=image/png:https://pcfamilysupport.org/wp-content/uploads/2024/08/SEC-Adult-Music-Class-Fall-Flyer-FY25.png
ORGANIZER;CN="Plymouth County Family Support Inc":MAILTO:events@pcfamilysupport.org
END:VEVENT
BEGIN:VEVENT
DTSTART;VALUE=DATE:20240917
DTEND;VALUE=DATE:20240918
DTSTAMP:20260420T234720
CREATED:20240911T140109Z
LAST-MODIFIED:20240911T151909Z
UID:1336-1726531200-1726617599@pcfamilysupport.org
SUMMARY:IEP Framework Workshop
DESCRIPTION:
URL:https://pcfamilysupport.org/event/iep-framework-workshop/
LOCATION:MA
CATEGORIES:Informational Session
ATTACH;FMTTYPE=image/png:https://pcfamilysupport.org/wp-content/uploads/2024/09/IEP-workshop.png
ORGANIZER;CN="Plymouth County Family Support Inc":MAILTO:events@pcfamilysupport.org
END:VEVENT
END:VCALENDAR