BEGIN:VCALENDAR
VERSION:2.0
PRODID:-//Plymouth County Family Support Inc. - ECPv6.15.20//NONSGML v1.0//EN
CALSCALE:GREGORIAN
METHOD:PUBLISH
X-WR-CALNAME:Plymouth County Family Support Inc.
X-ORIGINAL-URL:https://pcfamilysupport.org
X-WR-CALDESC:Events for Plymouth County Family Support Inc.
REFRESH-INTERVAL;VALUE=DURATION:PT1H
X-Robots-Tag:noindex
X-PUBLISHED-TTL:PT1H
BEGIN:VTIMEZONE
TZID:America/New_York
BEGIN:DAYLIGHT
TZOFFSETFROM:-0500
TZOFFSETTO:-0400
TZNAME:EDT
DTSTART:20230312T070000
END:DAYLIGHT
BEGIN:STANDARD
TZOFFSETFROM:-0400
TZOFFSETTO:-0500
TZNAME:EST
DTSTART:20231105T060000
END:STANDARD
BEGIN:DAYLIGHT
TZOFFSETFROM:-0500
TZOFFSETTO:-0400
TZNAME:EDT
DTSTART:20240310T070000
END:DAYLIGHT
BEGIN:STANDARD
TZOFFSETFROM:-0400
TZOFFSETTO:-0500
TZNAME:EST
DTSTART:20241103T060000
END:STANDARD
BEGIN:DAYLIGHT
TZOFFSETFROM:-0500
TZOFFSETTO:-0400
TZNAME:EDT
DTSTART:20250309T070000
END:DAYLIGHT
BEGIN:STANDARD
TZOFFSETFROM:-0400
TZOFFSETTO:-0500
TZNAME:EST
DTSTART:20251102T060000
END:STANDARD
END:VTIMEZONE
BEGIN:VEVENT
DTSTART;TZID=America/New_York:20240826T160000
DTEND;TZID=America/New_York:20240826T164500
DTSTAMP:20260421T054922
CREATED:20240806T203652Z
LAST-MODIFIED:20240806T203652Z
UID:1253-1724688000-1724690700@pcfamilysupport.org
SUMMARY:Children's Art Class
DESCRIPTION:
URL:https://pcfamilysupport.org/event/childrens-art-class-3/
LOCATION:155 Webster St\, Hanover 02339\, 155 Webster St\, Hanover\, 02339\, United States
CATEGORIES:art class
ATTACH;FMTTYPE=image/png:https://pcfamilysupport.org/wp-content/uploads/2024/08/Arts-Rec-Children-July-Sept-2024.png
ORGANIZER;CN="Plymouth County Family Support Inc":MAILTO:events@pcfamilysupport.org
END:VEVENT
BEGIN:VEVENT
DTSTART;TZID=America/New_York:20240824T100000
DTEND;TZID=America/New_York:20240824T180000
DTSTAMP:20260421T054922
CREATED:20240806T205058Z
LAST-MODIFIED:20240806T205058Z
UID:1258-1724493600-1724522400@pcfamilysupport.org
SUMMARY:Plymouth Waterfront Festival
DESCRIPTION:
URL:https://pcfamilysupport.org/event/plymouth-waterfront-festival/
LOCATION:Water Street\, Water Street\, Plymouth\, MA\, 02360\, United States
CATEGORIES:Trip
ATTACH;FMTTYPE=image/png:https://pcfamilysupport.org/wp-content/uploads/2024/08/Untitled-design-18.png
END:VEVENT
BEGIN:VEVENT
DTSTART;TZID=America/New_York:20240823T153000
DTEND;TZID=America/New_York:20240823T163000
DTSTAMP:20260421T054922
CREATED:20240806T202813Z
LAST-MODIFIED:20240806T202813Z
UID:1244-1724427000-1724430600@pcfamilysupport.org
SUMMARY:Baking Summer Treats
DESCRIPTION:
URL:https://pcfamilysupport.org/event/baking-summer-treats-3/
LOCATION:60 Union St. Middleboro 02346\, 60 Union St.\, Middleboro\, MA\, 02346\, United States
CATEGORIES:Cooking class
ATTACH;FMTTYPE=image/jpeg:https://pcfamilysupport.org/wp-content/uploads/2024/08/Summer-Treats-Baking-Class.jpg
END:VEVENT
BEGIN:VEVENT
DTSTART;TZID=America/New_York:20240822T180000
DTEND;TZID=America/New_York:20240822T200000
DTSTAMP:20260421T054922
CREATED:20240806T203355Z
LAST-MODIFIED:20240806T203355Z
UID:1248-1724349600-1724356800@pcfamilysupport.org
SUMMARY:August Dance
DESCRIPTION:
URL:https://pcfamilysupport.org/event/august-dance/
LOCATION:424 Long Pond Rd. Plymouth\, MA 02360\, 424 Long Pond Rd.\, Plymouth\, MA\, 02360\, United States
CATEGORIES:Dance
ATTACH;FMTTYPE=image/jpeg:https://pcfamilysupport.org/wp-content/uploads/2024/08/Summer-Camp-Out-Dance-Thursday-August-22nd.jpg
ORGANIZER;CN="Plymouth County Family Support Inc":MAILTO:events@pcfamilysupport.org
END:VEVENT
BEGIN:VEVENT
DTSTART;TZID=America/New_York:20240821T173000
DTEND;TZID=America/New_York:20240821T183000
DTSTAMP:20260421T054922
CREATED:20240806T201524Z
LAST-MODIFIED:20240806T201524Z
UID:1227-1724261400-1724265000@pcfamilysupport.org
SUMMARY:Painting Class
DESCRIPTION:
URL:https://pcfamilysupport.org/event/painting-class-3/
LOCATION:54 Main St. #15 Lakeville\, MA 02347\, 54 Main St. #15\, Lakeville\, MA\, 02347\, United States
CATEGORIES:art class
ATTACH;FMTTYPE=image/png:https://pcfamilysupport.org/wp-content/uploads/2024/08/Painting-Class-June-August-2024.png
ORGANIZER;CN="Plymouth County Family Support Inc":MAILTO:events@pcfamilysupport.org
END:VEVENT
BEGIN:VEVENT
DTSTART;TZID=America/New_York:20240821T110000
DTEND;TZID=America/New_York:20240821T120000
DTSTAMP:20260421T054922
CREATED:20240806T201933Z
LAST-MODIFIED:20240806T201933Z
UID:1235-1724238000-1724241600@pcfamilysupport.org
SUMMARY:Adult Art Class
DESCRIPTION:
URL:https://pcfamilysupport.org/event/adult-art-class-6/
LOCATION:155 Webster St\, Hanover 02339\, 155 Webster St\, Hanover\, 02339\, United States
CATEGORIES:art class
ATTACH;FMTTYPE=image/png:https://pcfamilysupport.org/wp-content/uploads/2024/08/Arts-Rec-Adult-Class-July-Sept.png
ORGANIZER;CN="Plymouth County Family Support Inc":MAILTO:events@pcfamilysupport.org
END:VEVENT
BEGIN:VEVENT
DTSTART;TZID=America/New_York:20240819T160000
DTEND;TZID=America/New_York:20240819T164500
DTSTAMP:20260421T054922
CREATED:20240806T203547Z
LAST-MODIFIED:20240806T203547Z
UID:1251-1724083200-1724085900@pcfamilysupport.org
SUMMARY:Children's Art Class
DESCRIPTION:
URL:https://pcfamilysupport.org/event/childrens-art-class-2/
LOCATION:155 Webster St\, Hanover 02339\, 155 Webster St\, Hanover\, 02339\, United States
CATEGORIES:art class
ATTACH;FMTTYPE=image/png:https://pcfamilysupport.org/wp-content/uploads/2024/08/Arts-Rec-Children-July-Sept-2024.png
ORGANIZER;CN="Plymouth County Family Support Inc":MAILTO:events@pcfamilysupport.org
END:VEVENT
BEGIN:VEVENT
DTSTART;TZID=America/New_York:20240818T120000
DTEND;TZID=America/New_York:20240818T160000
DTSTAMP:20260421T054922
CREATED:20240806T204204Z
LAST-MODIFIED:20240806T204204Z
UID:1255-1723982400-1723996800@pcfamilysupport.org
SUMMARY:Family Cook Out
DESCRIPTION:
URL:https://pcfamilysupport.org/event/family-cook-out/
LOCATION:37 PROPRIETORS DRIVE\, MARSHFIELD MA  02050\, 37 PROPRIETORS DRIVE\, Marshfield\, MA\, 02050\, United States
CATEGORIES:Cook Out
ATTACH;FMTTYPE=image/png:https://pcfamilysupport.org/wp-content/uploads/2024/08/PCFS-4th-Annual-Cook-Out.png
ORGANIZER;CN="Plymouth County Family Support Inc":MAILTO:events@pcfamilysupport.org
END:VEVENT
BEGIN:VEVENT
DTSTART;TZID=America/New_York:20240816T153000
DTEND;TZID=America/New_York:20240816T163000
DTSTAMP:20260421T054922
CREATED:20240806T202715Z
LAST-MODIFIED:20240806T202715Z
UID:1242-1723822200-1723825800@pcfamilysupport.org
SUMMARY:Baking Summer Treats
DESCRIPTION:
URL:https://pcfamilysupport.org/event/baking-summer-treats-2/
LOCATION:60 Union St. Middleboro 02346\, 60 Union St.\, Middleboro\, MA\, 02346\, United States
CATEGORIES:Cooking class
ATTACH;FMTTYPE=image/jpeg:https://pcfamilysupport.org/wp-content/uploads/2024/08/Summer-Treats-Baking-Class.jpg
END:VEVENT
BEGIN:VEVENT
DTSTART;TZID=America/New_York:20240815T154500
DTEND;TZID=America/New_York:20240815T190000
DTSTAMP:20260421T054922
CREATED:20240806T202510Z
LAST-MODIFIED:20240806T202510Z
UID:1239-1723736700-1723748400@pcfamilysupport.org
SUMMARY:Fishing Charter
DESCRIPTION:
URL:https://pcfamilysupport.org/event/fishing-charter/
LOCATION:82 Old Dock St. Scituate\, MA 02066\, 82 Old Dock St.\, Scituate\, MA\, 02066\, United States
CATEGORIES:Trip
ATTACH;FMTTYPE=image/jpeg:https://pcfamilysupport.org/wp-content/uploads/2024/08/Sea-Fishing-Trip-Thursday-August-15th.jpg
END:VEVENT
BEGIN:VEVENT
DTSTART;TZID=America/New_York:20240814T173000
DTEND;TZID=America/New_York:20240814T183000
DTSTAMP:20260421T054922
CREATED:20240806T201350Z
LAST-MODIFIED:20240806T201350Z
UID:1225-1723656600-1723660200@pcfamilysupport.org
SUMMARY:Painting Class
DESCRIPTION:
URL:https://pcfamilysupport.org/event/painting-class-2/
LOCATION:54 Main St. #15 Lakeville\, MA 02347\, 54 Main St. #15\, Lakeville\, MA\, 02347\, United States
CATEGORIES:art class
ATTACH;FMTTYPE=image/png:https://pcfamilysupport.org/wp-content/uploads/2024/08/Painting-Class-June-August-2024.png
ORGANIZER;CN="Plymouth County Family Support Inc":MAILTO:events@pcfamilysupport.org
END:VEVENT
BEGIN:VEVENT
DTSTART;TZID=America/New_York:20240814T110000
DTEND;TZID=America/New_York:20240814T120000
DTSTAMP:20260421T054922
CREATED:20240806T201843Z
LAST-MODIFIED:20240806T201843Z
UID:1233-1723633200-1723636800@pcfamilysupport.org
SUMMARY:Adult Art Class
DESCRIPTION:
URL:https://pcfamilysupport.org/event/adult-art-class-5/
LOCATION:155 Webster St\, Hanover 02339\, 155 Webster St\, Hanover\, 02339\, United States
CATEGORIES:art class
ATTACH;FMTTYPE=image/png:https://pcfamilysupport.org/wp-content/uploads/2024/08/Arts-Rec-Adult-Class-July-Sept.png
ORGANIZER;CN="Plymouth County Family Support Inc":MAILTO:events@pcfamilysupport.org
END:VEVENT
BEGIN:VEVENT
DTSTART;TZID=America/New_York:20240813T171500
DTEND;TZID=America/New_York:20240813T180000
DTSTAMP:20260421T054922
CREATED:20240806T201145Z
LAST-MODIFIED:20240806T201145Z
UID:1223-1723569300-1723572000@pcfamilysupport.org
SUMMARY:Yoga with Melissa
DESCRIPTION:
URL:https://pcfamilysupport.org/event/yoga-with-melissa/
LOCATION:54 Main St. #15 Lakeville\, MA 02347\, 54 Main St. #15\, Lakeville\, MA\, 02347\, United States
CATEGORIES:yoga
ATTACH;FMTTYPE=image/png:https://pcfamilysupport.org/wp-content/uploads/2024/08/Yoga-July-September-2024.png
ORGANIZER;CN="Plymouth County Family Support Inc":MAILTO:events@pcfamilysupport.org
END:VEVENT
BEGIN:VEVENT
DTSTART;TZID=America/New_York:20240813T103000
DTEND;TZID=America/New_York:20240813T113000
DTSTAMP:20260421T054922
CREATED:20240805T221217Z
LAST-MODIFIED:20240805T221217Z
UID:1221-1723545000-1723548600@pcfamilysupport.org
SUMMARY:Sing Explore Create
DESCRIPTION:
URL:https://pcfamilysupport.org/event/sing-explore-create-2/
LOCATION:33 Rockland St Hanover 02339\, 33 Rockland St\, Hanover\, 02339\, United States
CATEGORIES:Music/Creative Arts/Wellness
ATTACH;FMTTYPE=image/png:https://pcfamilysupport.org/wp-content/uploads/2024/08/SEC-Adult-Music-Class-Fall-Flyer-FY25.png
ORGANIZER;CN="Plymouth County Family Support Inc":MAILTO:events@pcfamilysupport.org
END:VEVENT
BEGIN:VEVENT
DTSTART;TZID=America/New_York:20240812T160000
DTEND;TZID=America/New_York:20240812T164500
DTSTAMP:20260421T054922
CREATED:20240805T174741Z
LAST-MODIFIED:20240805T174741Z
UID:1209-1723478400-1723481100@pcfamilysupport.org
SUMMARY:Children's Art Class
DESCRIPTION:
URL:https://pcfamilysupport.org/event/childrens-art-class/
LOCATION:155 Webster St\, Hanover 02339\, 155 Webster St\, Hanover\, 02339\, United States
CATEGORIES:art class
ATTACH;FMTTYPE=image/png:https://pcfamilysupport.org/wp-content/uploads/2024/08/Arts-Rec-Children-July-Sept-2024.png
ORGANIZER;CN="Plymouth County Family Support Inc":MAILTO:events@pcfamilysupport.org
END:VEVENT
BEGIN:VEVENT
DTSTART;TZID=America/New_York:20240811T170000
DTEND;TZID=America/New_York:20240811T200000
DTSTAMP:20260421T054922
CREATED:20240805T174326Z
LAST-MODIFIED:20240805T174326Z
UID:1205-1723395600-1723406400@pcfamilysupport.org
SUMMARY:Gnome Surf
DESCRIPTION:
URL:https://pcfamilysupport.org/event/gnome-surf-2/
LOCATION:125 South Shore Road Little Compton\, RI 02837\, 125 South Shore Road\, Little Compton\, RI\, 02837\, United States
CATEGORIES:Trip
ATTACH;FMTTYPE=image/png:https://pcfamilysupport.org/wp-content/uploads/2024/08/Gnome-Surf-2024-1.png
ORGANIZER;CN="Plymouth County Family Support Inc":MAILTO:events@pcfamilysupport.org
END:VEVENT
BEGIN:VEVENT
DTSTART;TZID=America/New_York:20240809T153000
DTEND;TZID=America/New_York:20240809T163000
DTSTAMP:20260421T054922
CREATED:20240805T220544Z
LAST-MODIFIED:20240805T220544Z
UID:1218-1723217400-1723221000@pcfamilysupport.org
SUMMARY:Baking Summer Treats
DESCRIPTION:
URL:https://pcfamilysupport.org/event/baking-summer-treats/
LOCATION:60 Union St. Middleboro 02346\, 60 Union St.\, Middleboro\, MA\, 02346\, United States
CATEGORIES:Cooking class
ATTACH;FMTTYPE=image/jpeg:https://pcfamilysupport.org/wp-content/uploads/2024/08/Summer-Treats-Baking-Class.jpg
END:VEVENT
BEGIN:VEVENT
DTSTART;TZID=America/New_York:20240808T170000
DTEND;TZID=America/New_York:20240808T210000
DTSTAMP:20260421T054922
CREATED:20240805T173820Z
LAST-MODIFIED:20240805T173820Z
UID:1202-1723136400-1723150800@pcfamilysupport.org
SUMMARY:Musical Bingo on the Pilgrim Belle
DESCRIPTION:
URL:https://pcfamilysupport.org/event/musical-bingo-on-the-pilgrim-belle/
LOCATION:122 Water St. Plymouth\, MA 02360\, 122 Water St.\, Plymouth\, MA\, 02360\, United States
CATEGORIES:Trip
ATTACH;FMTTYPE=image/png:https://pcfamilysupport.org/wp-content/uploads/2024/08/Musical-Bingo-on-the-Pilgrim-Belle-Thursday-August-8th.png
ORGANIZER;CN="Plymouth County Family Support Inc":MAILTO:events@pcfamilysupport.org
END:VEVENT
BEGIN:VEVENT
DTSTART;TZID=America/New_York:20240807T173000
DTEND;TZID=America/New_York:20240807T183000
DTSTAMP:20260421T054922
CREATED:20240805T170331Z
LAST-MODIFIED:20240805T171950Z
UID:1189-1723051800-1723055400@pcfamilysupport.org
SUMMARY:Painting Class
DESCRIPTION:
URL:https://pcfamilysupport.org/event/painting-class/
LOCATION:54 Main St. #15 Lakeville\, MA 02347\, 54 Main St. #15\, Lakeville\, MA\, 02347\, United States
CATEGORIES:art class
ATTACH;FMTTYPE=image/png:https://pcfamilysupport.org/wp-content/uploads/2024/08/Painting-Class-June-August-2024.png
ORGANIZER;CN="Plymouth County Family Support Inc":MAILTO:events@pcfamilysupport.org
END:VEVENT
BEGIN:VEVENT
DTSTART;TZID=America/New_York:20240807T170000
DTEND;TZID=America/New_York:20240807T190000
DTSTAMP:20260421T054922
CREATED:20240805T175347Z
LAST-MODIFIED:20240805T215020Z
UID:1194-1723050000-1723057200@pcfamilysupport.org
SUMMARY:Game Night
DESCRIPTION:
URL:https://pcfamilysupport.org/event/game-night/
LOCATION:132 South St. Plymouth\, MA  02360\, 132 South St.\, Plymouth\, MA\, 02360\, United States
CATEGORIES:Game Night
ATTACH;FMTTYPE=image/jpeg:https://pcfamilysupport.org/wp-content/uploads/2024/08/Game-Night-Wednesday-August-7th-scaled.jpg
ORGANIZER;CN="Plymouth County Family Support Inc":MAILTO:events@pcfamilysupport.org
END:VEVENT
BEGIN:VEVENT
DTSTART;TZID=America/New_York:20240807T110000
DTEND;TZID=America/New_York:20240807T120000
DTSTAMP:20260421T054922
CREATED:20240805T170649Z
LAST-MODIFIED:20240805T172004Z
UID:1192-1723028400-1723032000@pcfamilysupport.org
SUMMARY:Adult Art Class
DESCRIPTION:
URL:https://pcfamilysupport.org/event/adult-art-class-4/
LOCATION:155 Webster St\, Hanover 02339\, 155 Webster St\, Hanover\, 02339\, United States
CATEGORIES:art class
ATTACH;FMTTYPE=image/png:https://pcfamilysupport.org/wp-content/uploads/2024/08/Arts-Rec-Adult-Class-July-Sept.png
ORGANIZER;CN="Plymouth County Family Support Inc":MAILTO:events@pcfamilysupport.org
END:VEVENT
BEGIN:VEVENT
DTSTART;TZID=America/New_York:20240806T103000
DTEND;TZID=America/New_York:20240806T113000
DTSTAMP:20260421T054923
CREATED:20240805T165709Z
LAST-MODIFIED:20240805T172018Z
UID:1176-1722940200-1722943800@pcfamilysupport.org
SUMMARY:Sing Explore Create
DESCRIPTION:
URL:https://pcfamilysupport.org/event/sing-explore-create/
LOCATION:33 Rockland St Hanover 02339\, 33 Rockland St\, Hanover\, 02339\, United States
CATEGORIES:Music/Creative Arts/Wellness
ATTACH;FMTTYPE=image/png:https://pcfamilysupport.org/wp-content/uploads/2024/08/SEC-Adult-Music-Class-Fall-Flyer-FY25.png
ORGANIZER;CN="Plymouth County Family Support Inc":MAILTO:events@pcfamilysupport.org
END:VEVENT
BEGIN:VEVENT
DTSTART;TZID=America/New_York:20240629T170000
DTEND;TZID=America/New_York:20240629T200000
DTSTAMP:20260421T054923
CREATED:20240607T155926Z
LAST-MODIFIED:20240607T155926Z
UID:1161-1719680400-1719691200@pcfamilysupport.org
SUMMARY:Gnome Surf
DESCRIPTION:
URL:https://pcfamilysupport.org/event/gnome-surf/
LOCATION:MA
END:VEVENT
BEGIN:VEVENT
DTSTART;TZID=America/New_York:20240626T163000
DTEND;TZID=America/New_York:20240626T190000
DTSTAMP:20260421T054923
CREATED:20240607T153248Z
LAST-MODIFIED:20240607T153248Z
UID:1143-1719419400-1719428400@pcfamilysupport.org
SUMMARY:ASD Only-Anime Club
DESCRIPTION:
URL:https://pcfamilysupport.org/event/asd-only-anime-club-2/
LOCATION:Plymouth County Family Support\, 118 Long Pond Rd Suite 205\, Plymouth\, MA\, 02360\, United States
CATEGORIES:anime club,ASD Only
ATTACH;FMTTYPE=image/jpeg:https://pcfamilysupport.org/wp-content/uploads/2024/04/anime.jpg
ORGANIZER;CN="Plymouth County Family Support Inc":MAILTO:events@pcfamilysupport.org
END:VEVENT
BEGIN:VEVENT
DTSTART;TZID=America/New_York:20240626T083000
DTEND;TZID=America/New_York:20240626T153000
DTSTAMP:20260421T054923
CREATED:20240607T155733Z
LAST-MODIFIED:20240607T155733Z
UID:1158-1719390600-1719415800@pcfamilysupport.org
SUMMARY:Children/Family Trip to RW Zoo
DESCRIPTION:
URL:https://pcfamilysupport.org/event/children-family-trip-to-rw-zoo/
LOCATION:MA
CATEGORIES:Trip
ATTACH;FMTTYPE=image/jpeg:https://pcfamilysupport.org/wp-content/uploads/2024/06/RW-Zoo.jpeg
END:VEVENT
BEGIN:VEVENT
DTSTART;TZID=America/New_York:20240621T000000
DTEND;TZID=America/New_York:20240621T000000
DTSTAMP:20260421T054923
CREATED:20240607T155244Z
LAST-MODIFIED:20240607T155433Z
UID:1155-1718928000-1718928000@pcfamilysupport.org
SUMMARY:Lets Sing Taylor
DESCRIPTION:
URL:https://pcfamilysupport.org/event/lets-sing-taylor/
LOCATION:MA
CATEGORIES:Trip
ATTACH;FMTTYPE=image/jpeg:https://pcfamilysupport.org/wp-content/uploads/2024/06/Taylor.jpeg
END:VEVENT
BEGIN:VEVENT
DTSTART;TZID=America/New_York:20240615T100000
DTEND;TZID=America/New_York:20240615T120000
DTSTAMP:20260421T054923
CREATED:20240607T153024Z
LAST-MODIFIED:20240607T153024Z
UID:1141-1718445600-1718452800@pcfamilysupport.org
SUMMARY:Softball
DESCRIPTION:
URL:https://pcfamilysupport.org/event/softball-5/
LOCATION:167 Forest St\, Marshfield 02050\, 167 Forest St\, Marshfield\, 02050\, United States
CATEGORIES:softball
ATTACH;FMTTYPE=image/jpeg:https://pcfamilysupport.org/wp-content/uploads/2024/04/softball.jpg
ORGANIZER;CN="Plymouth County Family Support Inc":MAILTO:events@pcfamilysupport.org
END:VEVENT
BEGIN:VEVENT
DTSTART;TZID=America/New_York:20240613T180000
DTEND;TZID=America/New_York:20240613T200000
DTSTAMP:20260421T054923
CREATED:20240607T154745Z
LAST-MODIFIED:20240607T154745Z
UID:1153-1718301600-1718308800@pcfamilysupport.org
SUMMARY:Adult Dance
DESCRIPTION:
URL:https://pcfamilysupport.org/event/adult-dance/
LOCATION:MA
CATEGORIES:Dance
END:VEVENT
BEGIN:VEVENT
DTSTART;TZID=America/New_York:20240612T170000
DTEND;TZID=America/New_York:20240612T190000
DTSTAMP:20260421T054923
CREATED:20240607T154457Z
LAST-MODIFIED:20240607T154457Z
UID:1150-1718211600-1718218800@pcfamilysupport.org
SUMMARY:Board Game Night
DESCRIPTION:
URL:https://pcfamilysupport.org/event/board-game-night/
LOCATION:MA
CATEGORIES:Game Night
ATTACH;FMTTYPE=image/jpeg:https://pcfamilysupport.org/wp-content/uploads/2024/06/board-game.jpg
END:VEVENT
BEGIN:VEVENT
DTSTART;TZID=America/New_York:20240611T103000
DTEND;TZID=America/New_York:20240611T113000
DTSTAMP:20260421T054923
CREATED:20240607T153547Z
LAST-MODIFIED:20240607T153547Z
UID:1145-1718101800-1718105400@pcfamilysupport.org
SUMMARY:Music/Creative Arts/Wellness
DESCRIPTION:
URL:https://pcfamilysupport.org/event/music-creative-arts-wellness-5/
LOCATION:33 Rockland St Hanover 02339\, 33 Rockland St\, Hanover\, 02339\, United States
CATEGORIES:Music/Creative Arts/Wellness
ATTACH;FMTTYPE=image/jpeg:https://pcfamilysupport.org/wp-content/uploads/2024/04/Music-creative.jpg
ORGANIZER;CN="Plymouth County Family Support Inc":MAILTO:events@pcfamilysupport.org
END:VEVENT
END:VCALENDAR