BEGIN:VCALENDAR
VERSION:2.0
PRODID:-//Plymouth County Family Support Inc. - ECPv6.15.20//NONSGML v1.0//EN
CALSCALE:GREGORIAN
METHOD:PUBLISH
X-WR-CALNAME:Plymouth County Family Support Inc.
X-ORIGINAL-URL:https://pcfamilysupport.org
X-WR-CALDESC:Events for Plymouth County Family Support Inc.
REFRESH-INTERVAL;VALUE=DURATION:PT1H
X-Robots-Tag:noindex
X-PUBLISHED-TTL:PT1H
BEGIN:VTIMEZONE
TZID:America/New_York
BEGIN:DAYLIGHT
TZOFFSETFROM:-0500
TZOFFSETTO:-0400
TZNAME:EDT
DTSTART:20230312T070000
END:DAYLIGHT
BEGIN:STANDARD
TZOFFSETFROM:-0400
TZOFFSETTO:-0500
TZNAME:EST
DTSTART:20231105T060000
END:STANDARD
BEGIN:DAYLIGHT
TZOFFSETFROM:-0500
TZOFFSETTO:-0400
TZNAME:EDT
DTSTART:20240310T070000
END:DAYLIGHT
BEGIN:STANDARD
TZOFFSETFROM:-0400
TZOFFSETTO:-0500
TZNAME:EST
DTSTART:20241103T060000
END:STANDARD
BEGIN:DAYLIGHT
TZOFFSETFROM:-0500
TZOFFSETTO:-0400
TZNAME:EDT
DTSTART:20250309T070000
END:DAYLIGHT
BEGIN:STANDARD
TZOFFSETFROM:-0400
TZOFFSETTO:-0500
TZNAME:EST
DTSTART:20251102T060000
END:STANDARD
END:VTIMEZONE
BEGIN:VEVENT
DTSTART;TZID=America/New_York:20240807T110000
DTEND;TZID=America/New_York:20240807T120000
DTSTAMP:20260421T085914
CREATED:20240805T170649Z
LAST-MODIFIED:20240805T172004Z
UID:1192-1723028400-1723032000@pcfamilysupport.org
SUMMARY:Adult Art Class
DESCRIPTION:
URL:https://pcfamilysupport.org/event/adult-art-class-4/
LOCATION:155 Webster St\, Hanover 02339\, 155 Webster St\, Hanover\, 02339\, United States
CATEGORIES:art class
ATTACH;FMTTYPE=image/png:https://pcfamilysupport.org/wp-content/uploads/2024/08/Arts-Rec-Adult-Class-July-Sept.png
ORGANIZER;CN="Plymouth County Family Support Inc":MAILTO:events@pcfamilysupport.org
END:VEVENT
BEGIN:VEVENT
DTSTART;TZID=America/New_York:20240806T103000
DTEND;TZID=America/New_York:20240806T113000
DTSTAMP:20260421T085914
CREATED:20240805T165709Z
LAST-MODIFIED:20240805T172018Z
UID:1176-1722940200-1722943800@pcfamilysupport.org
SUMMARY:Sing Explore Create
DESCRIPTION:
URL:https://pcfamilysupport.org/event/sing-explore-create/
LOCATION:33 Rockland St Hanover 02339\, 33 Rockland St\, Hanover\, 02339\, United States
CATEGORIES:Music/Creative Arts/Wellness
ATTACH;FMTTYPE=image/png:https://pcfamilysupport.org/wp-content/uploads/2024/08/SEC-Adult-Music-Class-Fall-Flyer-FY25.png
ORGANIZER;CN="Plymouth County Family Support Inc":MAILTO:events@pcfamilysupport.org
END:VEVENT
BEGIN:VEVENT
DTSTART;TZID=America/New_York:20240629T170000
DTEND;TZID=America/New_York:20240629T200000
DTSTAMP:20260421T085914
CREATED:20240607T155926Z
LAST-MODIFIED:20240607T155926Z
UID:1161-1719680400-1719691200@pcfamilysupport.org
SUMMARY:Gnome Surf
DESCRIPTION:
URL:https://pcfamilysupport.org/event/gnome-surf/
LOCATION:MA
END:VEVENT
BEGIN:VEVENT
DTSTART;TZID=America/New_York:20240626T163000
DTEND;TZID=America/New_York:20240626T190000
DTSTAMP:20260421T085914
CREATED:20240607T153248Z
LAST-MODIFIED:20240607T153248Z
UID:1143-1719419400-1719428400@pcfamilysupport.org
SUMMARY:ASD Only-Anime Club
DESCRIPTION:
URL:https://pcfamilysupport.org/event/asd-only-anime-club-2/
LOCATION:Plymouth County Family Support\, 118 Long Pond Rd Suite 205\, Plymouth\, MA\, 02360\, United States
CATEGORIES:anime club,ASD Only
ATTACH;FMTTYPE=image/jpeg:https://pcfamilysupport.org/wp-content/uploads/2024/04/anime.jpg
ORGANIZER;CN="Plymouth County Family Support Inc":MAILTO:events@pcfamilysupport.org
END:VEVENT
BEGIN:VEVENT
DTSTART;TZID=America/New_York:20240626T083000
DTEND;TZID=America/New_York:20240626T153000
DTSTAMP:20260421T085914
CREATED:20240607T155733Z
LAST-MODIFIED:20240607T155733Z
UID:1158-1719390600-1719415800@pcfamilysupport.org
SUMMARY:Children/Family Trip to RW Zoo
DESCRIPTION:
URL:https://pcfamilysupport.org/event/children-family-trip-to-rw-zoo/
LOCATION:MA
CATEGORIES:Trip
ATTACH;FMTTYPE=image/jpeg:https://pcfamilysupport.org/wp-content/uploads/2024/06/RW-Zoo.jpeg
END:VEVENT
BEGIN:VEVENT
DTSTART;TZID=America/New_York:20240621T000000
DTEND;TZID=America/New_York:20240621T000000
DTSTAMP:20260421T085914
CREATED:20240607T155244Z
LAST-MODIFIED:20240607T155433Z
UID:1155-1718928000-1718928000@pcfamilysupport.org
SUMMARY:Lets Sing Taylor
DESCRIPTION:
URL:https://pcfamilysupport.org/event/lets-sing-taylor/
LOCATION:MA
CATEGORIES:Trip
ATTACH;FMTTYPE=image/jpeg:https://pcfamilysupport.org/wp-content/uploads/2024/06/Taylor.jpeg
END:VEVENT
BEGIN:VEVENT
DTSTART;TZID=America/New_York:20240615T100000
DTEND;TZID=America/New_York:20240615T120000
DTSTAMP:20260421T085914
CREATED:20240607T153024Z
LAST-MODIFIED:20240607T153024Z
UID:1141-1718445600-1718452800@pcfamilysupport.org
SUMMARY:Softball
DESCRIPTION:
URL:https://pcfamilysupport.org/event/softball-5/
LOCATION:167 Forest St\, Marshfield 02050\, 167 Forest St\, Marshfield\, 02050\, United States
CATEGORIES:softball
ATTACH;FMTTYPE=image/jpeg:https://pcfamilysupport.org/wp-content/uploads/2024/04/softball.jpg
ORGANIZER;CN="Plymouth County Family Support Inc":MAILTO:events@pcfamilysupport.org
END:VEVENT
BEGIN:VEVENT
DTSTART;TZID=America/New_York:20240613T180000
DTEND;TZID=America/New_York:20240613T200000
DTSTAMP:20260421T085914
CREATED:20240607T154745Z
LAST-MODIFIED:20240607T154745Z
UID:1153-1718301600-1718308800@pcfamilysupport.org
SUMMARY:Adult Dance
DESCRIPTION:
URL:https://pcfamilysupport.org/event/adult-dance/
LOCATION:MA
CATEGORIES:Dance
END:VEVENT
BEGIN:VEVENT
DTSTART;TZID=America/New_York:20240612T170000
DTEND;TZID=America/New_York:20240612T190000
DTSTAMP:20260421T085914
CREATED:20240607T154457Z
LAST-MODIFIED:20240607T154457Z
UID:1150-1718211600-1718218800@pcfamilysupport.org
SUMMARY:Board Game Night
DESCRIPTION:
URL:https://pcfamilysupport.org/event/board-game-night/
LOCATION:MA
CATEGORIES:Game Night
ATTACH;FMTTYPE=image/jpeg:https://pcfamilysupport.org/wp-content/uploads/2024/06/board-game.jpg
END:VEVENT
BEGIN:VEVENT
DTSTART;TZID=America/New_York:20240611T103000
DTEND;TZID=America/New_York:20240611T113000
DTSTAMP:20260421T085914
CREATED:20240607T153547Z
LAST-MODIFIED:20240607T153547Z
UID:1145-1718101800-1718105400@pcfamilysupport.org
SUMMARY:Music/Creative Arts/Wellness
DESCRIPTION:
URL:https://pcfamilysupport.org/event/music-creative-arts-wellness-5/
LOCATION:33 Rockland St Hanover 02339\, 33 Rockland St\, Hanover\, 02339\, United States
CATEGORIES:Music/Creative Arts/Wellness
ATTACH;FMTTYPE=image/jpeg:https://pcfamilysupport.org/wp-content/uploads/2024/04/Music-creative.jpg
ORGANIZER;CN="Plymouth County Family Support Inc":MAILTO:events@pcfamilysupport.org
END:VEVENT
BEGIN:VEVENT
DTSTART;TZID=America/New_York:20240610T150000
DTEND;TZID=America/New_York:20240610T210000
DTSTAMP:20260421T085914
CREATED:20240607T154030Z
LAST-MODIFIED:20240607T154030Z
UID:1147-1718031600-1718053200@pcfamilysupport.org
SUMMARY:Duck Boat Tour
DESCRIPTION:
URL:https://pcfamilysupport.org/event/duck-boat-tour/
LOCATION:MA
CATEGORIES:Trip
ATTACH;FMTTYPE=image/jpeg:https://pcfamilysupport.org/wp-content/uploads/2024/06/Duck-Boat.jpg
END:VEVENT
BEGIN:VEVENT
DTSTART;TZID=America/New_York:20240609T093000
DTEND;TZID=America/New_York:20240609T150000
DTSTAMP:20260421T085914
CREATED:20240606T184255Z
LAST-MODIFIED:20240606T184255Z
UID:1138-1717925400-1717945200@pcfamilysupport.org
SUMMARY:ASD Only: Global Flight Simulator
DESCRIPTION:
URL:https://pcfamilysupport.org/event/asd-only-global-flight-simulator/
LOCATION:MA
CATEGORIES:ASD Only
ATTACH;FMTTYPE=image/jpeg:https://pcfamilysupport.org/wp-content/uploads/2024/06/flight-sim.jpg
END:VEVENT
BEGIN:VEVENT
DTSTART;TZID=America/New_York:20240608T100000
DTEND;TZID=America/New_York:20240608T120000
DTSTAMP:20260421T085914
CREATED:20240606T183722Z
LAST-MODIFIED:20240606T183722Z
UID:1136-1717840800-1717848000@pcfamilysupport.org
SUMMARY:Softball
DESCRIPTION:
URL:https://pcfamilysupport.org/event/softball-4/
LOCATION:167 Forest St\, Marshfield 02050\, 167 Forest St\, Marshfield\, 02050\, United States
CATEGORIES:softball
ATTACH;FMTTYPE=image/jpeg:https://pcfamilysupport.org/wp-content/uploads/2024/04/softball.jpg
ORGANIZER;CN="Plymouth County Family Support Inc":MAILTO:events@pcfamilysupport.org
END:VEVENT
BEGIN:VEVENT
DTSTART;TZID=America/New_York:20240531T153000
DTEND;TZID=America/New_York:20240531T163000
DTSTAMP:20260421T085914
CREATED:20240430T181156Z
LAST-MODIFIED:20240501T182349Z
UID:1038-1717169400-1717173000@pcfamilysupport.org
SUMMARY:Cooking Class
DESCRIPTION:
URL:https://pcfamilysupport.org/event/cooking-class-17/
LOCATION:60 Union St Middleboro 02346\, 60 Union St\, Middleboro\, 02346\, United States
CATEGORIES:Cooking class
ATTACH;FMTTYPE=image/jpeg:https://pcfamilysupport.org/wp-content/uploads/2024/05/cooking-class.jpg
ORGANIZER;CN="Plymouth County Family Support Inc":MAILTO:events@pcfamilysupport.org
END:VEVENT
BEGIN:VEVENT
DTSTART;TZID=America/New_York:20240529T050000
DTEND;TZID=America/New_York:20240529T050000
DTSTAMP:20260421T085914
CREATED:20240430T191225Z
LAST-MODIFIED:20240430T191225Z
UID:1114-1716958800-1716958800@pcfamilysupport.org
SUMMARY:NYC Trip
DESCRIPTION:
URL:https://pcfamilysupport.org/event/nyc-trip/
LOCATION:MA
CATEGORIES:Trip
ATTACH;FMTTYPE=image/webp:https://pcfamilysupport.org/wp-content/uploads/2024/04/i-love-nyc.webp
END:VEVENT
BEGIN:VEVENT
DTSTART;TZID=America/New_York:20240528T171500
DTEND;TZID=America/New_York:20240528T180000
DTSTAMP:20260421T085914
CREATED:20240430T184120Z
LAST-MODIFIED:20240501T181459Z
UID:1070-1716916500-1716919200@pcfamilysupport.org
SUMMARY:Adult Yoga
DESCRIPTION:
URL:https://pcfamilysupport.org/event/adult-yoga-4/
LOCATION:60 Union St Middleboro 02346\, 60 Union St\, Middleboro\, 02346\, United States
CATEGORIES:yoga
ATTACH;FMTTYPE=image/png:https://pcfamilysupport.org/wp-content/uploads/2024/04/yoga-warrior-two-pose.png
ORGANIZER;CN="Plymouth County Family Support Inc":MAILTO:events@pcfamilysupport.org
END:VEVENT
BEGIN:VEVENT
DTSTART;TZID=America/New_York:20240528T103000
DTEND;TZID=America/New_York:20240528T113000
DTSTAMP:20260421T085914
CREATED:20240430T182545Z
LAST-MODIFIED:20240501T183015Z
UID:1057-1716892200-1716895800@pcfamilysupport.org
SUMMARY:Music/Creative Arts/Wellness
DESCRIPTION:
URL:https://pcfamilysupport.org/event/music-creative-arts-wellness-4/
LOCATION:33 Rockland St Hanover 02339\, 33 Rockland St\, Hanover\, 02339\, United States
CATEGORIES:Music/Creative Arts/Wellness
ATTACH;FMTTYPE=image/jpeg:https://pcfamilysupport.org/wp-content/uploads/2024/04/Music-creative.jpg
ORGANIZER;CN="Plymouth County Family Support Inc":MAILTO:events@pcfamilysupport.org
END:VEVENT
BEGIN:VEVENT
DTSTART;TZID=America/New_York:20240528T090000
DTEND;TZID=America/New_York:20240528T100000
DTSTAMP:20260421T085914
CREATED:20240430T181747Z
LAST-MODIFIED:20240501T183455Z
UID:1047-1716886800-1716890400@pcfamilysupport.org
SUMMARY:Pickleball
DESCRIPTION:
URL:https://pcfamilysupport.org/event/pickleball-6/
LOCATION:Marshfield Boys & Girls Club\, 37 Proprietors Dr\, Marshfield\, MA\, 02050\, United States
CATEGORIES:pickleball
ATTACH;FMTTYPE=image/webp:https://pcfamilysupport.org/wp-content/uploads/2023/12/pickleball.webp
ORGANIZER;CN="Plymouth County Family Support Inc":MAILTO:events@pcfamilysupport.org
END:VEVENT
BEGIN:VEVENT
DTSTART;TZID=America/New_York:20240525T143000
DTEND;TZID=America/New_York:20240525T151500
DTSTAMP:20260421T085914
CREATED:20240430T190935Z
LAST-MODIFIED:20240501T184115Z
UID:1111-1716647400-1716650100@pcfamilysupport.org
SUMMARY:We Can Dance (2-6 years)
DESCRIPTION:
URL:https://pcfamilysupport.org/event/we-can-dance-2-6-years-2/
LOCATION:116 Long Pond Rd\, Plymouth 02360\, 116 Long Pond Rd\, Plymouth\, 02360\, United States
CATEGORIES:Dance
ATTACH;FMTTYPE=image/jpeg:https://pcfamilysupport.org/wp-content/uploads/2024/04/dance.jpg
ORGANIZER;CN="Plymouth County Family Support Inc":MAILTO:events@pcfamilysupport.org
END:VEVENT
BEGIN:VEVENT
DTSTART;TZID=America/New_York:20240525T143000
DTEND;TZID=America/New_York:20240525T151500
DTSTAMP:20260421T085914
CREATED:20240430T190546Z
LAST-MODIFIED:20240501T184357Z
UID:1104-1716647400-1716650100@pcfamilysupport.org
SUMMARY:We Can Dance (7+)
DESCRIPTION:
URL:https://pcfamilysupport.org/event/we-can-dance-7-3/
LOCATION:116 Long Pond Rd\, Plymouth 02360\, 116 Long Pond Rd\, Plymouth\, 02360\, United States
CATEGORIES:Dance
ATTACH;FMTTYPE=image/jpeg:https://pcfamilysupport.org/wp-content/uploads/2024/04/dance.jpg
ORGANIZER;CN="Plymouth County Family Support Inc":MAILTO:events@pcfamilysupport.org
END:VEVENT
BEGIN:VEVENT
DTSTART;TZID=America/New_York:20240522T080000
DTEND;TZID=America/New_York:20240522T170000
DTSTAMP:20260421T085914
CREATED:20240430T185859Z
LAST-MODIFIED:20240430T185859Z
UID:1092-1716364800-1716397200@pcfamilysupport.org
SUMMARY:Blue Man Group
DESCRIPTION:
URL:https://pcfamilysupport.org/event/blue-man-group/
LOCATION:Charles Playhouse\, 74 Warrenton St\, Boston\, MA\, 02138\, United States
CATEGORIES:Trip
ATTACH;FMTTYPE=image/jpeg:https://pcfamilysupport.org/wp-content/uploads/2024/04/Blue-Man-Group.jpg
END:VEVENT
BEGIN:VEVENT
DTSTART;TZID=America/New_York:20240521T171500
DTEND;TZID=America/New_York:20240521T180000
DTSTAMP:20260421T085914
CREATED:20240430T184057Z
LAST-MODIFIED:20240501T181354Z
UID:1069-1716311700-1716314400@pcfamilysupport.org
SUMMARY:Adult Yoga
DESCRIPTION:
URL:https://pcfamilysupport.org/event/adult-yoga-3/
LOCATION:60 Union St Middleboro 02346\, 60 Union St\, Middleboro\, 02346\, United States
CATEGORIES:yoga
ATTACH;FMTTYPE=image/png:https://pcfamilysupport.org/wp-content/uploads/2024/04/yoga-warrior-two-pose.png
ORGANIZER;CN="Plymouth County Family Support Inc":MAILTO:events@pcfamilysupport.org
END:VEVENT
BEGIN:VEVENT
DTSTART;TZID=America/New_York:20240521T103000
DTEND;TZID=America/New_York:20240521T113000
DTSTAMP:20260421T085914
CREATED:20240430T182509Z
LAST-MODIFIED:20240501T182923Z
UID:1058-1716287400-1716291000@pcfamilysupport.org
SUMMARY:Music/Creative Arts/Wellness
DESCRIPTION:
URL:https://pcfamilysupport.org/event/music-creative-arts-wellness-3/
LOCATION:33 Rockland St Hanover 02339\, 33 Rockland St\, Hanover\, 02339\, United States
CATEGORIES:Music/Creative Arts/Wellness
ATTACH;FMTTYPE=image/jpeg:https://pcfamilysupport.org/wp-content/uploads/2024/04/Music-creative.jpg
ORGANIZER;CN="Plymouth County Family Support Inc":MAILTO:events@pcfamilysupport.org
END:VEVENT
BEGIN:VEVENT
DTSTART;TZID=America/New_York:20240521T090000
DTEND;TZID=America/New_York:20240521T100000
DTSTAMP:20260421T085914
CREATED:20240430T181715Z
LAST-MODIFIED:20240501T183402Z
UID:1048-1716282000-1716285600@pcfamilysupport.org
SUMMARY:Pickleball
DESCRIPTION:
URL:https://pcfamilysupport.org/event/pickleball-5/
LOCATION:Marshfield Boys & Girls Club\, 37 Proprietors Dr\, Marshfield\, MA\, 02050\, United States
CATEGORIES:pickleball
ATTACH;FMTTYPE=image/webp:https://pcfamilysupport.org/wp-content/uploads/2023/12/pickleball.webp
ORGANIZER;CN="Plymouth County Family Support Inc":MAILTO:events@pcfamilysupport.org
END:VEVENT
BEGIN:VEVENT
DTSTART;TZID=America/New_York:20240518T100000
DTEND;TZID=America/New_York:20240518T120000
DTSTAMP:20260421T085914
CREATED:20240430T185456Z
LAST-MODIFIED:20240501T183800Z
UID:1087-1716026400-1716033600@pcfamilysupport.org
SUMMARY:Softball
DESCRIPTION:
URL:https://pcfamilysupport.org/event/softball-3/
LOCATION:167 Forest St\, Marshfield 02050\, 167 Forest St\, Marshfield\, 02050\, United States
CATEGORIES:softball
ATTACH;FMTTYPE=image/jpeg:https://pcfamilysupport.org/wp-content/uploads/2024/04/softball.jpg
ORGANIZER;CN="Plymouth County Family Support Inc":MAILTO:events@pcfamilysupport.org
END:VEVENT
BEGIN:VEVENT
DTSTART;TZID=America/New_York:20240517T173000
DTEND;TZID=America/New_York:20240517T220000
DTSTAMP:20260421T085914
CREATED:20240430T185003Z
LAST-MODIFIED:20240430T185003Z
UID:1080-1715967000-1715983200@pcfamilysupport.org
SUMMARY:ASD Only-Whose Line Is It Anyways
DESCRIPTION:
URL:https://pcfamilysupport.org/event/asd-only-whose-line-is-it-anyways/
LOCATION:Plymouth County Family Support\, 118 Long Pond Rd Suite 205\, Plymouth\, MA\, 02360\, United States
CATEGORIES:ASD Only
ATTACH;FMTTYPE=image/jpeg:https://pcfamilysupport.org/wp-content/uploads/2024/04/whose-line-is-it.jpg
ORGANIZER;CN="Plymouth County Family Support Inc":MAILTO:events@pcfamilysupport.org
END:VEVENT
BEGIN:VEVENT
DTSTART;TZID=America/New_York:20240517T153000
DTEND;TZID=America/New_York:20240517T163000
DTSTAMP:20260421T085914
CREATED:20240430T181115Z
LAST-MODIFIED:20240501T182225Z
UID:1039-1715959800-1715963400@pcfamilysupport.org
SUMMARY:Cooking Class
DESCRIPTION:
URL:https://pcfamilysupport.org/event/cooking-class-16/
LOCATION:60 Union St Middleboro 02346\, 60 Union St\, Middleboro\, 02346\, United States
CATEGORIES:Cooking class
ATTACH;FMTTYPE=image/jpeg:https://pcfamilysupport.org/wp-content/uploads/2024/05/cooking-class.jpg
ORGANIZER;CN="Plymouth County Family Support Inc":MAILTO:events@pcfamilysupport.org
END:VEVENT
BEGIN:VEVENT
DTSTART;TZID=America/New_York:20240516T180000
DTEND;TZID=America/New_York:20240516T200000
DTSTAMP:20260421T085914
CREATED:20231003T020102Z
LAST-MODIFIED:20240430T185228Z
UID:824-1715882400-1715889600@pcfamilysupport.org
SUMMARY:Dance
DESCRIPTION:
URL:https://pcfamilysupport.org/event/dance-2/
LOCATION:Plymouth County Family Support\, 118 Long Pond Rd Suite 205\, Plymouth\, MA\, 02360\, United States
CATEGORIES:Dance
ATTACH;FMTTYPE=image/jpeg:https://pcfamilysupport.org/wp-content/uploads/2022/10/pcfs-logo.jpg
ORGANIZER;CN="Plymouth County Family Support Inc":MAILTO:events@pcfamilysupport.org
END:VEVENT
BEGIN:VEVENT
DTSTART;TZID=America/New_York:20240515T163000
DTEND;TZID=America/New_York:20240515T190000
DTSTAMP:20260421T085914
CREATED:20240430T184621Z
LAST-MODIFIED:20240430T184621Z
UID:1074-1715790600-1715799600@pcfamilysupport.org
SUMMARY:ASD Only-Anime Club
DESCRIPTION:
URL:https://pcfamilysupport.org/event/asd-only-anime-club/
LOCATION:Plymouth County Family Support\, 118 Long Pond Rd Suite 205\, Plymouth\, MA\, 02360\, United States
CATEGORIES:anime club,ASD Only
ATTACH;FMTTYPE=image/jpeg:https://pcfamilysupport.org/wp-content/uploads/2024/04/anime.jpg
ORGANIZER;CN="Plymouth County Family Support Inc":MAILTO:events@pcfamilysupport.org
END:VEVENT
BEGIN:VEVENT
DTSTART;TZID=America/New_York:20240514T171500
DTEND;TZID=America/New_York:20240514T180000
DTSTAMP:20260421T085914
CREATED:20240430T184042Z
LAST-MODIFIED:20240501T181236Z
UID:1068-1715706900-1715709600@pcfamilysupport.org
SUMMARY:Adult Yoga
DESCRIPTION:
URL:https://pcfamilysupport.org/event/adult-yoga-2/
LOCATION:60 Union St Middleboro 02346\, 60 Union St\, Middleboro\, 02346\, United States
CATEGORIES:yoga
ATTACH;FMTTYPE=image/png:https://pcfamilysupport.org/wp-content/uploads/2024/04/yoga-warrior-two-pose.png
ORGANIZER;CN="Plymouth County Family Support Inc":MAILTO:events@pcfamilysupport.org
END:VEVENT
END:VCALENDAR