BEGIN:VCALENDAR
VERSION:2.0
PRODID:-//Plymouth County Family Support Inc. - ECPv6.15.20//NONSGML v1.0//EN
CALSCALE:GREGORIAN
METHOD:PUBLISH
X-ORIGINAL-URL:https://pcfamilysupport.org
X-WR-CALDESC:Events for Plymouth County Family Support Inc.
REFRESH-INTERVAL;VALUE=DURATION:PT1H
X-Robots-Tag:noindex
X-PUBLISHED-TTL:PT1H
BEGIN:VTIMEZONE
TZID:America/New_York
BEGIN:DAYLIGHT
TZOFFSETFROM:-0500
TZOFFSETTO:-0400
TZNAME:EDT
DTSTART:20230312T070000
END:DAYLIGHT
BEGIN:STANDARD
TZOFFSETFROM:-0400
TZOFFSETTO:-0500
TZNAME:EST
DTSTART:20231105T060000
END:STANDARD
BEGIN:DAYLIGHT
TZOFFSETFROM:-0500
TZOFFSETTO:-0400
TZNAME:EDT
DTSTART:20240310T070000
END:DAYLIGHT
BEGIN:STANDARD
TZOFFSETFROM:-0400
TZOFFSETTO:-0500
TZNAME:EST
DTSTART:20241103T060000
END:STANDARD
BEGIN:DAYLIGHT
TZOFFSETFROM:-0500
TZOFFSETTO:-0400
TZNAME:EDT
DTSTART:20250309T070000
END:DAYLIGHT
BEGIN:STANDARD
TZOFFSETFROM:-0400
TZOFFSETTO:-0500
TZNAME:EST
DTSTART:20251102T060000
END:STANDARD
END:VTIMEZONE
BEGIN:VEVENT
DTSTART;TZID=America/New_York:20240522T080000
DTEND;TZID=America/New_York:20240522T170000
DTSTAMP:20260421T121357
CREATED:20240430T185859Z
LAST-MODIFIED:20240430T185859Z
UID:1092-1716364800-1716397200@pcfamilysupport.org
SUMMARY:Blue Man Group
DESCRIPTION:
URL:https://pcfamilysupport.org/event/blue-man-group/
LOCATION:Charles Playhouse\, 74 Warrenton St\, Boston\, MA\, 02138\, United States
CATEGORIES:Trip
ATTACH;FMTTYPE=image/jpeg:https://pcfamilysupport.org/wp-content/uploads/2024/04/Blue-Man-Group.jpg
END:VEVENT
BEGIN:VEVENT
DTSTART;TZID=America/New_York:20240521T171500
DTEND;TZID=America/New_York:20240521T180000
DTSTAMP:20260421T121357
CREATED:20240430T184057Z
LAST-MODIFIED:20240501T181354Z
UID:1069-1716311700-1716314400@pcfamilysupport.org
SUMMARY:Adult Yoga
DESCRIPTION:
URL:https://pcfamilysupport.org/event/adult-yoga-3/
LOCATION:60 Union St Middleboro 02346\, 60 Union St\, Middleboro\, 02346\, United States
CATEGORIES:yoga
ATTACH;FMTTYPE=image/png:https://pcfamilysupport.org/wp-content/uploads/2024/04/yoga-warrior-two-pose.png
ORGANIZER;CN="Plymouth County Family Support Inc":MAILTO:events@pcfamilysupport.org
END:VEVENT
BEGIN:VEVENT
DTSTART;TZID=America/New_York:20240521T103000
DTEND;TZID=America/New_York:20240521T113000
DTSTAMP:20260421T121357
CREATED:20240430T182509Z
LAST-MODIFIED:20240501T182923Z
UID:1058-1716287400-1716291000@pcfamilysupport.org
SUMMARY:Music/Creative Arts/Wellness
DESCRIPTION:
URL:https://pcfamilysupport.org/event/music-creative-arts-wellness-3/
LOCATION:33 Rockland St Hanover 02339\, 33 Rockland St\, Hanover\, 02339\, United States
CATEGORIES:Music/Creative Arts/Wellness
ATTACH;FMTTYPE=image/jpeg:https://pcfamilysupport.org/wp-content/uploads/2024/04/Music-creative.jpg
ORGANIZER;CN="Plymouth County Family Support Inc":MAILTO:events@pcfamilysupport.org
END:VEVENT
BEGIN:VEVENT
DTSTART;TZID=America/New_York:20240521T090000
DTEND;TZID=America/New_York:20240521T100000
DTSTAMP:20260421T121357
CREATED:20240430T181715Z
LAST-MODIFIED:20240501T183402Z
UID:1048-1716282000-1716285600@pcfamilysupport.org
SUMMARY:Pickleball
DESCRIPTION:
URL:https://pcfamilysupport.org/event/pickleball-5/
LOCATION:Marshfield Boys & Girls Club\, 37 Proprietors Dr\, Marshfield\, MA\, 02050\, United States
CATEGORIES:pickleball
ATTACH;FMTTYPE=image/webp:https://pcfamilysupport.org/wp-content/uploads/2023/12/pickleball.webp
ORGANIZER;CN="Plymouth County Family Support Inc":MAILTO:events@pcfamilysupport.org
END:VEVENT
BEGIN:VEVENT
DTSTART;TZID=America/New_York:20240518T100000
DTEND;TZID=America/New_York:20240518T120000
DTSTAMP:20260421T121357
CREATED:20240430T185456Z
LAST-MODIFIED:20240501T183800Z
UID:1087-1716026400-1716033600@pcfamilysupport.org
SUMMARY:Softball
DESCRIPTION:
URL:https://pcfamilysupport.org/event/softball-3/
LOCATION:167 Forest St\, Marshfield 02050\, 167 Forest St\, Marshfield\, 02050\, United States
CATEGORIES:softball
ATTACH;FMTTYPE=image/jpeg:https://pcfamilysupport.org/wp-content/uploads/2024/04/softball.jpg
ORGANIZER;CN="Plymouth County Family Support Inc":MAILTO:events@pcfamilysupport.org
END:VEVENT
BEGIN:VEVENT
DTSTART;TZID=America/New_York:20240517T173000
DTEND;TZID=America/New_York:20240517T220000
DTSTAMP:20260421T121357
CREATED:20240430T185003Z
LAST-MODIFIED:20240430T185003Z
UID:1080-1715967000-1715983200@pcfamilysupport.org
SUMMARY:ASD Only-Whose Line Is It Anyways
DESCRIPTION:
URL:https://pcfamilysupport.org/event/asd-only-whose-line-is-it-anyways/
LOCATION:Plymouth County Family Support\, 118 Long Pond Rd Suite 205\, Plymouth\, MA\, 02360\, United States
CATEGORIES:ASD Only
ATTACH;FMTTYPE=image/jpeg:https://pcfamilysupport.org/wp-content/uploads/2024/04/whose-line-is-it.jpg
ORGANIZER;CN="Plymouth County Family Support Inc":MAILTO:events@pcfamilysupport.org
END:VEVENT
BEGIN:VEVENT
DTSTART;TZID=America/New_York:20240517T153000
DTEND;TZID=America/New_York:20240517T163000
DTSTAMP:20260421T121357
CREATED:20240430T181115Z
LAST-MODIFIED:20240501T182225Z
UID:1039-1715959800-1715963400@pcfamilysupport.org
SUMMARY:Cooking Class
DESCRIPTION:
URL:https://pcfamilysupport.org/event/cooking-class-16/
LOCATION:60 Union St Middleboro 02346\, 60 Union St\, Middleboro\, 02346\, United States
CATEGORIES:Cooking class
ATTACH;FMTTYPE=image/jpeg:https://pcfamilysupport.org/wp-content/uploads/2024/05/cooking-class.jpg
ORGANIZER;CN="Plymouth County Family Support Inc":MAILTO:events@pcfamilysupport.org
END:VEVENT
BEGIN:VEVENT
DTSTART;TZID=America/New_York:20240516T180000
DTEND;TZID=America/New_York:20240516T200000
DTSTAMP:20260421T121357
CREATED:20231003T020102Z
LAST-MODIFIED:20240430T185228Z
UID:824-1715882400-1715889600@pcfamilysupport.org
SUMMARY:Dance
DESCRIPTION:
URL:https://pcfamilysupport.org/event/dance-2/
LOCATION:Plymouth County Family Support\, 118 Long Pond Rd Suite 205\, Plymouth\, MA\, 02360\, United States
CATEGORIES:Dance
ATTACH;FMTTYPE=image/jpeg:https://pcfamilysupport.org/wp-content/uploads/2022/10/pcfs-logo.jpg
ORGANIZER;CN="Plymouth County Family Support Inc":MAILTO:events@pcfamilysupport.org
END:VEVENT
BEGIN:VEVENT
DTSTART;TZID=America/New_York:20240515T163000
DTEND;TZID=America/New_York:20240515T190000
DTSTAMP:20260421T121357
CREATED:20240430T184621Z
LAST-MODIFIED:20240430T184621Z
UID:1074-1715790600-1715799600@pcfamilysupport.org
SUMMARY:ASD Only-Anime Club
DESCRIPTION:
URL:https://pcfamilysupport.org/event/asd-only-anime-club/
LOCATION:Plymouth County Family Support\, 118 Long Pond Rd Suite 205\, Plymouth\, MA\, 02360\, United States
CATEGORIES:anime club,ASD Only
ATTACH;FMTTYPE=image/jpeg:https://pcfamilysupport.org/wp-content/uploads/2024/04/anime.jpg
ORGANIZER;CN="Plymouth County Family Support Inc":MAILTO:events@pcfamilysupport.org
END:VEVENT
BEGIN:VEVENT
DTSTART;TZID=America/New_York:20240514T171500
DTEND;TZID=America/New_York:20240514T180000
DTSTAMP:20260421T121357
CREATED:20240430T184042Z
LAST-MODIFIED:20240501T181236Z
UID:1068-1715706900-1715709600@pcfamilysupport.org
SUMMARY:Adult Yoga
DESCRIPTION:
URL:https://pcfamilysupport.org/event/adult-yoga-2/
LOCATION:60 Union St Middleboro 02346\, 60 Union St\, Middleboro\, 02346\, United States
CATEGORIES:yoga
ATTACH;FMTTYPE=image/png:https://pcfamilysupport.org/wp-content/uploads/2024/04/yoga-warrior-two-pose.png
ORGANIZER;CN="Plymouth County Family Support Inc":MAILTO:events@pcfamilysupport.org
END:VEVENT
BEGIN:VEVENT
DTSTART;TZID=America/New_York:20240514T103000
DTEND;TZID=America/New_York:20240514T113000
DTSTAMP:20260421T121357
CREATED:20240430T182454Z
LAST-MODIFIED:20240501T182800Z
UID:1056-1715682600-1715686200@pcfamilysupport.org
SUMMARY:Music/Creative Arts/Wellness
DESCRIPTION:
URL:https://pcfamilysupport.org/event/music-creative-arts-wellness-2/
LOCATION:33 Rockland St Hanover 02339\, 33 Rockland St\, Hanover\, 02339\, United States
CATEGORIES:Music/Creative Arts/Wellness
ATTACH;FMTTYPE=image/jpeg:https://pcfamilysupport.org/wp-content/uploads/2024/04/Music-creative.jpg
ORGANIZER;CN="Plymouth County Family Support Inc":MAILTO:events@pcfamilysupport.org
END:VEVENT
BEGIN:VEVENT
DTSTART;TZID=America/New_York:20240514T090000
DTEND;TZID=America/New_York:20240514T100000
DTSTAMP:20260421T121357
CREATED:20240430T181700Z
LAST-MODIFIED:20240501T183306Z
UID:1049-1715677200-1715680800@pcfamilysupport.org
SUMMARY:Pickleball
DESCRIPTION:
URL:https://pcfamilysupport.org/event/pickleball-4/
LOCATION:Marshfield Boys & Girls Club\, 37 Proprietors Dr\, Marshfield\, MA\, 02050\, United States
CATEGORIES:pickleball
ATTACH;FMTTYPE=image/webp:https://pcfamilysupport.org/wp-content/uploads/2023/12/pickleball.webp
ORGANIZER;CN="Plymouth County Family Support Inc":MAILTO:events@pcfamilysupport.org
END:VEVENT
BEGIN:VEVENT
DTSTART;TZID=America/New_York:20240511T143000
DTEND;TZID=America/New_York:20240511T151500
DTSTAMP:20260421T121357
CREATED:20240430T190830Z
LAST-MODIFIED:20240501T184016Z
UID:1110-1715437800-1715440500@pcfamilysupport.org
SUMMARY:We Can Dance (2-6 years)
DESCRIPTION:
URL:https://pcfamilysupport.org/event/we-can-dance-2-6-years/
LOCATION:116 Long Pond Rd\, Plymouth 02360\, 116 Long Pond Rd\, Plymouth\, 02360\, United States
CATEGORIES:Dance
ATTACH;FMTTYPE=image/jpeg:https://pcfamilysupport.org/wp-content/uploads/2024/04/dance.jpg
ORGANIZER;CN="Plymouth County Family Support Inc":MAILTO:events@pcfamilysupport.org
END:VEVENT
BEGIN:VEVENT
DTSTART;TZID=America/New_York:20240511T143000
DTEND;TZID=America/New_York:20240511T151500
DTSTAMP:20260421T121357
CREATED:20240430T190424Z
LAST-MODIFIED:20240501T184311Z
UID:1105-1715437800-1715440500@pcfamilysupport.org
SUMMARY:We Can Dance (7+)
DESCRIPTION:
URL:https://pcfamilysupport.org/event/we-can-dance-7-2/
LOCATION:116 Long Pond Rd\, Plymouth 02360\, 116 Long Pond Rd\, Plymouth\, 02360\, United States
CATEGORIES:Dance
ATTACH;FMTTYPE=image/jpeg:https://pcfamilysupport.org/wp-content/uploads/2024/04/dance.jpg
ORGANIZER;CN="Plymouth County Family Support Inc":MAILTO:events@pcfamilysupport.org
END:VEVENT
BEGIN:VEVENT
DTSTART;TZID=America/New_York:20240511T100000
DTEND;TZID=America/New_York:20240511T120000
DTSTAMP:20260421T121357
CREATED:20240430T185427Z
LAST-MODIFIED:20240501T183713Z
UID:1088-1715421600-1715428800@pcfamilysupport.org
SUMMARY:Softball
DESCRIPTION:
URL:https://pcfamilysupport.org/event/softball-2/
LOCATION:167 Forest St\, Marshfield 02050\, 167 Forest St\, Marshfield\, 02050\, United States
CATEGORIES:softball
ATTACH;FMTTYPE=image/jpeg:https://pcfamilysupport.org/wp-content/uploads/2024/04/softball.jpg
ORGANIZER;CN="Plymouth County Family Support Inc":MAILTO:events@pcfamilysupport.org
END:VEVENT
BEGIN:VEVENT
DTSTART;TZID=America/New_York:20240510T153000
DTEND;TZID=America/New_York:20240510T163000
DTSTAMP:20260421T121357
CREATED:20240410T181015Z
LAST-MODIFIED:20240501T182011Z
UID:1040-1715355000-1715358600@pcfamilysupport.org
SUMMARY:Cooking Class
DESCRIPTION:
URL:https://pcfamilysupport.org/event/cooking-class-15/
LOCATION:60 Union St Middleboro 02346\, 60 Union St\, Middleboro\, 02346\, United States
CATEGORIES:Cooking class
ATTACH;FMTTYPE=image/jpeg:https://pcfamilysupport.org/wp-content/uploads/2024/05/cooking-class.jpg
ORGANIZER;CN="Plymouth County Family Support Inc":MAILTO:events@pcfamilysupport.org
END:VEVENT
BEGIN:VEVENT
DTSTART;TZID=America/New_York:20240507T171500
DTEND;TZID=America/New_York:20240507T180000
DTSTAMP:20260421T121357
CREATED:20240430T183726Z
LAST-MODIFIED:20240501T181100Z
UID:1065-1715102100-1715104800@pcfamilysupport.org
SUMMARY:Adult Yoga
DESCRIPTION:
URL:https://pcfamilysupport.org/event/adult-yoga/
LOCATION:60 Union St Middleboro 02346\, 60 Union St\, Middleboro\, 02346\, United States
CATEGORIES:yoga
ATTACH;FMTTYPE=image/png:https://pcfamilysupport.org/wp-content/uploads/2024/04/yoga-warrior-two-pose.png
ORGANIZER;CN="Plymouth County Family Support Inc":MAILTO:events@pcfamilysupport.org
END:VEVENT
BEGIN:VEVENT
DTSTART;TZID=America/New_York:20240507T103000
DTEND;TZID=America/New_York:20240507T113000
DTSTAMP:20260421T121357
CREATED:20240430T182230Z
LAST-MODIFIED:20240501T182603Z
UID:1053-1715077800-1715081400@pcfamilysupport.org
SUMMARY:Music/Creative Arts/Wellness
DESCRIPTION:
URL:https://pcfamilysupport.org/event/music-creative-arts-wellness/
LOCATION:33 Rockland St Hanover 02339\, 33 Rockland St\, Hanover\, 02339\, United States
CATEGORIES:Music/Creative Arts/Wellness
ATTACH;FMTTYPE=image/jpeg:https://pcfamilysupport.org/wp-content/uploads/2024/04/Music-creative.jpg
ORGANIZER;CN="Plymouth County Family Support Inc":MAILTO:events@pcfamilysupport.org
END:VEVENT
BEGIN:VEVENT
DTSTART;TZID=America/New_York:20240507T090000
DTEND;TZID=America/New_York:20240507T100000
DTSTAMP:20260421T121357
CREATED:20231228T175311Z
LAST-MODIFIED:20240501T183210Z
UID:944-1715072400-1715076000@pcfamilysupport.org
SUMMARY:Pickleball
DESCRIPTION:
URL:https://pcfamilysupport.org/event/pickleball-3/
LOCATION:Marshfield Boys & Girls Club\, 37 Proprietors Dr\, Marshfield\, MA\, 02050\, United States
CATEGORIES:pickleball
ATTACH;FMTTYPE=image/webp:https://pcfamilysupport.org/wp-content/uploads/2023/12/pickleball.webp
ORGANIZER;CN="Plymouth County Family Support Inc":MAILTO:events@pcfamilysupport.org
END:VEVENT
BEGIN:VEVENT
DTSTART;TZID=America/New_York:20240506T160000
DTEND;TZID=America/New_York:20240506T164500
DTSTAMP:20260421T121357
CREATED:20230828T172143Z
LAST-MODIFIED:20240501T181704Z
UID:686-1715011200-1715013900@pcfamilysupport.org
SUMMARY:Children's Art Class
DESCRIPTION:
URL:https://pcfamilysupport.org/event/cooking-class/
LOCATION:155 Webster St\, Hanover 02339\, 155 Webster St\, Hanover\, 02339\, United States
CATEGORIES:art class
ATTACH;FMTTYPE=image/webp:https://pcfamilysupport.org/wp-content/uploads/2023/08/kids-art-class.webp
ORGANIZER;CN="Plymouth County Family Support Inc":MAILTO:events@pcfamilysupport.org
END:VEVENT
BEGIN:VEVENT
DTSTART;TZID=America/New_York:20240504T143000
DTEND;TZID=America/New_York:20240504T151500
DTSTAMP:20260421T121357
CREATED:20240430T190736Z
LAST-MODIFIED:20240501T183933Z
UID:1108-1714833000-1714835700@pcfamilysupport.org
SUMMARY:We Can Dance (2-6 years)
DESCRIPTION:
URL:https://pcfamilysupport.org/event/we-can-dance-2-6/
LOCATION:116 Long Pond Rd\, Plymouth 02360\, 116 Long Pond Rd\, Plymouth\, 02360\, United States
CATEGORIES:Dance
ATTACH;FMTTYPE=image/jpeg:https://pcfamilysupport.org/wp-content/uploads/2024/04/dance.jpg
ORGANIZER;CN="Plymouth County Family Support Inc":MAILTO:events@pcfamilysupport.org
END:VEVENT
BEGIN:VEVENT
DTSTART;TZID=America/New_York:20240504T143000
DTEND;TZID=America/New_York:20240504T151500
DTSTAMP:20260421T121357
CREATED:20240430T190306Z
LAST-MODIFIED:20240501T184225Z
UID:1095-1714833000-1714835700@pcfamilysupport.org
SUMMARY:We Can Dance (7+)
DESCRIPTION:
URL:https://pcfamilysupport.org/event/we-can-dance-7/
LOCATION:116 Long Pond Rd\, Plymouth 02360\, 116 Long Pond Rd\, Plymouth\, 02360\, United States
CATEGORIES:Dance
ATTACH;FMTTYPE=image/jpeg:https://pcfamilysupport.org/wp-content/uploads/2024/04/dance.jpg
ORGANIZER;CN="Plymouth County Family Support Inc":MAILTO:events@pcfamilysupport.org
END:VEVENT
BEGIN:VEVENT
DTSTART;TZID=America/New_York:20240504T100000
DTEND;TZID=America/New_York:20240504T120000
DTSTAMP:20260421T121357
CREATED:20240430T185337Z
LAST-MODIFIED:20240501T183621Z
UID:1084-1714816800-1714824000@pcfamilysupport.org
SUMMARY:Softball
DESCRIPTION:
URL:https://pcfamilysupport.org/event/softball/
LOCATION:167 Forest St\, Marshfield 02050\, 167 Forest St\, Marshfield\, 02050\, United States
CATEGORIES:softball
ATTACH;FMTTYPE=image/jpeg:https://pcfamilysupport.org/wp-content/uploads/2024/04/softball.jpg
ORGANIZER;CN="Plymouth County Family Support Inc":MAILTO:events@pcfamilysupport.org
END:VEVENT
BEGIN:VEVENT
DTSTART;TZID=America/New_York:20240503T153000
DTEND;TZID=America/New_York:20240503T163000
DTSTAMP:20260421T121357
CREATED:20240403T193005Z
LAST-MODIFIED:20240501T181814Z
UID:832-1714750200-1714753800@pcfamilysupport.org
SUMMARY:Cooking Class
DESCRIPTION:
URL:https://pcfamilysupport.org/event/cooking-class-14/
LOCATION:60 Union St Middleboro 02346\, 60 Union St\, Middleboro\, 02346\, United States
CATEGORIES:Cooking class
ATTACH;FMTTYPE=image/jpeg:https://pcfamilysupport.org/wp-content/uploads/2024/05/cooking-class.jpg
ORGANIZER;CN="Plymouth County Family Support Inc":MAILTO:events@pcfamilysupport.org
END:VEVENT
BEGIN:VEVENT
DTSTART;TZID=America/New_York:20240118T110000
DTEND;TZID=America/New_York:20240118T120000
DTSTAMP:20260421T121357
CREATED:20231228T175104Z
LAST-MODIFIED:20231228T175104Z
UID:938-1705575600-1705579200@pcfamilysupport.org
SUMMARY:Adult Art Class
DESCRIPTION:
URL:https://pcfamilysupport.org/event/adult-art-class-3/
LOCATION:Plymouth County Family Support\, 118 Long Pond Rd Suite 205\, Plymouth\, MA\, 02360\, United States
ORGANIZER;CN="Plymouth County Family Support Inc":MAILTO:events@pcfamilysupport.org
END:VEVENT
BEGIN:VEVENT
DTSTART;TZID=America/New_York:20240116T090000
DTEND;TZID=America/New_York:20240116T100000
DTSTAMP:20260421T121357
CREATED:20231228T175240Z
LAST-MODIFIED:20231228T175240Z
UID:945-1705395600-1705399200@pcfamilysupport.org
SUMMARY:Pickleball
DESCRIPTION:
URL:https://pcfamilysupport.org/event/pickleball-2/
LOCATION:Plymouth County Family Support\, 118 Long Pond Rd Suite 205\, Plymouth\, MA\, 02360\, United States
ORGANIZER;CN="Plymouth County Family Support Inc":MAILTO:events@pcfamilysupport.org
END:VEVENT
BEGIN:VEVENT
DTSTART;TZID=America/New_York:20240115T130000
DTEND;TZID=America/New_York:20240115T170000
DTSTAMP:20260421T121357
CREATED:20231228T175712Z
LAST-MODIFIED:20231228T175712Z
UID:951-1705323600-1705338000@pcfamilysupport.org
SUMMARY:Bruins
DESCRIPTION:
URL:https://pcfamilysupport.org/event/bruins/
LOCATION:TD Garden\, 100 Legends Way\, Boston\, MA\, 02114\, United States
CATEGORIES:Trip
ORGANIZER;CN="Plymouth County Family Support Inc":MAILTO:events@pcfamilysupport.org
END:VEVENT
BEGIN:VEVENT
DTSTART;TZID=America/New_York:20240111T110000
DTEND;TZID=America/New_York:20240111T120000
DTSTAMP:20260421T121357
CREATED:20231228T175041Z
LAST-MODIFIED:20231228T175041Z
UID:939-1704970800-1704974400@pcfamilysupport.org
SUMMARY:Adult Art Class
DESCRIPTION:
URL:https://pcfamilysupport.org/event/adult-art-class-2/
LOCATION:Plymouth County Family Support\, 118 Long Pond Rd Suite 205\, Plymouth\, MA\, 02360\, United States
ORGANIZER;CN="Plymouth County Family Support Inc":MAILTO:events@pcfamilysupport.org
END:VEVENT
BEGIN:VEVENT
DTSTART;TZID=America/New_York:20240110T163000
DTEND;TZID=America/New_York:20240110T173000
DTSTAMP:20260421T121357
CREATED:20231228T175800Z
LAST-MODIFIED:20231228T175800Z
UID:953-1704904200-1704907800@pcfamilysupport.org
SUMMARY:Anime Club
DESCRIPTION:
URL:https://pcfamilysupport.org/event/anime-club/
LOCATION:Plymouth County Family Support\, 118 Long Pond Rd Suite 205\, Plymouth\, MA\, 02360\, United States
CATEGORIES:Cooking class
ORGANIZER;CN="Plymouth County Family Support Inc":MAILTO:events@pcfamilysupport.org
END:VEVENT
BEGIN:VEVENT
DTSTART;TZID=America/New_York:20240110T150000
DTEND;TZID=America/New_York:20240110T170000
DTSTAMP:20260421T121357
CREATED:20231228T175619Z
LAST-MODIFIED:20231228T175619Z
UID:948-1704898800-1704906000@pcfamilysupport.org
SUMMARY:Celtics
DESCRIPTION:
URL:https://pcfamilysupport.org/event/celtics/
LOCATION:TD Garden\, 100 Legends Way\, Boston\, MA\, 02114\, United States
CATEGORIES:Trip
ORGANIZER;CN="Plymouth County Family Support Inc":MAILTO:events@pcfamilysupport.org
END:VEVENT
END:VCALENDAR