BEGIN:VCALENDAR
VERSION:2.0
PRODID:-//Plymouth County Family Support Inc. - ECPv6.15.20//NONSGML v1.0//EN
CALSCALE:GREGORIAN
METHOD:PUBLISH
X-WR-CALNAME:Plymouth County Family Support Inc.
X-ORIGINAL-URL:https://pcfamilysupport.org
X-WR-CALDESC:Events for Plymouth County Family Support Inc.
REFRESH-INTERVAL;VALUE=DURATION:PT1H
X-Robots-Tag:noindex
X-PUBLISHED-TTL:PT1H
BEGIN:VTIMEZONE
TZID:America/New_York
BEGIN:DAYLIGHT
TZOFFSETFROM:-0500
TZOFFSETTO:-0400
TZNAME:EDT
DTSTART:20220313T070000
END:DAYLIGHT
BEGIN:STANDARD
TZOFFSETFROM:-0400
TZOFFSETTO:-0500
TZNAME:EST
DTSTART:20221106T060000
END:STANDARD
BEGIN:DAYLIGHT
TZOFFSETFROM:-0500
TZOFFSETTO:-0400
TZNAME:EDT
DTSTART:20230312T070000
END:DAYLIGHT
BEGIN:STANDARD
TZOFFSETFROM:-0400
TZOFFSETTO:-0500
TZNAME:EST
DTSTART:20231105T060000
END:STANDARD
BEGIN:DAYLIGHT
TZOFFSETFROM:-0500
TZOFFSETTO:-0400
TZNAME:EDT
DTSTART:20240310T070000
END:DAYLIGHT
BEGIN:STANDARD
TZOFFSETFROM:-0400
TZOFFSETTO:-0500
TZNAME:EST
DTSTART:20241103T060000
END:STANDARD
BEGIN:DAYLIGHT
TZOFFSETFROM:-0500
TZOFFSETTO:-0400
TZNAME:EDT
DTSTART:20250309T070000
END:DAYLIGHT
BEGIN:STANDARD
TZOFFSETFROM:-0400
TZOFFSETTO:-0500
TZNAME:EST
DTSTART:20251102T060000
END:STANDARD
END:VTIMEZONE
BEGIN:VEVENT
DTSTART;TZID=America/New_York:20240109T090000
DTEND;TZID=America/New_York:20240109T100000
DTSTAMP:20260421T170154
CREATED:20231228T175203Z
LAST-MODIFIED:20231228T175203Z
UID:942-1704790800-1704794400@pcfamilysupport.org
SUMMARY:Pickleball
DESCRIPTION:
URL:https://pcfamilysupport.org/event/pickleball/
LOCATION:Plymouth County Family Support\, 118 Long Pond Rd Suite 205\, Plymouth\, MA\, 02360\, United States
ORGANIZER;CN="Plymouth County Family Support Inc":MAILTO:events@pcfamilysupport.org
END:VEVENT
BEGIN:VEVENT
DTSTART;TZID=America/New_York:20240104T110000
DTEND;TZID=America/New_York:20240104T120000
DTSTAMP:20260421T170154
CREATED:20231228T174957Z
LAST-MODIFIED:20231228T174957Z
UID:935-1704366000-1704369600@pcfamilysupport.org
SUMMARY:Adult Art Class
DESCRIPTION:
URL:https://pcfamilysupport.org/event/adult-art-class/
LOCATION:Plymouth County Family Support\, 118 Long Pond Rd Suite 205\, Plymouth\, MA\, 02360\, United States
ORGANIZER;CN="Plymouth County Family Support Inc":MAILTO:events@pcfamilysupport.org
END:VEVENT
BEGIN:VEVENT
DTSTART;TZID=America/New_York:20231027T153000
DTEND;TZID=America/New_York:20231027T163000
DTSTAMP:20260421T170154
CREATED:20231003T014354Z
LAST-MODIFIED:20231003T014354Z
UID:809-1698420600-1698424200@pcfamilysupport.org
SUMMARY:Cooking Class
DESCRIPTION:
URL:https://pcfamilysupport.org/event/cooking-class-10/
LOCATION:Middleboro
CATEGORIES:Cooking class
END:VEVENT
BEGIN:VEVENT
DTSTART;TZID=America/New_York:20231025T110000
DTEND;TZID=America/New_York:20231025T120000
DTSTAMP:20260421T170154
CREATED:20231003T012016Z
LAST-MODIFIED:20231003T013057Z
UID:799-1698231600-1698235200@pcfamilysupport.org
SUMMARY:Cooking Class
DESCRIPTION:
URL:https://pcfamilysupport.org/event/cooking-class-6/
LOCATION:Hanover
CATEGORIES:Cooking class
END:VEVENT
BEGIN:VEVENT
DTSTART;TZID=America/New_York:20231023T170000
DTEND;TZID=America/New_York:20231023T190000
DTSTAMP:20260421T170154
CREATED:20231003T015030Z
LAST-MODIFIED:20231003T015625Z
UID:818-1698080400-1698087600@pcfamilysupport.org
SUMMARY:Pumpkin Paint Night
DESCRIPTION:
URL:https://pcfamilysupport.org/event/pumpkin-paint-night/
END:VEVENT
BEGIN:VEVENT
DTSTART;TZID=America/New_York:20231023T160000
DTEND;TZID=America/New_York:20231023T170000
DTSTAMP:20260421T170154
CREATED:20231003T015544Z
LAST-MODIFIED:20231003T015544Z
UID:820-1698076800-1698080400@pcfamilysupport.org
SUMMARY:Children's Arts and Rec
DESCRIPTION:
URL:https://pcfamilysupport.org/event/childrens-arts-and-rec/
END:VEVENT
BEGIN:VEVENT
DTSTART;TZID=America/New_York:20231022T120000
DTEND;TZID=America/New_York:20231022T150000
DTSTAMP:20260421T170154
CREATED:20231003T014857Z
LAST-MODIFIED:20231003T014857Z
UID:815-1697976000-1697986800@pcfamilysupport.org
SUMMARY:Taylor Swift
DESCRIPTION:
URL:https://pcfamilysupport.org/event/taylor-swift/
LOCATION:Regal Cinemas
CATEGORIES:Trip
END:VEVENT
BEGIN:VEVENT
DTSTART;TZID=America/New_York:20231020T153000
DTEND;TZID=America/New_York:20231020T163000
DTSTAMP:20260421T170154
CREATED:20231003T013842Z
LAST-MODIFIED:20231003T013842Z
UID:807-1697815800-1697819400@pcfamilysupport.org
SUMMARY:Cooking Class
DESCRIPTION:
URL:https://pcfamilysupport.org/event/cooking-class-9/
LOCATION:Middleboro
CATEGORIES:Cooking class
END:VEVENT
BEGIN:VEVENT
DTSTART;TZID=America/New_York:20231019T160000
DTEND;TZID=America/New_York:20231019T200000
DTSTAMP:20260421T170154
CREATED:20231003T015748Z
LAST-MODIFIED:20231003T015948Z
UID:822-1697731200-1697745600@pcfamilysupport.org
SUMMARY:Jack O Lantern Spectacular
DESCRIPTION:
URL:https://pcfamilysupport.org/event/jack-o-lantern-spectacular/
CATEGORIES:Trip
END:VEVENT
BEGIN:VEVENT
DTSTART;TZID=America/New_York:20231018T110000
DTEND;TZID=America/New_York:20231018T120000
DTSTAMP:20260421T170154
CREATED:20231003T011907Z
LAST-MODIFIED:20231003T013132Z
UID:797-1697626800-1697630400@pcfamilysupport.org
SUMMARY:Cooking Class
DESCRIPTION:
URL:https://pcfamilysupport.org/event/cooking-class-5/
LOCATION:Hanover
CATEGORIES:Cooking class
END:VEVENT
BEGIN:VEVENT
DTSTART;TZID=America/New_York:20231017T100000
DTEND;TZID=America/New_York:20231017T110000
DTSTAMP:20260421T170154
CREATED:20231003T020803Z
LAST-MODIFIED:20231003T020803Z
UID:830-1697536800-1697540400@pcfamilysupport.org
SUMMARY:Cooking Class
DESCRIPTION:
URL:https://pcfamilysupport.org/event/cooking-class-13/
CATEGORIES:Cooking class
END:VEVENT
BEGIN:VEVENT
DTSTART;TZID=America/New_York:20231013T153000
DTEND;TZID=America/New_York:20231013T163000
DTSTAMP:20260421T170154
CREATED:20231003T013752Z
LAST-MODIFIED:20231003T013752Z
UID:805-1697211000-1697214600@pcfamilysupport.org
SUMMARY:Cooking Class
DESCRIPTION:
URL:https://pcfamilysupport.org/event/cooking-class-8/
LOCATION:Middleboro
CATEGORIES:Cooking class
END:VEVENT
BEGIN:VEVENT
DTSTART;TZID=America/New_York:20231011T110000
DTEND;TZID=America/New_York:20231011T120000
DTSTAMP:20260421T170154
CREATED:20231003T011723Z
LAST-MODIFIED:20231003T013501Z
UID:795-1697022000-1697025600@pcfamilysupport.org
SUMMARY:Cooking Class
DESCRIPTION:
URL:https://pcfamilysupport.org/event/cooking-class-4/
LOCATION:Hanover
CATEGORIES:Cooking class
END:VEVENT
BEGIN:VEVENT
DTSTART;TZID=America/New_York:20231010T100000
DTEND;TZID=America/New_York:20231010T110000
DTSTAMP:20260421T170154
CREATED:20231003T020518Z
LAST-MODIFIED:20231003T020518Z
UID:828-1696932000-1696935600@pcfamilysupport.org
SUMMARY:Cooking Class
DESCRIPTION:
URL:https://pcfamilysupport.org/event/cooking-class-12/
CATEGORIES:Cooking class
END:VEVENT
BEGIN:VEVENT
DTSTART;TZID=America/New_York:20231008T080000
DTEND;TZID=America/New_York:20231008T170000
DTSTAMP:20260421T170154
CREATED:20231003T014644Z
LAST-MODIFIED:20231003T014644Z
UID:813-1696752000-1696784400@pcfamilysupport.org
SUMMARY:Salem Trip
DESCRIPTION:
URL:https://pcfamilysupport.org/event/salem-trip/
CATEGORIES:Trip
END:VEVENT
BEGIN:VEVENT
DTSTART;TZID=America/New_York:20231007T170000
DTEND;TZID=America/New_York:20231007T190000
DTSTAMP:20260421T170154
CREATED:20231003T014446Z
LAST-MODIFIED:20231003T014446Z
UID:811-1696698000-1696705200@pcfamilysupport.org
SUMMARY:Family Boat Cruise
DESCRIPTION:
URL:https://pcfamilysupport.org/event/family-boat-cruise-2/
CATEGORIES:Trip
END:VEVENT
BEGIN:VEVENT
DTSTART;TZID=America/New_York:20231006T153000
DTEND;TZID=America/New_York:20231006T163000
DTSTAMP:20260421T170154
CREATED:20231003T012707Z
LAST-MODIFIED:20231003T012707Z
UID:801-1696606200-1696609800@pcfamilysupport.org
SUMMARY:Cooking Class
DESCRIPTION:
URL:https://pcfamilysupport.org/event/cooking-class-7/
LOCATION:Middleboro
CATEGORIES:Cooking class
END:VEVENT
BEGIN:VEVENT
DTSTART;TZID=America/New_York:20231004T110000
DTEND;TZID=America/New_York:20231004T120000
DTSTAMP:20260421T170154
CREATED:20231003T011521Z
LAST-MODIFIED:20231003T013554Z
UID:793-1696417200-1696420800@pcfamilysupport.org
SUMMARY:Cooking Class
DESCRIPTION:
URL:https://pcfamilysupport.org/event/cooking-class-3/
LOCATION:Hanover
CATEGORIES:Cooking class
END:VEVENT
BEGIN:VEVENT
DTSTART;TZID=America/New_York:20231003T100000
DTEND;TZID=America/New_York:20231003T110000
DTSTAMP:20260421T170154
CREATED:20231003T020424Z
LAST-MODIFIED:20231003T020424Z
UID:826-1696327200-1696330800@pcfamilysupport.org
SUMMARY:Cooking Class
DESCRIPTION:
URL:https://pcfamilysupport.org/event/cooking-class-11/
CATEGORIES:Cooking class
END:VEVENT
BEGIN:VEVENT
DTSTART;TZID=America/New_York:20230927T160000
DTEND;TZID=America/New_York:20230927T180000
DTSTAMP:20260421T170154
CREATED:20230828T173722Z
LAST-MODIFIED:20230828T173722Z
UID:712-1695830400-1695837600@pcfamilysupport.org
SUMMARY:Price Is Right Live
DESCRIPTION:
URL:https://pcfamilysupport.org/event/price-is-right-live/
END:VEVENT
BEGIN:VEVENT
DTSTART;TZID=America/New_York:20230927T110000
DTEND;TZID=America/New_York:20230927T120000
DTSTAMP:20260421T170154
CREATED:20230828T172715Z
LAST-MODIFIED:20230828T172715Z
UID:694-1695812400-1695816000@pcfamilysupport.org
SUMMARY:Adult Cooking Class
DESCRIPTION:
URL:https://pcfamilysupport.org/event/adult-cooking-class-5/
CATEGORIES:Cooking class
END:VEVENT
BEGIN:VEVENT
DTSTART;TZID=America/New_York:20230926T103000
DTEND;TZID=America/New_York:20230926T113000
DTSTAMP:20260421T170154
CREATED:20230828T173347Z
LAST-MODIFIED:20230828T173347Z
UID:702-1695724200-1695727800@pcfamilysupport.org
SUMMARY:SEC Class
DESCRIPTION:
URL:https://pcfamilysupport.org/event/sec-class-3/
CATEGORIES:SEC Class
END:VEVENT
BEGIN:VEVENT
DTSTART;TZID=America/New_York:20230923T170000
DTEND;TZID=America/New_York:20230923T190000
DTSTAMP:20260421T170154
CREATED:20230828T173907Z
LAST-MODIFIED:20230828T173907Z
UID:716-1695488400-1695495600@pcfamilysupport.org
SUMMARY:Family Boat Cruise
DESCRIPTION:
URL:https://pcfamilysupport.org/event/family-boat-cruise/
CATEGORIES:Trip
END:VEVENT
BEGIN:VEVENT
DTSTART;TZID=America/New_York:20230923T100000
DTEND;TZID=America/New_York:20230923T110000
DTSTAMP:20260421T170154
CREATED:20230828T173940Z
LAST-MODIFIED:20230828T173940Z
UID:718-1695463200-1695466800@pcfamilysupport.org
SUMMARY:ASD Bike Class
DESCRIPTION:
URL:https://pcfamilysupport.org/event/asd-bike-class-2/
END:VEVENT
BEGIN:VEVENT
DTSTART;TZID=America/New_York:20230921T180000
DTEND;TZID=America/New_York:20230921T210000
DTSTAMP:20260421T170154
CREATED:20230828T173630Z
LAST-MODIFIED:20230828T173630Z
UID:710-1695319200-1695330000@pcfamilysupport.org
SUMMARY:Dance
DESCRIPTION:
URL:https://pcfamilysupport.org/event/dance/
CATEGORIES:Dance
END:VEVENT
BEGIN:VEVENT
DTSTART;TZID=America/New_York:20230920T110000
DTEND;TZID=America/New_York:20230920T120000
DTSTAMP:20260421T170154
CREATED:20230828T172656Z
LAST-MODIFIED:20230828T172656Z
UID:695-1695207600-1695211200@pcfamilysupport.org
SUMMARY:Adult Cooking Class
DESCRIPTION:
URL:https://pcfamilysupport.org/event/adult-cooking-class-4/
CATEGORIES:Cooking class
END:VEVENT
BEGIN:VEVENT
DTSTART;TZID=America/New_York:20230919T163000
DTEND;TZID=America/New_York:20230919T183000
DTSTAMP:20260421T170154
CREATED:20230828T173542Z
LAST-MODIFIED:20230828T173542Z
UID:708-1695141000-1695148200@pcfamilysupport.org
SUMMARY:Driving Range
DESCRIPTION:
URL:https://pcfamilysupport.org/event/driving-range/
CATEGORIES:Trip
END:VEVENT
BEGIN:VEVENT
DTSTART;TZID=America/New_York:20230919T103000
DTEND;TZID=America/New_York:20230919T113000
DTSTAMP:20260421T170154
CREATED:20230828T173252Z
LAST-MODIFIED:20230828T173301Z
UID:703-1695119400-1695123000@pcfamilysupport.org
SUMMARY:SEC Class
DESCRIPTION:
URL:https://pcfamilysupport.org/event/sec-class-2/
CATEGORIES:SEC Class
END:VEVENT
BEGIN:VEVENT
DTSTART;TZID=America/New_York:20230916T100000
DTEND;TZID=America/New_York:20230916T110000
DTSTAMP:20260421T170154
CREATED:20230828T173819Z
LAST-MODIFIED:20230828T173819Z
UID:714-1694858400-1694862000@pcfamilysupport.org
SUMMARY:ASD Bike Class
DESCRIPTION:
URL:https://pcfamilysupport.org/event/asd-bike-class/
END:VEVENT
BEGIN:VEVENT
DTSTART;TZID=America/New_York:20230913T110000
DTEND;TZID=America/New_York:20230913T120000
DTSTAMP:20260421T170154
CREATED:20230828T172641Z
LAST-MODIFIED:20230828T172641Z
UID:696-1694602800-1694606400@pcfamilysupport.org
SUMMARY:Adult Cooking Class
DESCRIPTION:
URL:https://pcfamilysupport.org/event/adult-cooking-class-3/
CATEGORIES:Cooking class
END:VEVENT
END:VCALENDAR